Workbook

Sheet 제출 현황표
A1: 연말정산 서류 제출 현황표 | D1: 전체 | E1: =COUNTA(B5:B304) | F1: 완료 | G1: =COUNTIF(K5:K304,"완료") | H1: 미완료 | I1: =E1-G1 | J1: 제출률 | K1: =IF(N(E1)=0,"",G1/E1)
A2: 제출 마감일 | C2: 누가 무엇을 냈는지만 적습니다. 증빙 금액·병명·주민등록번호는 적지 않습니다. 마감일이 지난 미제출자는 빨간색으로 표시됩니다.
A3: 항목별 미제출 | D3: =COUNTIF(D5:D304,"미제출") | E3: =COUNTIF(E5:E304,"미제출") | F3: =COUNTIF(F5:F304,"미제출") | G3: =SUM(G5:G304) | K3: ="보완 "&COUNTIF(K5:K304,"보완 요청")&"명"
A4: 사번 | B4: 성명 | C4: 부서 | D4: 소득·세액공제신고서 | E4: 간소화 PDF | F4: 추가 종이 증빙 | G4: 추가 증빙 건수 | H4: 증빙 종류(종류만) | I4: 보완 요청일 | J4: 완료일 | K4: 상태(자동) | L4: 비고 | M4: 부서 순번
K5: =IF(B5="","",IF(J5<>"","완료",IF(I5<>"","보완 요청",IF(COUNTIF(D5:F5,"제출")>0,"제출 중","미제출")))) | M5: =IF(C5="","",IF(COUNTIF(C$5:C5,C5)=1,MAX(M$4:M4)+1,""))
K6: =IF(B6="","",IF(J6<>"","완료",IF(I6<>"","보완 요청",IF(COUNTIF(D6:F6,"제출")>0,"제출 중","미제출")))) | M6: =IF(C6="","",IF(COUNTIF(C$5:C6,C6)=1,MAX(M$4:M5)+1,""))
K7: =IF(B7="","",IF(J7<>"","완료",IF(I7<>"","보완 요청",IF(COUNTIF(D7:F7,"제출")>0,"제출 중","미제출")))) | M7: =IF(C7="","",IF(COUNTIF(C$5:C7,C7)=1,MAX(M$4:M6)+1,""))
K8: =IF(B8="","",IF(J8<>"","완료",IF(I8<>"","보완 요청",IF(COUNTIF(D8:F8,"제출")>0,"제출 중","미제출")))) | M8: =IF(C8="","",IF(COUNTIF(C$5:C8,C8)=1,MAX(M$4:M7)+1,""))
K9: =IF(B9="","",IF(J9<>"","완료",IF(I9<>"","보완 요청",IF(COUNTIF(D9:F9,"제출")>0,"제출 중","미제출")))) | M9: =IF(C9="","",IF(COUNTIF(C$5:C9,C9)=1,MAX(M$4:M8)+1,""))
K10: =IF(B10="","",IF(J10<>"","완료",IF(I10<>"","보완 요청",IF(COUNTIF(D10:F10,"제출")>0,"제출 중","미제출")))) | M10: =IF(C10="","",IF(COUNTIF(C$5:C10,C10)=1,MAX(M$4:M9)+1,""))
K11: =IF(B11="","",IF(J11<>"","완료",IF(I11<>"","보완 요청",IF(COUNTIF(D11:F11,"제출")>0,"제출 중","미제출")))) | M11: =IF(C11="","",IF(COUNTIF(C$5:C11,C11)=1,MAX(M$4:M10)+1,""))
K12: =IF(B12="","",IF(J12<>"","완료",IF(I12<>"","보완 요청",IF(COUNTIF(D12:F12,"제출")>0,"제출 중","미제출")))) | M12: =IF(C12="","",IF(COUNTIF(C$5:C12,C12)=1,MAX(M$4:M11)+1,""))
K13: =IF(B13="","",IF(J13<>"","완료",IF(I13<>"","보완 요청",IF(COUNTIF(D13:F13,"제출")>0,"제출 중","미제출")))) | M13: =IF(C13="","",IF(COUNTIF(C$5:C13,C13)=1,MAX(M$4:M12)+1,""))
K14: =IF(B14="","",IF(J14<>"","완료",IF(I14<>"","보완 요청",IF(COUNTIF(D14:F14,"제출")>0,"제출 중","미제출")))) | M14: =IF(C14="","",IF(COUNTIF(C$5:C14,C14)=1,MAX(M$4:M13)+1,""))
K15: =IF(B15="","",IF(J15<>"","완료",IF(I15<>"","보완 요청",IF(COUNTIF(D15:F15,"제출")>0,"제출 중","미제출")))) | M15: =IF(C15="","",IF(COUNTIF(C$5:C15,C15)=1,MAX(M$4:M14)+1,""))
K16: =IF(B16="","",IF(J16<>"","완료",IF(I16<>"","보완 요청",IF(COUNTIF(D16:F16,"제출")>0,"제출 중","미제출")))) | M16: =IF(C16="","",IF(COUNTIF(C$5:C16,C16)=1,MAX(M$4:M15)+1,""))
... K304: =IF(B304="","",IF(J304<>"","완료",IF(I304<>"","보완 요청",IF(COUNTIF(D304:F304,"제출")>0,"제출 중","미제출")))) | M304: =IF(C304="","",IF(COUNTIF(C$5:C304,C304)=1,MAX(M$4:M303)+1,""))

Sheet 부서별 집계
A1: 부서별 제출 현황
A2: '제출 현황표' 시트의 부서가 처음 나온 순서대로 자동으로 채워집니다. 고치지 않아도 됩니다.
A3: 부서 | B3: 인원 | C3: 완료 | D3: 보완 요청 | E3: 제출 중 | F3: 미제출 | G3: 제출률 | H3: 신고서 미제출 | I3: 간소화 PDF 미제출
A4: =IFERROR(INDEX('제출 현황표'!$C$5:$C$304,MATCH(1,'제출 현황표'!$M$5:$M$304,0)),"") | B4: =IF($A4="","",COUNTIF('제출 현황표'!$C$5:$C$304,$A4)) | C4: =IF($A4="","",COUNTIFS('제출 현황표'!$C$5:$C$304,$A4,'제출 현황표'!$K$5:$K$304,"완료")) | D4: =IF($A4="","",COUNTIFS('제출 현황표'!$C$5:$C$304,$A4,'제출 현황표'!$K$5:$K$304,"보완 요청")) | E4: =IF($A4="","",COUNTIFS('제출 현황표'!$C$5:$C$304,$A4,'제출 현황표'!$K$5:$K$304,"제출 중")) | F4: =IF($A4="","",COUNTIFS('제출 현황표'!$C$5:$C$304,$A4,'제출 현황표'!$K$5:$K$304,"미제출")) | G4: =IF($A4="","",IF(B4=0,"",C4/B4)) | H4: =IF($A4="","",COUNTIFS('제출 현황표'!$C$5:$C$304,$A4,'제출 현황표'!$D$5:$D$304,"미제출")) | I4: =IF($A4="","",COUNTIFS('제출 현황표'!$C$5:$C$304,$A4,'제출 현황표'!$E$5:$E$304,"미제출"))
A5: =IFERROR(INDEX('제출 현황표'!$C$5:$C$304,MATCH(2,'제출 현황표'!$M$5:$M$304,0)),"") | B5: =IF($A5="","",COUNTIF('제출 현황표'!$C$5:$C$304,$A5)) | C5: =IF($A5="","",COUNTIFS('제출 현황표'!$C$5:$C$304,$A5,'제출 현황표'!$K$5:$K$304,"완료")) | D5: =IF($A5="","",COUNTIFS('제출 현황표'!$C$5:$C$304,$A5,'제출 현황표'!$K$5:$K$304,"보완 요청")) | E5: =IF($A5="","",COUNTIFS('제출 현황표'!$C$5:$C$304,$A5,'제출 현황표'!$K$5:$K$304,"제출 중")) | F5: =IF($A5="","",COUNTIFS('제출 현황표'!$C$5:$C$304,$A5,'제출 현황표'!$K$5:$K$304,"미제출")) | G5: =IF($A5="","",IF(B5=0,"",C5/B5)) | H5: =IF($A5="","",COUNTIFS('제출 현황표'!$C$5:$C$304,$A5,'제출 현황표'!$D$5:$D$304,"미제출")) | I5: =IF($A5="","",COUNTIFS('제출 현황표'!$C$5:$C$304,$A5,'제출 현황표'!$E$5:$E$304,"미제출"))
A6: =IFERROR(INDEX('제출 현황표'!$C$5:$C$304,MATCH(3,'제출 현황표'!$M$5:$M$304,0)),"") | B6: =IF($A6="","",COUNTIF('제출 현황표'!$C$5:$C$304,$A6)) | C6: =IF($A6="","",COUNTIFS('제출 현황표'!$C$5:$C$304,$A6,'제출 현황표'!$K$5:$K$304,"완료")) | D6: =IF($A6="","",COUNTIFS('제출 현황표'!$C$5:$C$304,$A6,'제출 현황표'!$K$5:$K$304,"보완 요청")) | E6: =IF($A6="","",COUNTIFS('제출 현황표'!$C$5:$C$304,$A6,'제출 현황표'!$K$5:$K$304,"제출 중")) | F6: =IF($A6="","",COUNTIFS('제출 현황표'!$C$5:$C$304,$A6,'제출 현황표'!$K$5:$K$304,"미제출")) | G6: =IF($A6="","",IF(B6=0,"",C6/B6)) | H6: =IF($A6="","",COUNTIFS('제출 현황표'!$C$5:$C$304,$A6,'제출 현황표'!$D$5:$D$304,"미제출")) | I6: =IF($A6="","",COUNTIFS('제출 현황표'!$C$5:$C$304,$A6,'제출 현황표'!$E$5:$E$304,"미제출"))
A7: =IFERROR(INDEX('제출 현황표'!$C$5:$C$304,MATCH(4,'제출 현황표'!$M$5:$M$304,0)),"") | B7: =IF($A7="","",COUNTIF('제출 현황표'!$C$5:$C$304,$A7)) | C7: =IF($A7="","",COUNTIFS('제출 현황표'!$C$5:$C$304,$A7,'제출 현황표'!$K$5:$K$304,"완료")) | D7: =IF($A7="","",COUNTIFS('제출 현황표'!$C$5:$C$304,$A7,'제출 현황표'!$K$5:$K$304,"보완 요청")) | E7: =IF($A7="","",COUNTIFS('제출 현황표'!$C$5:$C$304,$A7,'제출 현황표'!$K$5:$K$304,"제출 중")) | F7: =IF($A7="","",COUNTIFS('제출 현황표'!$C$5:$C$304,$A7,'제출 현황표'!$K$5:$K$304,"미제출")) | G7: =IF($A7="","",IF(B7=0,"",C7/B7)) | H7: =IF($A7="","",COUNTIFS('제출 현황표'!$C$5:$C$304,$A7,'제출 현황표'!$D$5:$D$304,"미제출")) | I7: =IF($A7="","",COUNTIFS('제출 현황표'!$C$5:$C$304,$A7,'제출 현황표'!$E$5:$E$304,"미제출"))
A8: =IFERROR(INDEX('제출 현황표'!$C$5:$C$304,MATCH(5,'제출 현황표'!$M$5:$M$304,0)),"") | B8: =IF($A8="","",COUNTIF('제출 현황표'!$C$5:$C$304,$A8)) | C8: =IF($A8="","",COUNTIFS('제출 현황표'!$C$5:$C$304,$A8,'제출 현황표'!$K$5:$K$304,"완료")) | D8: =IF($A8="","",COUNTIFS('제출 현황표'!$C$5:$C$304,$A8,'제출 현황표'!$K$5:$K$304,"보완 요청")) | E8: =IF($A8="","",COUNTIFS('제출 현황표'!$C$5:$C$304,$A8,'제출 현황표'!$K$5:$K$304,"제출 중")) | F8: =IF($A8="","",COUNTIFS('제출 현황표'!$C$5:$C$304,$A8,'제출 현황표'!$K$5:$K$304,"미제출")) | G8: =IF($A8="","",IF(B8=0,"",C8/B8)) | H8: =IF($A8="","",COUNTIFS('제출 현황표'!$C$5:$C$304,$A8,'제출 현황표'!$D$5:$D$304,"미제출")) | I8: =IF($A8="","",COUNTIFS('제출 현황표'!$C$5:$C$304,$A8,'제출 현황표'!$E$5:$E$304,"미제출"))
A9: =IFERROR(INDEX('제출 현황표'!$C$5:$C$304,MATCH(6,'제출 현황표'!$M$5:$M$304,0)),"") | B9: =IF($A9="","",COUNTIF('제출 현황표'!$C$5:$C$304,$A9)) | C9: =IF($A9="","",COUNTIFS('제출 현황표'!$C$5:$C$304,$A9,'제출 현황표'!$K$5:$K$304,"완료")) | D9: =IF($A9="","",COUNTIFS('제출 현황표'!$C$5:$C$304,$A9,'제출 현황표'!$K$5:$K$304,"보완 요청")) | E9: =IF($A9="","",COUNTIFS('제출 현황표'!$C$5:$C$304,$A9,'제출 현황표'!$K$5:$K$304,"제출 중")) | F9: =IF($A9="","",COUNTIFS('제출 현황표'!$C$5:$C$304,$A9,'제출 현황표'!$K$5:$K$304,"미제출")) | G9: =IF($A9="","",IF(B9=0,"",C9/B9)) | H9: =IF($A9="","",COUNTIFS('제출 현황표'!$C$5:$C$304,$A9,'제출 현황표'!$D$5:$D$304,"미제출")) | I9: =IF($A9="","",COUNTIFS('제출 현황표'!$C$5:$C$304,$A9,'제출 현황표'!$E$5:$E$304,"미제출"))
A10: =IFERROR(INDEX('제출 현황표'!$C$5:$C$304,MATCH(7,'제출 현황표'!$M$5:$M$304,0)),"") | B10: =IF($A10="","",COUNTIF('제출 현황표'!$C$5:$C$304,$A10)) | C10: =IF($A10="","",COUNTIFS('제출 현황표'!$C$5:$C$304,$A10,'제출 현황표'!$K$5:$K$304,"완료")) | D10: =IF($A10="","",COUNTIFS('제출 현황표'!$C$5:$C$304,$A10,'제출 현황표'!$K$5:$K$304,"보완 요청")) | E10: =IF($A10="","",COUNTIFS('제출 현황표'!$C$5:$C$304,$A10,'제출 현황표'!$K$5:$K$304,"제출 중")) | F10: =IF($A10="","",COUNTIFS('제출 현황표'!$C$5:$C$304,$A10,'제출 현황표'!$K$5:$K$304,"미제출")) | G10: =IF($A10="","",IF(B10=0,"",C10/B10)) | H10: =IF($A10="","",COUNTIFS('제출 현황표'!$C$5:$C$304,$A10,'제출 현황표'!$D$5:$D$304,"미제출")) | I10: =IF($A10="","",COUNTIFS('제출 현황표'!$C$5:$C$304,$A10,'제출 현황표'!$E$5:$E$304,"미제출"))
A11: =IFERROR(INDEX('제출 현황표'!$C$5:$C$304,MATCH(8,'제출 현황표'!$M$5:$M$304,0)),"") | B11: =IF($A11="","",COUNTIF('제출 현황표'!$C$5:$C$304,$A11)) | C11: =IF($A11="","",COUNTIFS('제출 현황표'!$C$5:$C$304,$A11,'제출 현황표'!$K$5:$K$304,"완료")) | D11: =IF($A11="","",COUNTIFS('제출 현황표'!$C$5:$C$304,$A11,'제출 현황표'!$K$5:$K$304,"보완 요청")) | E11: =IF($A11="","",COUNTIFS('제출 현황표'!$C$5:$C$304,$A11,'제출 현황표'!$K$5:$K$304,"제출 중")) | F11: =IF($A11="","",COUNTIFS('제출 현황표'!$C$5:$C$304,$A11,'제출 현황표'!$K$5:$K$304,"미제출")) | G11: =IF($A11="","",IF(B11=0,"",C11/B11)) | H11: =IF($A11="","",COUNTIFS('제출 현황표'!$C$5:$C$304,$A11,'제출 현황표'!$D$5:$D$304,"미제출")) | I11: =IF($A11="","",COUNTIFS('제출 현황표'!$C$5:$C$304,$A11,'제출 현황표'!$E$5:$E$304,"미제출"))
A12: =IFERROR(INDEX('제출 현황표'!$C$5:$C$304,MATCH(9,'제출 현황표'!$M$5:$M$304,0)),"") | B12: =IF($A12="","",COUNTIF('제출 현황표'!$C$5:$C$304,$A12)) | C12: =IF($A12="","",COUNTIFS('제출 현황표'!$C$5:$C$304,$A12,'제출 현황표'!$K$5:$K$304,"완료")) | D12: =IF($A12="","",COUNTIFS('제출 현황표'!$C$5:$C$304,$A12,'제출 현황표'!$K$5:$K$304,"보완 요청")) | E12: =IF($A12="","",COUNTIFS('제출 현황표'!$C$5:$C$304,$A12,'제출 현황표'!$K$5:$K$304,"제출 중")) | F12: =IF($A12="","",COUNTIFS('제출 현황표'!$C$5:$C$304,$A12,'제출 현황표'!$K$5:$K$304,"미제출")) | G12: =IF($A12="","",IF(B12=0,"",C12/B12)) | H12: =IF($A12="","",COUNTIFS('제출 현황표'!$C$5:$C$304,$A12,'제출 현황표'!$D$5:$D$304,"미제출")) | I12: =IF($A12="","",COUNTIFS('제출 현황표'!$C$5:$C$304,$A12,'제출 현황표'!$E$5:$E$304,"미제출"))
A13: =IFERROR(INDEX('제출 현황표'!$C$5:$C$304,MATCH(10,'제출 현황표'!$M$5:$M$304,0)),"") | B13: =IF($A13="","",COUNTIF('제출 현황표'!$C$5:$C$304,$A13)) | C13: =IF($A13="","",COUNTIFS('제출 현황표'!$C$5:$C$304,$A13,'제출 현황표'!$K$5:$K$304,"완료")) | D13: =IF($A13="","",COUNTIFS('제출 현황표'!$C$5:$C$304,$A13,'제출 현황표'!$K$5:$K$304,"보완 요청")) | E13: =IF($A13="","",COUNTIFS('제출 현황표'!$C$5:$C$304,$A13,'제출 현황표'!$K$5:$K$304,"제출 중")) | F13: =IF($A13="","",COUNTIFS('제출 현황표'!$C$5:$C$304,$A13,'제출 현황표'!$K$5:$K$304,"미제출")) | G13: =IF($A13="","",IF(B13=0,"",C13/B13)) | H13: =IF($A13="","",COUNTIFS('제출 현황표'!$C$5:$C$304,$A13,'제출 현황표'!$D$5:$D$304,"미제출")) | I13: =IF($A13="","",COUNTIFS('제출 현황표'!$C$5:$C$304,$A13,'제출 현황표'!$E$5:$E$304,"미제출"))
A14: =IFERROR(INDEX('제출 현황표'!$C$5:$C$304,MATCH(11,'제출 현황표'!$M$5:$M$304,0)),"") | B14: =IF($A14="","",COUNTIF('제출 현황표'!$C$5:$C$304,$A14)) | C14: =IF($A14="","",COUNTIFS('제출 현황표'!$C$5:$C$304,$A14,'제출 현황표'!$K$5:$K$304,"완료")) | D14: =IF($A14="","",COUNTIFS('제출 현황표'!$C$5:$C$304,$A14,'제출 현황표'!$K$5:$K$304,"보완 요청")) | E14: =IF($A14="","",COUNTIFS('제출 현황표'!$C$5:$C$304,$A14,'제출 현황표'!$K$5:$K$304,"제출 중")) | F14: =IF($A14="","",COUNTIFS('제출 현황표'!$C$5:$C$304,$A14,'제출 현황표'!$K$5:$K$304,"미제출")) | G14: =IF($A14="","",IF(B14=0,"",C14/B14)) | H14: =IF($A14="","",COUNTIFS('제출 현황표'!$C$5:$C$304,$A14,'제출 현황표'!$D$5:$D$304,"미제출")) | I14: =IF($A14="","",COUNTIFS('제출 현황표'!$C$5:$C$304,$A14,'제출 현황표'!$E$5:$E$304,"미제출"))
A15: =IFERROR(INDEX('제출 현황표'!$C$5:$C$304,MATCH(12,'제출 현황표'!$M$5:$M$304,0)),"") | B15: =IF($A15="","",COUNTIF('제출 현황표'!$C$5:$C$304,$A15)) | C15: =IF($A15="","",COUNTIFS('제출 현황표'!$C$5:$C$304,$A15,'제출 현황표'!$K$5:$K$304,"완료")) | D15: =IF($A15="","",COUNTIFS('제출 현황표'!$C$5:$C$304,$A15,'제출 현황표'!$K$5:$K$304,"보완 요청")) | E15: =IF($A15="","",COUNTIFS('제출 현황표'!$C$5:$C$304,$A15,'제출 현황표'!$K$5:$K$304,"제출 중")) | F15: =IF($A15="","",COUNTIFS('제출 현황표'!$C$5:$C$304,$A15,'제출 현황표'!$K$5:$K$304,"미제출")) | G15: =IF($A15="","",IF(B15=0,"",C15/B15)) | H15: =IF($A15="","",COUNTIFS('제출 현황표'!$C$5:$C$304,$A15,'제출 현황표'!$D$5:$D$304,"미제출")) | I15: =IF($A15="","",COUNTIFS('제출 현황표'!$C$5:$C$304,$A15,'제출 현황표'!$E$5:$E$304,"미제출"))
A16: =IFERROR(INDEX('제출 현황표'!$C$5:$C$304,MATCH(13,'제출 현황표'!$M$5:$M$304,0)),"") | B16: =IF($A16="","",COUNTIF('제출 현황표'!$C$5:$C$304,$A16)) | C16: =IF($A16="","",COUNTIFS('제출 현황표'!$C$5:$C$304,$A16,'제출 현황표'!$K$5:$K$304,"완료")) | D16: =IF($A16="","",COUNTIFS('제출 현황표'!$C$5:$C$304,$A16,'제출 현황표'!$K$5:$K$304,"보완 요청")) | E16: =IF($A16="","",COUNTIFS('제출 현황표'!$C$5:$C$304,$A16,'제출 현황표'!$K$5:$K$304,"제출 중")) | F16: =IF($A16="","",COUNTIFS('제출 현황표'!$C$5:$C$304,$A16,'제출 현황표'!$K$5:$K$304,"미제출")) | G16: =IF($A16="","",IF(B16=0,"",C16/B16)) | H16: =IF($A16="","",COUNTIFS('제출 현황표'!$C$5:$C$304,$A16,'제출 현황표'!$D$5:$D$304,"미제출")) | I16: =IF($A16="","",COUNTIFS('제출 현황표'!$C$5:$C$304,$A16,'제출 현황표'!$E$5:$E$304,"미제출"))
A17: =IFERROR(INDEX('제출 현황표'!$C$5:$C$304,MATCH(14,'제출 현황표'!$M$5:$M$304,0)),"") | B17: =IF($A17="","",COUNTIF('제출 현황표'!$C$5:$C$304,$A17)) | C17: =IF($A17="","",COUNTIFS('제출 현황표'!$C$5:$C$304,$A17,'제출 현황표'!$K$5:$K$304,"완료")) | D17: =IF($A17="","",COUNTIFS('제출 현황표'!$C$5:$C$304,$A17,'제출 현황표'!$K$5:$K$304,"보완 요청")) | E17: =IF($A17="","",COUNTIFS('제출 현황표'!$C$5:$C$304,$A17,'제출 현황표'!$K$5:$K$304,"제출 중")) | F17: =IF($A17="","",COUNTIFS('제출 현황표'!$C$5:$C$304,$A17,'제출 현황표'!$K$5:$K$304,"미제출")) | G17: =IF($A17="","",IF(B17=0,"",C17/B17)) | H17: =IF($A17="","",COUNTIFS('제출 현황표'!$C$5:$C$304,$A17,'제출 현황표'!$D$5:$D$304,"미제출")) | I17: =IF($A17="","",COUNTIFS('제출 현황표'!$C$5:$C$304,$A17,'제출 현황표'!$E$5:$E$304,"미제출"))
A18: =IFERROR(INDEX('제출 현황표'!$C$5:$C$304,MATCH(15,'제출 현황표'!$M$5:$M$304,0)),"") | B18: =IF($A18="","",COUNTIF('제출 현황표'!$C$5:$C$304,$A18)) | C18: =IF($A18="","",COUNTIFS('제출 현황표'!$C$5:$C$304,$A18,'제출 현황표'!$K$5:$K$304,"완료")) | D18: =IF($A18="","",COUNTIFS('제출 현황표'!$C$5:$C$304,$A18,'제출 현황표'!$K$5:$K$304,"보완 요청")) | E18: =IF($A18="","",COUNTIFS('제출 현황표'!$C$5:$C$304,$A18,'제출 현황표'!$K$5:$K$304,"제출 중")) | F18: =IF($A18="","",COUNTIFS('제출 현황표'!$C$5:$C$304,$A18,'제출 현황표'!$K$5:$K$304,"미제출")) | G18: =IF($A18="","",IF(B18=0,"",C18/B18)) | H18: =IF($A18="","",COUNTIFS('제출 현황표'!$C$5:$C$304,$A18,'제출 현황표'!$D$5:$D$304,"미제출")) | I18: =IF($A18="","",COUNTIFS('제출 현황표'!$C$5:$C$304,$A18,'제출 현황표'!$E$5:$E$304,"미제출"))
A19: =IFERROR(INDEX('제출 현황표'!$C$5:$C$304,MATCH(16,'제출 현황표'!$M$5:$M$304,0)),"") | B19: =IF($A19="","",COUNTIF('제출 현황표'!$C$5:$C$304,$A19)) | C19: =IF($A19="","",COUNTIFS('제출 현황표'!$C$5:$C$304,$A19,'제출 현황표'!$K$5:$K$304,"완료")) | D19: =IF($A19="","",COUNTIFS('제출 현황표'!$C$5:$C$304,$A19,'제출 현황표'!$K$5:$K$304,"보완 요청")) | E19: =IF($A19="","",COUNTIFS('제출 현황표'!$C$5:$C$304,$A19,'제출 현황표'!$K$5:$K$304,"제출 중")) | F19: =IF($A19="","",COUNTIFS('제출 현황표'!$C$5:$C$304,$A19,'제출 현황표'!$K$5:$K$304,"미제출")) | G19: =IF($A19="","",IF(B19=0,"",C19/B19)) | H19: =IF($A19="","",COUNTIFS('제출 현황표'!$C$5:$C$304,$A19,'제출 현황표'!$D$5:$D$304,"미제출")) | I19: =IF($A19="","",COUNTIFS('제출 현황표'!$C$5:$C$304,$A19,'제출 현황표'!$E$5:$E$304,"미제출"))
A20: =IFERROR(INDEX('제출 현황표'!$C$5:$C$304,MATCH(17,'제출 현황표'!$M$5:$M$304,0)),"") | B20: =IF($A20="","",COUNTIF('제출 현황표'!$C$5:$C$304,$A20)) | C20: =IF($A20="","",COUNTIFS('제출 현황표'!$C$5:$C$304,$A20,'제출 현황표'!$K$5:$K$304,"완료")) | D20: =IF($A20="","",COUNTIFS('제출 현황표'!$C$5:$C$304,$A20,'제출 현황표'!$K$5:$K$304,"보완 요청")) | E20: =IF($A20="","",COUNTIFS('제출 현황표'!$C$5:$C$304,$A20,'제출 현황표'!$K$5:$K$304,"제출 중")) | F20: =IF($A20="","",COUNTIFS('제출 현황표'!$C$5:$C$304,$A20,'제출 현황표'!$K$5:$K$304,"미제출")) | G20: =IF($A20="","",IF(B20=0,"",C20/B20)) | H20: =IF($A20="","",COUNTIFS('제출 현황표'!$C$5:$C$304,$A20,'제출 현황표'!$D$5:$D$304,"미제출")) | I20: =IF($A20="","",COUNTIFS('제출 현황표'!$C$5:$C$304,$A20,'제출 현황표'!$E$5:$E$304,"미제출"))
A21: =IFERROR(INDEX('제출 현황표'!$C$5:$C$304,MATCH(18,'제출 현황표'!$M$5:$M$304,0)),"") | B21: =IF($A21="","",COUNTIF('제출 현황표'!$C$5:$C$304,$A21)) | C21: =IF($A21="","",COUNTIFS('제출 현황표'!$C$5:$C$304,$A21,'제출 현황표'!$K$5:$K$304,"완료")) | D21: =IF($A21="","",COUNTIFS('제출 현황표'!$C$5:$C$304,$A21,'제출 현황표'!$K$5:$K$304,"보완 요청")) | E21: =IF($A21="","",COUNTIFS('제출 현황표'!$C$5:$C$304,$A21,'제출 현황표'!$K$5:$K$304,"제출 중")) | F21: =IF($A21="","",COUNTIFS('제출 현황표'!$C$5:$C$304,$A21,'제출 현황표'!$K$5:$K$304,"미제출")) | G21: =IF($A21="","",IF(B21=0,"",C21/B21)) | H21: =IF($A21="","",COUNTIFS('제출 현황표'!$C$5:$C$304,$A21,'제출 현황표'!$D$5:$D$304,"미제출")) | I21: =IF($A21="","",COUNTIFS('제출 현황표'!$C$5:$C$304,$A21,'제출 현황표'!$E$5:$E$304,"미제출"))
A22: =IFERROR(INDEX('제출 현황표'!$C$5:$C$304,MATCH(19,'제출 현황표'!$M$5:$M$304,0)),"") | B22: =IF($A22="","",COUNTIF('제출 현황표'!$C$5:$C$304,$A22)) | C22: =IF($A22="","",COUNTIFS('제출 현황표'!$C$5:$C$304,$A22,'제출 현황표'!$K$5:$K$304,"완료")) | D22: =IF($A22="","",COUNTIFS('제출 현황표'!$C$5:$C$304,$A22,'제출 현황표'!$K$5:$K$304,"보완 요청")) | E22: =IF($A22="","",COUNTIFS('제출 현황표'!$C$5:$C$304,$A22,'제출 현황표'!$K$5:$K$304,"제출 중")) | F22: =IF($A22="","",COUNTIFS('제출 현황표'!$C$5:$C$304,$A22,'제출 현황표'!$K$5:$K$304,"미제출")) | G22: =IF($A22="","",IF(B22=0,"",C22/B22)) | H22: =IF($A22="","",COUNTIFS('제출 현황표'!$C$5:$C$304,$A22,'제출 현황표'!$D$5:$D$304,"미제출")) | I22: =IF($A22="","",COUNTIFS('제출 현황표'!$C$5:$C$304,$A22,'제출 현황표'!$E$5:$E$304,"미제출"))
A23: =IFERROR(INDEX('제출 현황표'!$C$5:$C$304,MATCH(20,'제출 현황표'!$M$5:$M$304,0)),"") | B23: =IF($A23="","",COUNTIF('제출 현황표'!$C$5:$C$304,$A23)) | C23: =IF($A23="","",COUNTIFS('제출 현황표'!$C$5:$C$304,$A23,'제출 현황표'!$K$5:$K$304,"완료")) | D23: =IF($A23="","",COUNTIFS('제출 현황표'!$C$5:$C$304,$A23,'제출 현황표'!$K$5:$K$304,"보완 요청")) | E23: =IF($A23="","",COUNTIFS('제출 현황표'!$C$5:$C$304,$A23,'제출 현황표'!$K$5:$K$304,"제출 중")) | F23: =IF($A23="","",COUNTIFS('제출 현황표'!$C$5:$C$304,$A23,'제출 현황표'!$K$5:$K$304,"미제출")) | G23: =IF($A23="","",IF(B23=0,"",C23/B23)) | H23: =IF($A23="","",COUNTIFS('제출 현황표'!$C$5:$C$304,$A23,'제출 현황표'!$D$5:$D$304,"미제출")) | I23: =IF($A23="","",COUNTIFS('제출 현황표'!$C$5:$C$304,$A23,'제출 현황표'!$E$5:$E$304,"미제출"))
A24: =IFERROR(INDEX('제출 현황표'!$C$5:$C$304,MATCH(21,'제출 현황표'!$M$5:$M$304,0)),"") | B24: =IF($A24="","",COUNTIF('제출 현황표'!$C$5:$C$304,$A24)) | C24: =IF($A24="","",COUNTIFS('제출 현황표'!$C$5:$C$304,$A24,'제출 현황표'!$K$5:$K$304,"완료")) | D24: =IF($A24="","",COUNTIFS('제출 현황표'!$C$5:$C$304,$A24,'제출 현황표'!$K$5:$K$304,"보완 요청")) | E24: =IF($A24="","",COUNTIFS('제출 현황표'!$C$5:$C$304,$A24,'제출 현황표'!$K$5:$K$304,"제출 중")) | F24: =IF($A24="","",COUNTIFS('제출 현황표'!$C$5:$C$304,$A24,'제출 현황표'!$K$5:$K$304,"미제출")) | G24: =IF($A24="","",IF(B24=0,"",C24/B24)) | H24: =IF($A24="","",COUNTIFS('제출 현황표'!$C$5:$C$304,$A24,'제출 현황표'!$D$5:$D$304,"미제출")) | I24: =IF($A24="","",COUNTIFS('제출 현황표'!$C$5:$C$304,$A24,'제출 현황표'!$E$5:$E$304,"미제출"))
A25: =IFERROR(INDEX('제출 현황표'!$C$5:$C$304,MATCH(22,'제출 현황표'!$M$5:$M$304,0)),"") | B25: =IF($A25="","",COUNTIF('제출 현황표'!$C$5:$C$304,$A25)) | C25: =IF($A25="","",COUNTIFS('제출 현황표'!$C$5:$C$304,$A25,'제출 현황표'!$K$5:$K$304,"완료")) | D25: =IF($A25="","",COUNTIFS('제출 현황표'!$C$5:$C$304,$A25,'제출 현황표'!$K$5:$K$304,"보완 요청")) | E25: =IF($A25="","",COUNTIFS('제출 현황표'!$C$5:$C$304,$A25,'제출 현황표'!$K$5:$K$304,"제출 중")) | F25: =IF($A25="","",COUNTIFS('제출 현황표'!$C$5:$C$304,$A25,'제출 현황표'!$K$5:$K$304,"미제출")) | G25: =IF($A25="","",IF(B25=0,"",C25/B25)) | H25: =IF($A25="","",COUNTIFS('제출 현황표'!$C$5:$C$304,$A25,'제출 현황표'!$D$5:$D$304,"미제출")) | I25: =IF($A25="","",COUNTIFS('제출 현황표'!$C$5:$C$304,$A25,'제출 현황표'!$E$5:$E$304,"미제출"))
A26: =IFERROR(INDEX('제출 현황표'!$C$5:$C$304,MATCH(23,'제출 현황표'!$M$5:$M$304,0)),"") | B26: =IF($A26="","",COUNTIF('제출 현황표'!$C$5:$C$304,$A26)) | C26: =IF($A26="","",COUNTIFS('제출 현황표'!$C$5:$C$304,$A26,'제출 현황표'!$K$5:$K$304,"완료")) | D26: =IF($A26="","",COUNTIFS('제출 현황표'!$C$5:$C$304,$A26,'제출 현황표'!$K$5:$K$304,"보완 요청")) | E26: =IF($A26="","",COUNTIFS('제출 현황표'!$C$5:$C$304,$A26,'제출 현황표'!$K$5:$K$304,"제출 중")) | F26: =IF($A26="","",COUNTIFS('제출 현황표'!$C$5:$C$304,$A26,'제출 현황표'!$K$5:$K$304,"미제출")) | G26: =IF($A26="","",IF(B26=0,"",C26/B26)) | H26: =IF($A26="","",COUNTIFS('제출 현황표'!$C$5:$C$304,$A26,'제출 현황표'!$D$5:$D$304,"미제출")) | I26: =IF($A26="","",COUNTIFS('제출 현황표'!$C$5:$C$304,$A26,'제출 현황표'!$E$5:$E$304,"미제출"))
A27: =IFERROR(INDEX('제출 현황표'!$C$5:$C$304,MATCH(24,'제출 현황표'!$M$5:$M$304,0)),"") | B27: =IF($A27="","",COUNTIF('제출 현황표'!$C$5:$C$304,$A27)) | C27: =IF($A27="","",COUNTIFS('제출 현황표'!$C$5:$C$304,$A27,'제출 현황표'!$K$5:$K$304,"완료")) | D27: =IF($A27="","",COUNTIFS('제출 현황표'!$C$5:$C$304,$A27,'제출 현황표'!$K$5:$K$304,"보완 요청")) | E27: =IF($A27="","",COUNTIFS('제출 현황표'!$C$5:$C$304,$A27,'제출 현황표'!$K$5:$K$304,"제출 중")) | F27: =IF($A27="","",COUNTIFS('제출 현황표'!$C$5:$C$304,$A27,'제출 현황표'!$K$5:$K$304,"미제출")) | G27: =IF($A27="","",IF(B27=0,"",C27/B27)) | H27: =IF($A27="","",COUNTIFS('제출 현황표'!$C$5:$C$304,$A27,'제출 현황표'!$D$5:$D$304,"미제출")) | I27: =IF($A27="","",COUNTIFS('제출 현황표'!$C$5:$C$304,$A27,'제출 현황표'!$E$5:$E$304,"미제출"))
A28: =IFERROR(INDEX('제출 현황표'!$C$5:$C$304,MATCH(25,'제출 현황표'!$M$5:$M$304,0)),"") | B28: =IF($A28="","",COUNTIF('제출 현황표'!$C$5:$C$304,$A28)) | C28: =IF($A28="","",COUNTIFS('제출 현황표'!$C$5:$C$304,$A28,'제출 현황표'!$K$5:$K$304,"완료")) | D28: =IF($A28="","",COUNTIFS('제출 현황표'!$C$5:$C$304,$A28,'제출 현황표'!$K$5:$K$304,"보완 요청")) | E28: =IF($A28="","",COUNTIFS('제출 현황표'!$C$5:$C$304,$A28,'제출 현황표'!$K$5:$K$304,"제출 중")) | F28: =IF($A28="","",COUNTIFS('제출 현황표'!$C$5:$C$304,$A28,'제출 현황표'!$K$5:$K$304,"미제출")) | G28: =IF($A28="","",IF(B28=0,"",C28/B28)) | H28: =IF($A28="","",COUNTIFS('제출 현황표'!$C$5:$C$304,$A28,'제출 현황표'!$D$5:$D$304,"미제출")) | I28: =IF($A28="","",COUNTIFS('제출 현황표'!$C$5:$C$304,$A28,'제출 현황표'!$E$5:$E$304,"미제출"))
A29: =IFERROR(INDEX('제출 현황표'!$C$5:$C$304,MATCH(26,'제출 현황표'!$M$5:$M$304,0)),"") | B29: =IF($A29="","",COUNTIF('제출 현황표'!$C$5:$C$304,$A29)) | C29: =IF($A29="","",COUNTIFS('제출 현황표'!$C$5:$C$304,$A29,'제출 현황표'!$K$5:$K$304,"완료")) | D29: =IF($A29="","",COUNTIFS('제출 현황표'!$C$5:$C$304,$A29,'제출 현황표'!$K$5:$K$304,"보완 요청")) | E29: =IF($A29="","",COUNTIFS('제출 현황표'!$C$5:$C$304,$A29,'제출 현황표'!$K$5:$K$304,"제출 중")) | F29: =IF($A29="","",COUNTIFS('제출 현황표'!$C$5:$C$304,$A29,'제출 현황표'!$K$5:$K$304,"미제출")) | G29: =IF($A29="","",IF(B29=0,"",C29/B29)) | H29: =IF($A29="","",COUNTIFS('제출 현황표'!$C$5:$C$304,$A29,'제출 현황표'!$D$5:$D$304,"미제출")) | I29: =IF($A29="","",COUNTIFS('제출 현황표'!$C$5:$C$304,$A29,'제출 현황표'!$E$5:$E$304,"미제출"))
A30: =IFERROR(INDEX('제출 현황표'!$C$5:$C$304,MATCH(27,'제출 현황표'!$M$5:$M$304,0)),"") | B30: =IF($A30="","",COUNTIF('제출 현황표'!$C$5:$C$304,$A30)) | C30: =IF($A30="","",COUNTIFS('제출 현황표'!$C$5:$C$304,$A30,'제출 현황표'!$K$5:$K$304,"완료")) | D30: =IF($A30="","",COUNTIFS('제출 현황표'!$C$5:$C$304,$A30,'제출 현황표'!$K$5:$K$304,"보완 요청")) | E30: =IF($A30="","",COUNTIFS('제출 현황표'!$C$5:$C$304,$A30,'제출 현황표'!$K$5:$K$304,"제출 중")) | F30: =IF($A30="","",COUNTIFS('제출 현황표'!$C$5:$C$304,$A30,'제출 현황표'!$K$5:$K$304,"미제출")) | G30: =IF($A30="","",IF(B30=0,"",C30/B30)) | H30: =IF($A30="","",COUNTIFS('제출 현황표'!$C$5:$C$304,$A30,'제출 현황표'!$D$5:$D$304,"미제출")) | I30: =IF($A30="","",COUNTIFS('제출 현황표'!$C$5:$C$304,$A30,'제출 현황표'!$E$5:$E$304,"미제출"))
A31: =IFERROR(INDEX('제출 현황표'!$C$5:$C$304,MATCH(28,'제출 현황표'!$M$5:$M$304,0)),"") | B31: =IF($A31="","",COUNTIF('제출 현황표'!$C$5:$C$304,$A31)) | C31: =IF($A31="","",COUNTIFS('제출 현황표'!$C$5:$C$304,$A31,'제출 현황표'!$K$5:$K$304,"완료")) | D31: =IF($A31="","",COUNTIFS('제출 현황표'!$C$5:$C$304,$A31,'제출 현황표'!$K$5:$K$304,"보완 요청")) | E31: =IF($A31="","",COUNTIFS('제출 현황표'!$C$5:$C$304,$A31,'제출 현황표'!$K$5:$K$304,"제출 중")) | F31: =IF($A31="","",COUNTIFS('제출 현황표'!$C$5:$C$304,$A31,'제출 현황표'!$K$5:$K$304,"미제출")) | G31: =IF($A31="","",IF(B31=0,"",C31/B31)) | H31: =IF($A31="","",COUNTIFS('제출 현황표'!$C$5:$C$304,$A31,'제출 현황표'!$D$5:$D$304,"미제출")) | I31: =IF($A31="","",COUNTIFS('제출 현황표'!$C$5:$C$304,$A31,'제출 현황표'!$E$5:$E$304,"미제출"))
A32: =IFERROR(INDEX('제출 현황표'!$C$5:$C$304,MATCH(29,'제출 현황표'!$M$5:$M$304,0)),"") | B32: =IF($A32="","",COUNTIF('제출 현황표'!$C$5:$C$304,$A32)) | C32: =IF($A32="","",COUNTIFS('제출 현황표'!$C$5:$C$304,$A32,'제출 현황표'!$K$5:$K$304,"완료")) | D32: =IF($A32="","",COUNTIFS('제출 현황표'!$C$5:$C$304,$A32,'제출 현황표'!$K$5:$K$304,"보완 요청")) | E32: =IF($A32="","",COUNTIFS('제출 현황표'!$C$5:$C$304,$A32,'제출 현황표'!$K$5:$K$304,"제출 중")) | F32: =IF($A32="","",COUNTIFS('제출 현황표'!$C$5:$C$304,$A32,'제출 현황표'!$K$5:$K$304,"미제출")) | G32: =IF($A32="","",IF(B32=0,"",C32/B32)) | H32: =IF($A32="","",COUNTIFS('제출 현황표'!$C$5:$C$304,$A32,'제출 현황표'!$D$5:$D$304,"미제출")) | I32: =IF($A32="","",COUNTIFS('제출 현황표'!$C$5:$C$304,$A32,'제출 현황표'!$E$5:$E$304,"미제출"))
A33: =IFERROR(INDEX('제출 현황표'!$C$5:$C$304,MATCH(30,'제출 현황표'!$M$5:$M$304,0)),"") | B33: =IF($A33="","",COUNTIF('제출 현황표'!$C$5:$C$304,$A33)) | C33: =IF($A33="","",COUNTIFS('제출 현황표'!$C$5:$C$304,$A33,'제출 현황표'!$K$5:$K$304,"완료")) | D33: =IF($A33="","",COUNTIFS('제출 현황표'!$C$5:$C$304,$A33,'제출 현황표'!$K$5:$K$304,"보완 요청")) | E33: =IF($A33="","",COUNTIFS('제출 현황표'!$C$5:$C$304,$A33,'제출 현황표'!$K$5:$K$304,"제출 중")) | F33: =IF($A33="","",COUNTIFS('제출 현황표'!$C$5:$C$304,$A33,'제출 현황표'!$K$5:$K$304,"미제출")) | G33: =IF($A33="","",IF(B33=0,"",C33/B33)) | H33: =IF($A33="","",COUNTIFS('제출 현황표'!$C$5:$C$304,$A33,'제출 현황표'!$D$5:$D$304,"미제출")) | I33: =IF($A33="","",COUNTIFS('제출 현황표'!$C$5:$C$304,$A33,'제출 현황표'!$E$5:$E$304,"미제출"))
A34: 합계 | B34: =SUM(B4:B33) | C34: =SUM(C4:C33) | D34: =SUM(D4:D33) | E34: =SUM(E4:E33) | F34: =SUM(F4:F33) | G34: =IF(N(B34)=0,"",C34/B34) | H34: =SUM(H4:H33) | I34: =SUM(I4:I33)

Sheet 사용법
B2: 연말정산 서류 제출 현황표 사용법
B4: 주민등록번호는 이 파일에 적지 마세요.
B5: 이 표는 누가 무엇을 냈는지만 확인하는 표입니다. 증빙에 적힌 금액, 의료비 내역, 장애 여부 같은 내용은 옮겨 적지 않습니다. 증빙 원본은 급여 담당자만 열 수 있는 곳에 따로 보관하세요.
B7: 1. '제출 현황표' 위쪽에 회사가 정한 제출 마감일(B2)을 적습니다.
B8: 2. 직원마다 한 줄: 사번·성명·부서를 적습니다.
B9: 3. 서류를 받을 때마다 소득·세액공제신고서, 간소화 PDF, 추가 종이 증빙 칸에서 제출·미제출·해당없음을 고르고, 추가 증빙 건수와 종류(예: 안경 영수증, 월세 이체내역)만 적습니다.
B10: 4. 빠진 서류를 다시 요청하면 보완 요청일을, 다 모이면 완료일을 적습니다. 상태(완료·보완 요청·제출 중·미제출)는 자동입니다.
B11: 5. 맨 위에 전체·완료·미완료 인원과 제출률, 3행에 항목별 미제출 인원이 나옵니다. 마감일이 지난 미완료자는 빨간색으로 표시됩니다.
B12: 6. '부서별 집계'에서 부서마다 제출률과 미제출 인원을 보고 부서별로 독촉합니다.
B14: 회사는 다음 연도 2월분 근로소득을 지급할 때 연말정산을 하고, 근로소득 지급명세서는 3월 10일까지 냅니다(소득세법 제137조①, 제164조①). 2026년에는 간소화 서비스가 1월 15일에 열렸습니다. 2027년 일정은 국세청 발표를 확인하세요.
B15: 이 표는 공제 여부나 세액을 판단하지 않습니다. 공제 요건과 세액은 세무사와 확인하세요.
B17: 접수표로 현황만 정리하고 싶다면
... B23: 종이 원본은 법정 기간 동안 그대로 보관하세요. 이 파일은 찾기·집계·대조용입니다.
