Workbook

Sheet 운행기록부
A1: 업무용승용차 운행기록부
A2: 상호(법인명) | E2: 사업자등록번호 | H2: 사업연도 | K2: ← 사업연도 시작일·끝일. 적으면 '차량별' 집계가 이 기간만 더합니다.
A3: 합계 | B3: =SUBTOTAL(103,C5:C1004)&"건" | I3: =SUBTOTAL(109,I5:I1004) | J3: =SUBTOTAL(109,J5:J1004) | K3: =SUBTOTAL(109,K5:K1004) | L3: =SUBTOTAL(109,L5:L1004)
A4: 사용일자 | B4: 요일(자동) | C4: 자동차등록번호 | D4: 차종(자동) | E4: 사용자 부서 | F4: 사용자 성명 | G4: 주행 전 계기판의 거리(km) | H4: 주행 후 계기판의 거리(km) | I4: 주행거리(km)(자동) | J4: 업무용 사용거리 출·퇴근용(km) | K4: 업무용 사용거리 일반 업무용(km) | L4: 업무용 사용거리 계(자동) | M4: 방문처·업무 목적 | N4: 비고 | O4: 확인(자동)
B5: =IF(A5="","",MID("일월화수목금토",WEEKDAY(A5),1)) | D5: =IF(C5="","",IFERROR(INDEX('차량별 비용·업무사용비율'!$B$5:$B$24,MATCH(C5,'차량별 비용·업무사용비율'!$A$5:$A$24,0)),"차량 목록에 없음")) | I5: =IF(OR(G5="",H5=""),"",H5-G5) | L5: =IF(AND(J5="",K5=""),"",N(J5)+N(K5)) | O5: =IF(C5="","",IF(AND(G5<>"",H5<>"",N(H5)<N(G5)),"주행 후 < 주행 전",IF(AND(I5<>"",N(L5)>N(I5)),"업무용 거리 > 주행거리","")))
B6: =IF(A6="","",MID("일월화수목금토",WEEKDAY(A6),1)) | D6: =IF(C6="","",IFERROR(INDEX('차량별 비용·업무사용비율'!$B$5:$B$24,MATCH(C6,'차량별 비용·업무사용비율'!$A$5:$A$24,0)),"차량 목록에 없음")) | I6: =IF(OR(G6="",H6=""),"",H6-G6) | L6: =IF(AND(J6="",K6=""),"",N(J6)+N(K6)) | O6: =IF(C6="","",IF(AND(G6<>"",H6<>"",N(H6)<N(G6)),"주행 후 < 주행 전",IF(AND(I6<>"",N(L6)>N(I6)),"업무용 거리 > 주행거리",IF(OR(G6="",IFERROR(SUMPRODUCT(MAX(($C$5:C5=C6)*$H$5:H5)),0)=0),"",IF(G6>IFERROR(SUMPRODUCT(MAX(($C$5:C5=C6)*$H$5:H5)),0),"앞 기록과 "&TEXT(G6-IFERROR(SUMPRODUCT(MAX(($C$5:C5=C6)*$H$5:H5)),0),"#,##0")&"km 빔",IF(G6<IFERROR(SUMPRODUCT(MAX(($C$5:C5=C6)*$H$5:H5)),0),"계기판이 앞 기록보다 작음",""))))))
B7: =IF(A7="","",MID("일월화수목금토",WEEKDAY(A7),1)) | D7: =IF(C7="","",IFERROR(INDEX('차량별 비용·업무사용비율'!$B$5:$B$24,MATCH(C7,'차량별 비용·업무사용비율'!$A$5:$A$24,0)),"차량 목록에 없음")) | I7: =IF(OR(G7="",H7=""),"",H7-G7) | L7: =IF(AND(J7="",K7=""),"",N(J7)+N(K7)) | O7: =IF(C7="","",IF(AND(G7<>"",H7<>"",N(H7)<N(G7)),"주행 후 < 주행 전",IF(AND(I7<>"",N(L7)>N(I7)),"업무용 거리 > 주행거리",IF(OR(G7="",IFERROR(SUMPRODUCT(MAX(($C$5:C6=C7)*$H$5:H6)),0)=0),"",IF(G7>IFERROR(SUMPRODUCT(MAX(($C$5:C6=C7)*$H$5:H6)),0),"앞 기록과 "&TEXT(G7-IFERROR(SUMPRODUCT(MAX(($C$5:C6=C7)*$H$5:H6)),0),"#,##0")&"km 빔",IF(G7<IFERROR(SUMPRODUCT(MAX(($C$5:C6=C7)*$H$5:H6)),0),"계기판이 앞 기록보다 작음",""))))))
B8: =IF(A8="","",MID("일월화수목금토",WEEKDAY(A8),1)) | D8: =IF(C8="","",IFERROR(INDEX('차량별 비용·업무사용비율'!$B$5:$B$24,MATCH(C8,'차량별 비용·업무사용비율'!$A$5:$A$24,0)),"차량 목록에 없음")) | I8: =IF(OR(G8="",H8=""),"",H8-G8) | L8: =IF(AND(J8="",K8=""),"",N(J8)+N(K8)) | O8: =IF(C8="","",IF(AND(G8<>"",H8<>"",N(H8)<N(G8)),"주행 후 < 주행 전",IF(AND(I8<>"",N(L8)>N(I8)),"업무용 거리 > 주행거리",IF(OR(G8="",IFERROR(SUMPRODUCT(MAX(($C$5:C7=C8)*$H$5:H7)),0)=0),"",IF(G8>IFERROR(SUMPRODUCT(MAX(($C$5:C7=C8)*$H$5:H7)),0),"앞 기록과 "&TEXT(G8-IFERROR(SUMPRODUCT(MAX(($C$5:C7=C8)*$H$5:H7)),0),"#,##0")&"km 빔",IF(G8<IFERROR(SUMPRODUCT(MAX(($C$5:C7=C8)*$H$5:H7)),0),"계기판이 앞 기록보다 작음",""))))))
B9: =IF(A9="","",MID("일월화수목금토",WEEKDAY(A9),1)) | D9: =IF(C9="","",IFERROR(INDEX('차량별 비용·업무사용비율'!$B$5:$B$24,MATCH(C9,'차량별 비용·업무사용비율'!$A$5:$A$24,0)),"차량 목록에 없음")) | I9: =IF(OR(G9="",H9=""),"",H9-G9) | L9: =IF(AND(J9="",K9=""),"",N(J9)+N(K9)) | O9: =IF(C9="","",IF(AND(G9<>"",H9<>"",N(H9)<N(G9)),"주행 후 < 주행 전",IF(AND(I9<>"",N(L9)>N(I9)),"업무용 거리 > 주행거리",IF(OR(G9="",IFERROR(SUMPRODUCT(MAX(($C$5:C8=C9)*$H$5:H8)),0)=0),"",IF(G9>IFERROR(SUMPRODUCT(MAX(($C$5:C8=C9)*$H$5:H8)),0),"앞 기록과 "&TEXT(G9-IFERROR(SUMPRODUCT(MAX(($C$5:C8=C9)*$H$5:H8)),0),"#,##0")&"km 빔",IF(G9<IFERROR(SUMPRODUCT(MAX(($C$5:C8=C9)*$H$5:H8)),0),"계기판이 앞 기록보다 작음",""))))))
B10: =IF(A10="","",MID("일월화수목금토",WEEKDAY(A10),1)) | D10: =IF(C10="","",IFERROR(INDEX('차량별 비용·업무사용비율'!$B$5:$B$24,MATCH(C10,'차량별 비용·업무사용비율'!$A$5:$A$24,0)),"차량 목록에 없음")) | I10: =IF(OR(G10="",H10=""),"",H10-G10) | L10: =IF(AND(J10="",K10=""),"",N(J10)+N(K10)) | O10: =IF(C10="","",IF(AND(G10<>"",H10<>"",N(H10)<N(G10)),"주행 후 < 주행 전",IF(AND(I10<>"",N(L10)>N(I10)),"업무용 거리 > 주행거리",IF(OR(G10="",IFERROR(SUMPRODUCT(MAX(($C$5:C9=C10)*$H$5:H9)),0)=0),"",IF(G10>IFERROR(SUMPRODUCT(MAX(($C$5:C9=C10)*$H$5:H9)),0),"앞 기록과 "&TEXT(G10-IFERROR(SUMPRODUCT(MAX(($C$5:C9=C10)*$H$5:H9)),0),"#,##0")&"km 빔",IF(G10<IFERROR(SUMPRODUCT(MAX(($C$5:C9=C10)*$H$5:H9)),0),"계기판이 앞 기록보다 작음",""))))))
B11: =IF(A11="","",MID("일월화수목금토",WEEKDAY(A11),1)) | D11: =IF(C11="","",IFERROR(INDEX('차량별 비용·업무사용비율'!$B$5:$B$24,MATCH(C11,'차량별 비용·업무사용비율'!$A$5:$A$24,0)),"차량 목록에 없음")) | I11: =IF(OR(G11="",H11=""),"",H11-G11) | L11: =IF(AND(J11="",K11=""),"",N(J11)+N(K11)) | O11: =IF(C11="","",IF(AND(G11<>"",H11<>"",N(H11)<N(G11)),"주행 후 < 주행 전",IF(AND(I11<>"",N(L11)>N(I11)),"업무용 거리 > 주행거리",IF(OR(G11="",IFERROR(SUMPRODUCT(MAX(($C$5:C10=C11)*$H$5:H10)),0)=0),"",IF(G11>IFERROR(SUMPRODUCT(MAX(($C$5:C10=C11)*$H$5:H10)),0),"앞 기록과 "&TEXT(G11-IFERROR(SUMPRODUCT(MAX(($C$5:C10=C11)*$H$5:H10)),0),"#,##0")&"km 빔",IF(G11<IFERROR(SUMPRODUCT(MAX(($C$5:C10=C11)*$H$5:H10)),0),"계기판이 앞 기록보다 작음",""))))))
B12: =IF(A12="","",MID("일월화수목금토",WEEKDAY(A12),1)) | D12: =IF(C12="","",IFERROR(INDEX('차량별 비용·업무사용비율'!$B$5:$B$24,MATCH(C12,'차량별 비용·업무사용비율'!$A$5:$A$24,0)),"차량 목록에 없음")) | I12: =IF(OR(G12="",H12=""),"",H12-G12) | L12: =IF(AND(J12="",K12=""),"",N(J12)+N(K12)) | O12: =IF(C12="","",IF(AND(G12<>"",H12<>"",N(H12)<N(G12)),"주행 후 < 주행 전",IF(AND(I12<>"",N(L12)>N(I12)),"업무용 거리 > 주행거리",IF(OR(G12="",IFERROR(SUMPRODUCT(MAX(($C$5:C11=C12)*$H$5:H11)),0)=0),"",IF(G12>IFERROR(SUMPRODUCT(MAX(($C$5:C11=C12)*$H$5:H11)),0),"앞 기록과 "&TEXT(G12-IFERROR(SUMPRODUCT(MAX(($C$5:C11=C12)*$H$5:H11)),0),"#,##0")&"km 빔",IF(G12<IFERROR(SUMPRODUCT(MAX(($C$5:C11=C12)*$H$5:H11)),0),"계기판이 앞 기록보다 작음",""))))))
B13: =IF(A13="","",MID("일월화수목금토",WEEKDAY(A13),1)) | D13: =IF(C13="","",IFERROR(INDEX('차량별 비용·업무사용비율'!$B$5:$B$24,MATCH(C13,'차량별 비용·업무사용비율'!$A$5:$A$24,0)),"차량 목록에 없음")) | I13: =IF(OR(G13="",H13=""),"",H13-G13) | L13: =IF(AND(J13="",K13=""),"",N(J13)+N(K13)) | O13: =IF(C13="","",IF(AND(G13<>"",H13<>"",N(H13)<N(G13)),"주행 후 < 주행 전",IF(AND(I13<>"",N(L13)>N(I13)),"업무용 거리 > 주행거리",IF(OR(G13="",IFERROR(SUMPRODUCT(MAX(($C$5:C12=C13)*$H$5:H12)),0)=0),"",IF(G13>IFERROR(SUMPRODUCT(MAX(($C$5:C12=C13)*$H$5:H12)),0),"앞 기록과 "&TEXT(G13-IFERROR(SUMPRODUCT(MAX(($C$5:C12=C13)*$H$5:H12)),0),"#,##0")&"km 빔",IF(G13<IFERROR(SUMPRODUCT(MAX(($C$5:C12=C13)*$H$5:H12)),0),"계기판이 앞 기록보다 작음",""))))))
B14: =IF(A14="","",MID("일월화수목금토",WEEKDAY(A14),1)) | D14: =IF(C14="","",IFERROR(INDEX('차량별 비용·업무사용비율'!$B$5:$B$24,MATCH(C14,'차량별 비용·업무사용비율'!$A$5:$A$24,0)),"차량 목록에 없음")) | I14: =IF(OR(G14="",H14=""),"",H14-G14) | L14: =IF(AND(J14="",K14=""),"",N(J14)+N(K14)) | O14: =IF(C14="","",IF(AND(G14<>"",H14<>"",N(H14)<N(G14)),"주행 후 < 주행 전",IF(AND(I14<>"",N(L14)>N(I14)),"업무용 거리 > 주행거리",IF(OR(G14="",IFERROR(SUMPRODUCT(MAX(($C$5:C13=C14)*$H$5:H13)),0)=0),"",IF(G14>IFERROR(SUMPRODUCT(MAX(($C$5:C13=C14)*$H$5:H13)),0),"앞 기록과 "&TEXT(G14-IFERROR(SUMPRODUCT(MAX(($C$5:C13=C14)*$H$5:H13)),0),"#,##0")&"km 빔",IF(G14<IFERROR(SUMPRODUCT(MAX(($C$5:C13=C14)*$H$5:H13)),0),"계기판이 앞 기록보다 작음",""))))))
B15: =IF(A15="","",MID("일월화수목금토",WEEKDAY(A15),1)) | D15: =IF(C15="","",IFERROR(INDEX('차량별 비용·업무사용비율'!$B$5:$B$24,MATCH(C15,'차량별 비용·업무사용비율'!$A$5:$A$24,0)),"차량 목록에 없음")) | I15: =IF(OR(G15="",H15=""),"",H15-G15) | L15: =IF(AND(J15="",K15=""),"",N(J15)+N(K15)) | O15: =IF(C15="","",IF(AND(G15<>"",H15<>"",N(H15)<N(G15)),"주행 후 < 주행 전",IF(AND(I15<>"",N(L15)>N(I15)),"업무용 거리 > 주행거리",IF(OR(G15="",IFERROR(SUMPRODUCT(MAX(($C$5:C14=C15)*$H$5:H14)),0)=0),"",IF(G15>IFERROR(SUMPRODUCT(MAX(($C$5:C14=C15)*$H$5:H14)),0),"앞 기록과 "&TEXT(G15-IFERROR(SUMPRODUCT(MAX(($C$5:C14=C15)*$H$5:H14)),0),"#,##0")&"km 빔",IF(G15<IFERROR(SUMPRODUCT(MAX(($C$5:C14=C15)*$H$5:H14)),0),"계기판이 앞 기록보다 작음",""))))))
B16: =IF(A16="","",MID("일월화수목금토",WEEKDAY(A16),1)) | D16: =IF(C16="","",IFERROR(INDEX('차량별 비용·업무사용비율'!$B$5:$B$24,MATCH(C16,'차량별 비용·업무사용비율'!$A$5:$A$24,0)),"차량 목록에 없음")) | I16: =IF(OR(G16="",H16=""),"",H16-G16) | L16: =IF(AND(J16="",K16=""),"",N(J16)+N(K16)) | O16: =IF(C16="","",IF(AND(G16<>"",H16<>"",N(H16)<N(G16)),"주행 후 < 주행 전",IF(AND(I16<>"",N(L16)>N(I16)),"업무용 거리 > 주행거리",IF(OR(G16="",IFERROR(SUMPRODUCT(MAX(($C$5:C15=C16)*$H$5:H15)),0)=0),"",IF(G16>IFERROR(SUMPRODUCT(MAX(($C$5:C15=C16)*$H$5:H15)),0),"앞 기록과 "&TEXT(G16-IFERROR(SUMPRODUCT(MAX(($C$5:C15=C16)*$H$5:H15)),0),"#,##0")&"km 빔",IF(G16<IFERROR(SUMPRODUCT(MAX(($C$5:C15=C16)*$H$5:H15)),0),"계기판이 앞 기록보다 작음",""))))))
B17: =IF(A17="","",MID("일월화수목금토",WEEKDAY(A17),1)) | D17: =IF(C17="","",IFERROR(INDEX('차량별 비용·업무사용비율'!$B$5:$B$24,MATCH(C17,'차량별 비용·업무사용비율'!$A$5:$A$24,0)),"차량 목록에 없음")) | I17: =IF(OR(G17="",H17=""),"",H17-G17) | L17: =IF(AND(J17="",K17=""),"",N(J17)+N(K17)) | O17: =IF(C17="","",IF(AND(G17<>"",H17<>"",N(H17)<N(G17)),"주행 후 < 주행 전",IF(AND(I17<>"",N(L17)>N(I17)),"업무용 거리 > 주행거리",IF(OR(G17="",IFERROR(SUMPRODUCT(MAX(($C$5:C16=C17)*$H$5:H16)),0)=0),"",IF(G17>IFERROR(SUMPRODUCT(MAX(($C$5:C16=C17)*$H$5:H16)),0),"앞 기록과 "&TEXT(G17-IFERROR(SUMPRODUCT(MAX(($C$5:C16=C17)*$H$5:H16)),0),"#,##0")&"km 빔",IF(G17<IFERROR(SUMPRODUCT(MAX(($C$5:C16=C17)*$H$5:H16)),0),"계기판이 앞 기록보다 작음",""))))))
... B1004: =IF(A1004="","",MID("일월화수목금토",WEEKDAY(A1004),1)) | D1004: =IF(C1004="","",IFERROR(INDEX('차량별 비용·업무사용비율'!$B$5:$B$24,MATCH(C1004,'차량별 비용·업무사용비율'!$A$5:$A$24,0)),"차량 목록에 없음")) | I1004: =IF(OR(G1004="",H1004=""),"",H1004-G1004) | L1004: =IF(AND(J1004="",K1004=""),"",N(J1004)+N(K1004)) | O1004: =IF(C1004="","",IF(AND(G1004<>"",H1004<>"",N(H1004)<N(G1004)),"주행 후 < 주행 전",IF(AND(I1004<>"",N(L1004)>N(I1004)),"업무용 거리 > 주행거리",IF(OR(G1004="",IFERROR(SUMPRODUCT(MAX(($C$5:C1003=C1004)*$H$5:H1003)),0)=0),"",IF(G1004>IFERROR(SUMPRODUCT(MAX(($C$5:C1003=C1004)*$H$5:H1003)),0),"앞 기록과 "&TEXT(G1004-IFERROR(SUMPRODUCT(MAX(($C$5:C1003=C1004)*$H$5:H1003)),0),"#,##0")&"km 빔",IF(G1004<IFERROR(SUMPRODUCT(MAX(($C$5:C1003=C1004)*$H$5:H1003)),0),"계기판이 앞 기록보다 작음",""))))))

Sheet 비용 내역
A1: 차량 비용 내역 | E1: 주유·정비·보험·자동차세·통행료·리스료를 차량번호와 함께 한 줄씩. 운행기록과 섞지 않습니다.
A2: 합계 | B2: =SUBTOTAL(103,E4:E1003)&"건" | E2: =SUBTOTAL(109,E4:E1003)
A3: 일자 | B3: 자동차등록번호 | C3: 차종(자동) | D3: 비용 구분 | E3: 금액 | F3: 증빙 종류 | G3: 공급처 | H3: 비고 | I3: 확인(자동)
C4: =IF(B4="","",IFERROR(INDEX('차량별 비용·업무사용비율'!$B$5:$B$24,MATCH(B4,'차량별 비용·업무사용비율'!$A$5:$A$24,0)),"차량 목록에 없음")) | I4: =IF(E4="","",IF(B4="","차량번호 미기재",IF(D4="","비용 구분 미기재",IF(F4="","증빙 종류 미기재",""))))
C5: =IF(B5="","",IFERROR(INDEX('차량별 비용·업무사용비율'!$B$5:$B$24,MATCH(B5,'차량별 비용·업무사용비율'!$A$5:$A$24,0)),"차량 목록에 없음")) | I5: =IF(E5="","",IF(B5="","차량번호 미기재",IF(D5="","비용 구분 미기재",IF(F5="","증빙 종류 미기재",""))))
C6: =IF(B6="","",IFERROR(INDEX('차량별 비용·업무사용비율'!$B$5:$B$24,MATCH(B6,'차량별 비용·업무사용비율'!$A$5:$A$24,0)),"차량 목록에 없음")) | I6: =IF(E6="","",IF(B6="","차량번호 미기재",IF(D6="","비용 구분 미기재",IF(F6="","증빙 종류 미기재",""))))
C7: =IF(B7="","",IFERROR(INDEX('차량별 비용·업무사용비율'!$B$5:$B$24,MATCH(B7,'차량별 비용·업무사용비율'!$A$5:$A$24,0)),"차량 목록에 없음")) | I7: =IF(E7="","",IF(B7="","차량번호 미기재",IF(D7="","비용 구분 미기재",IF(F7="","증빙 종류 미기재",""))))
C8: =IF(B8="","",IFERROR(INDEX('차량별 비용·업무사용비율'!$B$5:$B$24,MATCH(B8,'차량별 비용·업무사용비율'!$A$5:$A$24,0)),"차량 목록에 없음")) | I8: =IF(E8="","",IF(B8="","차량번호 미기재",IF(D8="","비용 구분 미기재",IF(F8="","증빙 종류 미기재",""))))
C9: =IF(B9="","",IFERROR(INDEX('차량별 비용·업무사용비율'!$B$5:$B$24,MATCH(B9,'차량별 비용·업무사용비율'!$A$5:$A$24,0)),"차량 목록에 없음")) | I9: =IF(E9="","",IF(B9="","차량번호 미기재",IF(D9="","비용 구분 미기재",IF(F9="","증빙 종류 미기재",""))))
C10: =IF(B10="","",IFERROR(INDEX('차량별 비용·업무사용비율'!$B$5:$B$24,MATCH(B10,'차량별 비용·업무사용비율'!$A$5:$A$24,0)),"차량 목록에 없음")) | I10: =IF(E10="","",IF(B10="","차량번호 미기재",IF(D10="","비용 구분 미기재",IF(F10="","증빙 종류 미기재",""))))
C11: =IF(B11="","",IFERROR(INDEX('차량별 비용·업무사용비율'!$B$5:$B$24,MATCH(B11,'차량별 비용·업무사용비율'!$A$5:$A$24,0)),"차량 목록에 없음")) | I11: =IF(E11="","",IF(B11="","차량번호 미기재",IF(D11="","비용 구분 미기재",IF(F11="","증빙 종류 미기재",""))))
C12: =IF(B12="","",IFERROR(INDEX('차량별 비용·업무사용비율'!$B$5:$B$24,MATCH(B12,'차량별 비용·업무사용비율'!$A$5:$A$24,0)),"차량 목록에 없음")) | I12: =IF(E12="","",IF(B12="","차량번호 미기재",IF(D12="","비용 구분 미기재",IF(F12="","증빙 종류 미기재",""))))
C13: =IF(B13="","",IFERROR(INDEX('차량별 비용·업무사용비율'!$B$5:$B$24,MATCH(B13,'차량별 비용·업무사용비율'!$A$5:$A$24,0)),"차량 목록에 없음")) | I13: =IF(E13="","",IF(B13="","차량번호 미기재",IF(D13="","비용 구분 미기재",IF(F13="","증빙 종류 미기재",""))))
C14: =IF(B14="","",IFERROR(INDEX('차량별 비용·업무사용비율'!$B$5:$B$24,MATCH(B14,'차량별 비용·업무사용비율'!$A$5:$A$24,0)),"차량 목록에 없음")) | I14: =IF(E14="","",IF(B14="","차량번호 미기재",IF(D14="","비용 구분 미기재",IF(F14="","증빙 종류 미기재",""))))
C15: =IF(B15="","",IFERROR(INDEX('차량별 비용·업무사용비율'!$B$5:$B$24,MATCH(B15,'차량별 비용·업무사용비율'!$A$5:$A$24,0)),"차량 목록에 없음")) | I15: =IF(E15="","",IF(B15="","차량번호 미기재",IF(D15="","비용 구분 미기재",IF(F15="","증빙 종류 미기재",""))))
... C1003: =IF(B1003="","",IFERROR(INDEX('차량별 비용·업무사용비율'!$B$5:$B$24,MATCH(B1003,'차량별 비용·업무사용비율'!$A$5:$A$24,0)),"차량 목록에 없음")) | I1003: =IF(E1003="","",IF(B1003="","차량번호 미기재",IF(D1003="","비용 구분 미기재",IF(F1003="","증빙 종류 미기재",""))))

Sheet 차량별 비용·업무사용비율
A1: 차량별 비용·업무사용비율
A2: 집계 기간 | B2: =IF(AND('운행기록부'!I2="",'운행기록부'!J2=""),"전체 (운행기록부 I2·J2에 사업연도를 적으면 그 기간만)",TEXT('운행기록부'!I2,"yyyy-mm-dd")&" ~ "&TEXT('운행기록부'!J2,"yyyy-mm-dd")) | F2: 차량번호·차종·보유 형태·보험만 직접 적고 나머지는 자동입니다. 업무사용비율은 기록에서 나온 단순 비율(업무용 사용거리 ÷ 총 주행거리)이며, 비용 인정 금액·한도는 계산하지 않습니다. 세무사와 확인하세요.
A4: 자동차등록번호 | B4: 차종 | C4: 보유 형태 | D4: 업무전용 자동차보험 | E4: 메모(보험 기간 등) | F4: 운행 기록(자동) | G4: 총 주행거리 km(자동) | H4: 업무용 사용거리 km(자동) | I4: 업무사용비율 기록상·참고(자동) | J4: 감가상각비 | K4: 임차료(리스·렌트) | L4: 유류비 | M4: 보험료 | N4: 수선비 | O4: 자동차세 | P4: 통행료 | Q4: 금융리스 이자 | R4: 기타 | S4: 비용 합계(자동) | T4: 확인 필요(자동)
F5: =IF($A5="","",COUNTIFS('운행기록부'!$C$5:$C$1004,$A5,'운행기록부'!$A$5:$A$1004,">="&IF('운행기록부'!$I$2="",0,'운행기록부'!$I$2),'운행기록부'!$A$5:$A$1004,"<="&IF('운행기록부'!$J$2="",2958465,'운행기록부'!$J$2))) | G5: =IF($A5="","",SUMIFS('운행기록부'!$I$5:$I$1004,'운행기록부'!$C$5:$C$1004,$A5,'운행기록부'!$A$5:$A$1004,">="&IF('운행기록부'!$I$2="",0,'운행기록부'!$I$2),'운행기록부'!$A$5:$A$1004,"<="&IF('운행기록부'!$J$2="",2958465,'운행기록부'!$J$2))) | H5: =IF($A5="","",SUMIFS('운행기록부'!$L$5:$L$1004,'운행기록부'!$C$5:$C$1004,$A5,'운행기록부'!$A$5:$A$1004,">="&IF('운행기록부'!$I$2="",0,'운행기록부'!$I$2),'운행기록부'!$A$5:$A$1004,"<="&IF('운행기록부'!$J$2="",2958465,'운행기록부'!$J$2))) | I5: =IF(OR($A5="",N(G5)=0),"",H5/G5) | J5: =IF($A5="","",SUMIFS('비용 내역'!$E$4:$E$1003,'비용 내역'!$B$4:$B$1003,$A5,'비용 내역'!$D$4:$D$1003,J$4,'비용 내역'!$A$4:$A$1003,">="&IF('운행기록부'!$I$2="",0,'운행기록부'!$I$2),'비용 내역'!$A$4:$A$1003,"<="&IF('운행기록부'!$J$2="",2958465,'운행기록부'!$J$2))) | K5: =IF($A5="","",SUMIFS('비용 내역'!$E$4:$E$1003,'비용 내역'!$B$4:$B$1003,$A5,'비용 내역'!$D$4:$D$1003,K$4,'비용 내역'!$A$4:$A$1003,">="&IF('운행기록부'!$I$2="",0,'운행기록부'!$I$2),'비용 내역'!$A$4:$A$1003,"<="&IF('운행기록부'!$J$2="",2958465,'운행기록부'!$J$2))) | L5: =IF($A5="","",SUMIFS('비용 내역'!$E$4:$E$1003,'비용 내역'!$B$4:$B$1003,$A5,'비용 내역'!$D$4:$D$1003,L$4,'비용 내역'!$A$4:$A$1003,">="&IF('운행기록부'!$I$2="",0,'운행기록부'!$I$2),'비용 내역'!$A$4:$A$1003,"<="&IF('운행기록부'!$J$2="",2958465,'운행기록부'!$J$2))) | M5: =IF($A5="","",SUMIFS('비용 내역'!$E$4:$E$1003,'비용 내역'!$B$4:$B$1003,$A5,'비용 내역'!$D$4:$D$1003,M$4,'비용 내역'!$A$4:$A$1003,">="&IF('운행기록부'!$I$2="",0,'운행기록부'!$I$2),'비용 내역'!$A$4:$A$1003,"<="&IF('운행기록부'!$J$2="",2958465,'운행기록부'!$J$2))) | N5: =IF($A5="","",SUMIFS('비용 내역'!$E$4:$E$1003,'비용 내역'!$B$4:$B$1003,$A5,'비용 내역'!$D$4:$D$1003,N$4,'비용 내역'!$A$4:$A$1003,">="&IF('운행기록부'!$I$2="",0,'운행기록부'!$I$2),'비용 내역'!$A$4:$A$1003,"<="&IF('운행기록부'!$J$2="",2958465,'운행기록부'!$J$2))) | O5: =IF($A5="","",SUMIFS('비용 내역'!$E$4:$E$1003,'비용 내역'!$B$4:$B$1003,$A5,'비용 내역'!$D$4:$D$1003,O$4,'비용 내역'!$A$4:$A$1003,">="&IF('운행기록부'!$I$2="",0,'운행기록부'!$I$2),'비용 내역'!$A$4:$A$1003,"<="&IF('운행기록부'!$J$2="",2958465,'운행기록부'!$J$2))) | P5: =IF($A5="","",SUMIFS('비용 내역'!$E$4:$E$1003,'비용 내역'!$B$4:$B$1003,$A5,'비용 내역'!$D$4:$D$1003,P$4,'비용 내역'!$A$4:$A$1003,">="&IF('운행기록부'!$I$2="",0,'운행기록부'!$I$2),'비용 내역'!$A$4:$A$1003,"<="&IF('운행기록부'!$J$2="",2958465,'운행기록부'!$J$2))) | Q5: =IF($A5="","",SUMIFS('비용 내역'!$E$4:$E$1003,'비용 내역'!$B$4:$B$1003,$A5,'비용 내역'!$D$4:$D$1003,Q$4,'비용 내역'!$A$4:$A$1003,">="&IF('운행기록부'!$I$2="",0,'운행기록부'!$I$2),'비용 내역'!$A$4:$A$1003,"<="&IF('운행기록부'!$J$2="",2958465,'운행기록부'!$J$2))) | R5: =IF($A5="","",SUMIFS('비용 내역'!$E$4:$E$1003,'비용 내역'!$B$4:$B$1003,$A5,'비용 내역'!$D$4:$D$1003,R$4,'비용 내역'!$A$4:$A$1003,">="&IF('운행기록부'!$I$2="",0,'운행기록부'!$I$2),'비용 내역'!$A$4:$A$1003,"<="&IF('운행기록부'!$J$2="",2958465,'운행기록부'!$J$2))) | S5: =IF($A5="","",SUM(J5:R5)) | T5: =IF($A5="","",MID(IF(N(F5)=0," · 운행 기록 없음","")&IF(N(S5)>15000000," · 비용 1,500만 원 초과","")&IF(D5<>"가입"," · 전용보험 확인",""),4,200))
F6: =IF($A6="","",COUNTIFS('운행기록부'!$C$5:$C$1004,$A6,'운행기록부'!$A$5:$A$1004,">="&IF('운행기록부'!$I$2="",0,'운행기록부'!$I$2),'운행기록부'!$A$5:$A$1004,"<="&IF('운행기록부'!$J$2="",2958465,'운행기록부'!$J$2))) | G6: =IF($A6="","",SUMIFS('운행기록부'!$I$5:$I$1004,'운행기록부'!$C$5:$C$1004,$A6,'운행기록부'!$A$5:$A$1004,">="&IF('운행기록부'!$I$2="",0,'운행기록부'!$I$2),'운행기록부'!$A$5:$A$1004,"<="&IF('운행기록부'!$J$2="",2958465,'운행기록부'!$J$2))) | H6: =IF($A6="","",SUMIFS('운행기록부'!$L$5:$L$1004,'운행기록부'!$C$5:$C$1004,$A6,'운행기록부'!$A$5:$A$1004,">="&IF('운행기록부'!$I$2="",0,'운행기록부'!$I$2),'운행기록부'!$A$5:$A$1004,"<="&IF('운행기록부'!$J$2="",2958465,'운행기록부'!$J$2))) | I6: =IF(OR($A6="",N(G6)=0),"",H6/G6) | J6: =IF($A6="","",SUMIFS('비용 내역'!$E$4:$E$1003,'비용 내역'!$B$4:$B$1003,$A6,'비용 내역'!$D$4:$D$1003,J$4,'비용 내역'!$A$4:$A$1003,">="&IF('운행기록부'!$I$2="",0,'운행기록부'!$I$2),'비용 내역'!$A$4:$A$1003,"<="&IF('운행기록부'!$J$2="",2958465,'운행기록부'!$J$2))) | K6: =IF($A6="","",SUMIFS('비용 내역'!$E$4:$E$1003,'비용 내역'!$B$4:$B$1003,$A6,'비용 내역'!$D$4:$D$1003,K$4,'비용 내역'!$A$4:$A$1003,">="&IF('운행기록부'!$I$2="",0,'운행기록부'!$I$2),'비용 내역'!$A$4:$A$1003,"<="&IF('운행기록부'!$J$2="",2958465,'운행기록부'!$J$2))) | L6: =IF($A6="","",SUMIFS('비용 내역'!$E$4:$E$1003,'비용 내역'!$B$4:$B$1003,$A6,'비용 내역'!$D$4:$D$1003,L$4,'비용 내역'!$A$4:$A$1003,">="&IF('운행기록부'!$I$2="",0,'운행기록부'!$I$2),'비용 내역'!$A$4:$A$1003,"<="&IF('운행기록부'!$J$2="",2958465,'운행기록부'!$J$2))) | M6: =IF($A6="","",SUMIFS('비용 내역'!$E$4:$E$1003,'비용 내역'!$B$4:$B$1003,$A6,'비용 내역'!$D$4:$D$1003,M$4,'비용 내역'!$A$4:$A$1003,">="&IF('운행기록부'!$I$2="",0,'운행기록부'!$I$2),'비용 내역'!$A$4:$A$1003,"<="&IF('운행기록부'!$J$2="",2958465,'운행기록부'!$J$2))) | N6: =IF($A6="","",SUMIFS('비용 내역'!$E$4:$E$1003,'비용 내역'!$B$4:$B$1003,$A6,'비용 내역'!$D$4:$D$1003,N$4,'비용 내역'!$A$4:$A$1003,">="&IF('운행기록부'!$I$2="",0,'운행기록부'!$I$2),'비용 내역'!$A$4:$A$1003,"<="&IF('운행기록부'!$J$2="",2958465,'운행기록부'!$J$2))) | O6: =IF($A6="","",SUMIFS('비용 내역'!$E$4:$E$1003,'비용 내역'!$B$4:$B$1003,$A6,'비용 내역'!$D$4:$D$1003,O$4,'비용 내역'!$A$4:$A$1003,">="&IF('운행기록부'!$I$2="",0,'운행기록부'!$I$2),'비용 내역'!$A$4:$A$1003,"<="&IF('운행기록부'!$J$2="",2958465,'운행기록부'!$J$2))) | P6: =IF($A6="","",SUMIFS('비용 내역'!$E$4:$E$1003,'비용 내역'!$B$4:$B$1003,$A6,'비용 내역'!$D$4:$D$1003,P$4,'비용 내역'!$A$4:$A$1003,">="&IF('운행기록부'!$I$2="",0,'운행기록부'!$I$2),'비용 내역'!$A$4:$A$1003,"<="&IF('운행기록부'!$J$2="",2958465,'운행기록부'!$J$2))) | Q6: =IF($A6="","",SUMIFS('비용 내역'!$E$4:$E$1003,'비용 내역'!$B$4:$B$1003,$A6,'비용 내역'!$D$4:$D$1003,Q$4,'비용 내역'!$A$4:$A$1003,">="&IF('운행기록부'!$I$2="",0,'운행기록부'!$I$2),'비용 내역'!$A$4:$A$1003,"<="&IF('운행기록부'!$J$2="",2958465,'운행기록부'!$J$2))) | R6: =IF($A6="","",SUMIFS('비용 내역'!$E$4:$E$1003,'비용 내역'!$B$4:$B$1003,$A6,'비용 내역'!$D$4:$D$1003,R$4,'비용 내역'!$A$4:$A$1003,">="&IF('운행기록부'!$I$2="",0,'운행기록부'!$I$2),'비용 내역'!$A$4:$A$1003,"<="&IF('운행기록부'!$J$2="",2958465,'운행기록부'!$J$2))) | S6: =IF($A6="","",SUM(J6:R6)) | T6: =IF($A6="","",MID(IF(N(F6)=0," · 운행 기록 없음","")&IF(N(S6)>15000000," · 비용 1,500만 원 초과","")&IF(D6<>"가입"," · 전용보험 확인",""),4,200))
F7: =IF($A7="","",COUNTIFS('운행기록부'!$C$5:$C$1004,$A7,'운행기록부'!$A$5:$A$1004,">="&IF('운행기록부'!$I$2="",0,'운행기록부'!$I$2),'운행기록부'!$A$5:$A$1004,"<="&IF('운행기록부'!$J$2="",2958465,'운행기록부'!$J$2))) | G7: =IF($A7="","",SUMIFS('운행기록부'!$I$5:$I$1004,'운행기록부'!$C$5:$C$1004,$A7,'운행기록부'!$A$5:$A$1004,">="&IF('운행기록부'!$I$2="",0,'운행기록부'!$I$2),'운행기록부'!$A$5:$A$1004,"<="&IF('운행기록부'!$J$2="",2958465,'운행기록부'!$J$2))) | H7: =IF($A7="","",SUMIFS('운행기록부'!$L$5:$L$1004,'운행기록부'!$C$5:$C$1004,$A7,'운행기록부'!$A$5:$A$1004,">="&IF('운행기록부'!$I$2="",0,'운행기록부'!$I$2),'운행기록부'!$A$5:$A$1004,"<="&IF('운행기록부'!$J$2="",2958465,'운행기록부'!$J$2))) | I7: =IF(OR($A7="",N(G7)=0),"",H7/G7) | J7: =IF($A7="","",SUMIFS('비용 내역'!$E$4:$E$1003,'비용 내역'!$B$4:$B$1003,$A7,'비용 내역'!$D$4:$D$1003,J$4,'비용 내역'!$A$4:$A$1003,">="&IF('운행기록부'!$I$2="",0,'운행기록부'!$I$2),'비용 내역'!$A$4:$A$1003,"<="&IF('운행기록부'!$J$2="",2958465,'운행기록부'!$J$2))) | K7: =IF($A7="","",SUMIFS('비용 내역'!$E$4:$E$1003,'비용 내역'!$B$4:$B$1003,$A7,'비용 내역'!$D$4:$D$1003,K$4,'비용 내역'!$A$4:$A$1003,">="&IF('운행기록부'!$I$2="",0,'운행기록부'!$I$2),'비용 내역'!$A$4:$A$1003,"<="&IF('운행기록부'!$J$2="",2958465,'운행기록부'!$J$2))) | L7: =IF($A7="","",SUMIFS('비용 내역'!$E$4:$E$1003,'비용 내역'!$B$4:$B$1003,$A7,'비용 내역'!$D$4:$D$1003,L$4,'비용 내역'!$A$4:$A$1003,">="&IF('운행기록부'!$I$2="",0,'운행기록부'!$I$2),'비용 내역'!$A$4:$A$1003,"<="&IF('운행기록부'!$J$2="",2958465,'운행기록부'!$J$2))) | M7: =IF($A7="","",SUMIFS('비용 내역'!$E$4:$E$1003,'비용 내역'!$B$4:$B$1003,$A7,'비용 내역'!$D$4:$D$1003,M$4,'비용 내역'!$A$4:$A$1003,">="&IF('운행기록부'!$I$2="",0,'운행기록부'!$I$2),'비용 내역'!$A$4:$A$1003,"<="&IF('운행기록부'!$J$2="",2958465,'운행기록부'!$J$2))) | N7: =IF($A7="","",SUMIFS('비용 내역'!$E$4:$E$1003,'비용 내역'!$B$4:$B$1003,$A7,'비용 내역'!$D$4:$D$1003,N$4,'비용 내역'!$A$4:$A$1003,">="&IF('운행기록부'!$I$2="",0,'운행기록부'!$I$2),'비용 내역'!$A$4:$A$1003,"<="&IF('운행기록부'!$J$2="",2958465,'운행기록부'!$J$2))) | O7: =IF($A7="","",SUMIFS('비용 내역'!$E$4:$E$1003,'비용 내역'!$B$4:$B$1003,$A7,'비용 내역'!$D$4:$D$1003,O$4,'비용 내역'!$A$4:$A$1003,">="&IF('운행기록부'!$I$2="",0,'운행기록부'!$I$2),'비용 내역'!$A$4:$A$1003,"<="&IF('운행기록부'!$J$2="",2958465,'운행기록부'!$J$2))) | P7: =IF($A7="","",SUMIFS('비용 내역'!$E$4:$E$1003,'비용 내역'!$B$4:$B$1003,$A7,'비용 내역'!$D$4:$D$1003,P$4,'비용 내역'!$A$4:$A$1003,">="&IF('운행기록부'!$I$2="",0,'운행기록부'!$I$2),'비용 내역'!$A$4:$A$1003,"<="&IF('운행기록부'!$J$2="",2958465,'운행기록부'!$J$2))) | Q7: =IF($A7="","",SUMIFS('비용 내역'!$E$4:$E$1003,'비용 내역'!$B$4:$B$1003,$A7,'비용 내역'!$D$4:$D$1003,Q$4,'비용 내역'!$A$4:$A$1003,">="&IF('운행기록부'!$I$2="",0,'운행기록부'!$I$2),'비용 내역'!$A$4:$A$1003,"<="&IF('운행기록부'!$J$2="",2958465,'운행기록부'!$J$2))) | R7: =IF($A7="","",SUMIFS('비용 내역'!$E$4:$E$1003,'비용 내역'!$B$4:$B$1003,$A7,'비용 내역'!$D$4:$D$1003,R$4,'비용 내역'!$A$4:$A$1003,">="&IF('운행기록부'!$I$2="",0,'운행기록부'!$I$2),'비용 내역'!$A$4:$A$1003,"<="&IF('운행기록부'!$J$2="",2958465,'운행기록부'!$J$2))) | S7: =IF($A7="","",SUM(J7:R7)) | T7: =IF($A7="","",MID(IF(N(F7)=0," · 운행 기록 없음","")&IF(N(S7)>15000000," · 비용 1,500만 원 초과","")&IF(D7<>"가입"," · 전용보험 확인",""),4,200))
F8: =IF($A8="","",COUNTIFS('운행기록부'!$C$5:$C$1004,$A8,'운행기록부'!$A$5:$A$1004,">="&IF('운행기록부'!$I$2="",0,'운행기록부'!$I$2),'운행기록부'!$A$5:$A$1004,"<="&IF('운행기록부'!$J$2="",2958465,'운행기록부'!$J$2))) | G8: =IF($A8="","",SUMIFS('운행기록부'!$I$5:$I$1004,'운행기록부'!$C$5:$C$1004,$A8,'운행기록부'!$A$5:$A$1004,">="&IF('운행기록부'!$I$2="",0,'운행기록부'!$I$2),'운행기록부'!$A$5:$A$1004,"<="&IF('운행기록부'!$J$2="",2958465,'운행기록부'!$J$2))) | H8: =IF($A8="","",SUMIFS('운행기록부'!$L$5:$L$1004,'운행기록부'!$C$5:$C$1004,$A8,'운행기록부'!$A$5:$A$1004,">="&IF('운행기록부'!$I$2="",0,'운행기록부'!$I$2),'운행기록부'!$A$5:$A$1004,"<="&IF('운행기록부'!$J$2="",2958465,'운행기록부'!$J$2))) | I8: =IF(OR($A8="",N(G8)=0),"",H8/G8) | J8: =IF($A8="","",SUMIFS('비용 내역'!$E$4:$E$1003,'비용 내역'!$B$4:$B$1003,$A8,'비용 내역'!$D$4:$D$1003,J$4,'비용 내역'!$A$4:$A$1003,">="&IF('운행기록부'!$I$2="",0,'운행기록부'!$I$2),'비용 내역'!$A$4:$A$1003,"<="&IF('운행기록부'!$J$2="",2958465,'운행기록부'!$J$2))) | K8: =IF($A8="","",SUMIFS('비용 내역'!$E$4:$E$1003,'비용 내역'!$B$4:$B$1003,$A8,'비용 내역'!$D$4:$D$1003,K$4,'비용 내역'!$A$4:$A$1003,">="&IF('운행기록부'!$I$2="",0,'운행기록부'!$I$2),'비용 내역'!$A$4:$A$1003,"<="&IF('운행기록부'!$J$2="",2958465,'운행기록부'!$J$2))) | L8: =IF($A8="","",SUMIFS('비용 내역'!$E$4:$E$1003,'비용 내역'!$B$4:$B$1003,$A8,'비용 내역'!$D$4:$D$1003,L$4,'비용 내역'!$A$4:$A$1003,">="&IF('운행기록부'!$I$2="",0,'운행기록부'!$I$2),'비용 내역'!$A$4:$A$1003,"<="&IF('운행기록부'!$J$2="",2958465,'운행기록부'!$J$2))) | M8: =IF($A8="","",SUMIFS('비용 내역'!$E$4:$E$1003,'비용 내역'!$B$4:$B$1003,$A8,'비용 내역'!$D$4:$D$1003,M$4,'비용 내역'!$A$4:$A$1003,">="&IF('운행기록부'!$I$2="",0,'운행기록부'!$I$2),'비용 내역'!$A$4:$A$1003,"<="&IF('운행기록부'!$J$2="",2958465,'운행기록부'!$J$2))) | N8: =IF($A8="","",SUMIFS('비용 내역'!$E$4:$E$1003,'비용 내역'!$B$4:$B$1003,$A8,'비용 내역'!$D$4:$D$1003,N$4,'비용 내역'!$A$4:$A$1003,">="&IF('운행기록부'!$I$2="",0,'운행기록부'!$I$2),'비용 내역'!$A$4:$A$1003,"<="&IF('운행기록부'!$J$2="",2958465,'운행기록부'!$J$2))) | O8: =IF($A8="","",SUMIFS('비용 내역'!$E$4:$E$1003,'비용 내역'!$B$4:$B$1003,$A8,'비용 내역'!$D$4:$D$1003,O$4,'비용 내역'!$A$4:$A$1003,">="&IF('운행기록부'!$I$2="",0,'운행기록부'!$I$2),'비용 내역'!$A$4:$A$1003,"<="&IF('운행기록부'!$J$2="",2958465,'운행기록부'!$J$2))) | P8: =IF($A8="","",SUMIFS('비용 내역'!$E$4:$E$1003,'비용 내역'!$B$4:$B$1003,$A8,'비용 내역'!$D$4:$D$1003,P$4,'비용 내역'!$A$4:$A$1003,">="&IF('운행기록부'!$I$2="",0,'운행기록부'!$I$2),'비용 내역'!$A$4:$A$1003,"<="&IF('운행기록부'!$J$2="",2958465,'운행기록부'!$J$2))) | Q8: =IF($A8="","",SUMIFS('비용 내역'!$E$4:$E$1003,'비용 내역'!$B$4:$B$1003,$A8,'비용 내역'!$D$4:$D$1003,Q$4,'비용 내역'!$A$4:$A$1003,">="&IF('운행기록부'!$I$2="",0,'운행기록부'!$I$2),'비용 내역'!$A$4:$A$1003,"<="&IF('운행기록부'!$J$2="",2958465,'운행기록부'!$J$2))) | R8: =IF($A8="","",SUMIFS('비용 내역'!$E$4:$E$1003,'비용 내역'!$B$4:$B$1003,$A8,'비용 내역'!$D$4:$D$1003,R$4,'비용 내역'!$A$4:$A$1003,">="&IF('운행기록부'!$I$2="",0,'운행기록부'!$I$2),'비용 내역'!$A$4:$A$1003,"<="&IF('운행기록부'!$J$2="",2958465,'운행기록부'!$J$2))) | S8: =IF($A8="","",SUM(J8:R8)) | T8: =IF($A8="","",MID(IF(N(F8)=0," · 운행 기록 없음","")&IF(N(S8)>15000000," · 비용 1,500만 원 초과","")&IF(D8<>"가입"," · 전용보험 확인",""),4,200))
F9: =IF($A9="","",COUNTIFS('운행기록부'!$C$5:$C$1004,$A9,'운행기록부'!$A$5:$A$1004,">="&IF('운행기록부'!$I$2="",0,'운행기록부'!$I$2),'운행기록부'!$A$5:$A$1004,"<="&IF('운행기록부'!$J$2="",2958465,'운행기록부'!$J$2))) | G9: =IF($A9="","",SUMIFS('운행기록부'!$I$5:$I$1004,'운행기록부'!$C$5:$C$1004,$A9,'운행기록부'!$A$5:$A$1004,">="&IF('운행기록부'!$I$2="",0,'운행기록부'!$I$2),'운행기록부'!$A$5:$A$1004,"<="&IF('운행기록부'!$J$2="",2958465,'운행기록부'!$J$2))) | H9: =IF($A9="","",SUMIFS('운행기록부'!$L$5:$L$1004,'운행기록부'!$C$5:$C$1004,$A9,'운행기록부'!$A$5:$A$1004,">="&IF('운행기록부'!$I$2="",0,'운행기록부'!$I$2),'운행기록부'!$A$5:$A$1004,"<="&IF('운행기록부'!$J$2="",2958465,'운행기록부'!$J$2))) | I9: =IF(OR($A9="",N(G9)=0),"",H9/G9) | J9: =IF($A9="","",SUMIFS('비용 내역'!$E$4:$E$1003,'비용 내역'!$B$4:$B$1003,$A9,'비용 내역'!$D$4:$D$1003,J$4,'비용 내역'!$A$4:$A$1003,">="&IF('운행기록부'!$I$2="",0,'운행기록부'!$I$2),'비용 내역'!$A$4:$A$1003,"<="&IF('운행기록부'!$J$2="",2958465,'운행기록부'!$J$2))) | K9: =IF($A9="","",SUMIFS('비용 내역'!$E$4:$E$1003,'비용 내역'!$B$4:$B$1003,$A9,'비용 내역'!$D$4:$D$1003,K$4,'비용 내역'!$A$4:$A$1003,">="&IF('운행기록부'!$I$2="",0,'운행기록부'!$I$2),'비용 내역'!$A$4:$A$1003,"<="&IF('운행기록부'!$J$2="",2958465,'운행기록부'!$J$2))) | L9: =IF($A9="","",SUMIFS('비용 내역'!$E$4:$E$1003,'비용 내역'!$B$4:$B$1003,$A9,'비용 내역'!$D$4:$D$1003,L$4,'비용 내역'!$A$4:$A$1003,">="&IF('운행기록부'!$I$2="",0,'운행기록부'!$I$2),'비용 내역'!$A$4:$A$1003,"<="&IF('운행기록부'!$J$2="",2958465,'운행기록부'!$J$2))) | M9: =IF($A9="","",SUMIFS('비용 내역'!$E$4:$E$1003,'비용 내역'!$B$4:$B$1003,$A9,'비용 내역'!$D$4:$D$1003,M$4,'비용 내역'!$A$4:$A$1003,">="&IF('운행기록부'!$I$2="",0,'운행기록부'!$I$2),'비용 내역'!$A$4:$A$1003,"<="&IF('운행기록부'!$J$2="",2958465,'운행기록부'!$J$2))) | N9: =IF($A9="","",SUMIFS('비용 내역'!$E$4:$E$1003,'비용 내역'!$B$4:$B$1003,$A9,'비용 내역'!$D$4:$D$1003,N$4,'비용 내역'!$A$4:$A$1003,">="&IF('운행기록부'!$I$2="",0,'운행기록부'!$I$2),'비용 내역'!$A$4:$A$1003,"<="&IF('운행기록부'!$J$2="",2958465,'운행기록부'!$J$2))) | O9: =IF($A9="","",SUMIFS('비용 내역'!$E$4:$E$1003,'비용 내역'!$B$4:$B$1003,$A9,'비용 내역'!$D$4:$D$1003,O$4,'비용 내역'!$A$4:$A$1003,">="&IF('운행기록부'!$I$2="",0,'운행기록부'!$I$2),'비용 내역'!$A$4:$A$1003,"<="&IF('운행기록부'!$J$2="",2958465,'운행기록부'!$J$2))) | P9: =IF($A9="","",SUMIFS('비용 내역'!$E$4:$E$1003,'비용 내역'!$B$4:$B$1003,$A9,'비용 내역'!$D$4:$D$1003,P$4,'비용 내역'!$A$4:$A$1003,">="&IF('운행기록부'!$I$2="",0,'운행기록부'!$I$2),'비용 내역'!$A$4:$A$1003,"<="&IF('운행기록부'!$J$2="",2958465,'운행기록부'!$J$2))) | Q9: =IF($A9="","",SUMIFS('비용 내역'!$E$4:$E$1003,'비용 내역'!$B$4:$B$1003,$A9,'비용 내역'!$D$4:$D$1003,Q$4,'비용 내역'!$A$4:$A$1003,">="&IF('운행기록부'!$I$2="",0,'운행기록부'!$I$2),'비용 내역'!$A$4:$A$1003,"<="&IF('운행기록부'!$J$2="",2958465,'운행기록부'!$J$2))) | R9: =IF($A9="","",SUMIFS('비용 내역'!$E$4:$E$1003,'비용 내역'!$B$4:$B$1003,$A9,'비용 내역'!$D$4:$D$1003,R$4,'비용 내역'!$A$4:$A$1003,">="&IF('운행기록부'!$I$2="",0,'운행기록부'!$I$2),'비용 내역'!$A$4:$A$1003,"<="&IF('운행기록부'!$J$2="",2958465,'운행기록부'!$J$2))) | S9: =IF($A9="","",SUM(J9:R9)) | T9: =IF($A9="","",MID(IF(N(F9)=0," · 운행 기록 없음","")&IF(N(S9)>15000000," · 비용 1,500만 원 초과","")&IF(D9<>"가입"," · 전용보험 확인",""),4,200))
F10: =IF($A10="","",COUNTIFS('운행기록부'!$C$5:$C$1004,$A10,'운행기록부'!$A$5:$A$1004,">="&IF('운행기록부'!$I$2="",0,'운행기록부'!$I$2),'운행기록부'!$A$5:$A$1004,"<="&IF('운행기록부'!$J$2="",2958465,'운행기록부'!$J$2))) | G10: =IF($A10="","",SUMIFS('운행기록부'!$I$5:$I$1004,'운행기록부'!$C$5:$C$1004,$A10,'운행기록부'!$A$5:$A$1004,">="&IF('운행기록부'!$I$2="",0,'운행기록부'!$I$2),'운행기록부'!$A$5:$A$1004,"<="&IF('운행기록부'!$J$2="",2958465,'운행기록부'!$J$2))) | H10: =IF($A10="","",SUMIFS('운행기록부'!$L$5:$L$1004,'운행기록부'!$C$5:$C$1004,$A10,'운행기록부'!$A$5:$A$1004,">="&IF('운행기록부'!$I$2="",0,'운행기록부'!$I$2),'운행기록부'!$A$5:$A$1004,"<="&IF('운행기록부'!$J$2="",2958465,'운행기록부'!$J$2))) | I10: =IF(OR($A10="",N(G10)=0),"",H10/G10) | J10: =IF($A10="","",SUMIFS('비용 내역'!$E$4:$E$1003,'비용 내역'!$B$4:$B$1003,$A10,'비용 내역'!$D$4:$D$1003,J$4,'비용 내역'!$A$4:$A$1003,">="&IF('운행기록부'!$I$2="",0,'운행기록부'!$I$2),'비용 내역'!$A$4:$A$1003,"<="&IF('운행기록부'!$J$2="",2958465,'운행기록부'!$J$2))) | K10: =IF($A10="","",SUMIFS('비용 내역'!$E$4:$E$1003,'비용 내역'!$B$4:$B$1003,$A10,'비용 내역'!$D$4:$D$1003,K$4,'비용 내역'!$A$4:$A$1003,">="&IF('운행기록부'!$I$2="",0,'운행기록부'!$I$2),'비용 내역'!$A$4:$A$1003,"<="&IF('운행기록부'!$J$2="",2958465,'운행기록부'!$J$2))) | L10: =IF($A10="","",SUMIFS('비용 내역'!$E$4:$E$1003,'비용 내역'!$B$4:$B$1003,$A10,'비용 내역'!$D$4:$D$1003,L$4,'비용 내역'!$A$4:$A$1003,">="&IF('운행기록부'!$I$2="",0,'운행기록부'!$I$2),'비용 내역'!$A$4:$A$1003,"<="&IF('운행기록부'!$J$2="",2958465,'운행기록부'!$J$2))) | M10: =IF($A10="","",SUMIFS('비용 내역'!$E$4:$E$1003,'비용 내역'!$B$4:$B$1003,$A10,'비용 내역'!$D$4:$D$1003,M$4,'비용 내역'!$A$4:$A$1003,">="&IF('운행기록부'!$I$2="",0,'운행기록부'!$I$2),'비용 내역'!$A$4:$A$1003,"<="&IF('운행기록부'!$J$2="",2958465,'운행기록부'!$J$2))) | N10: =IF($A10="","",SUMIFS('비용 내역'!$E$4:$E$1003,'비용 내역'!$B$4:$B$1003,$A10,'비용 내역'!$D$4:$D$1003,N$4,'비용 내역'!$A$4:$A$1003,">="&IF('운행기록부'!$I$2="",0,'운행기록부'!$I$2),'비용 내역'!$A$4:$A$1003,"<="&IF('운행기록부'!$J$2="",2958465,'운행기록부'!$J$2))) | O10: =IF($A10="","",SUMIFS('비용 내역'!$E$4:$E$1003,'비용 내역'!$B$4:$B$1003,$A10,'비용 내역'!$D$4:$D$1003,O$4,'비용 내역'!$A$4:$A$1003,">="&IF('운행기록부'!$I$2="",0,'운행기록부'!$I$2),'비용 내역'!$A$4:$A$1003,"<="&IF('운행기록부'!$J$2="",2958465,'운행기록부'!$J$2))) | P10: =IF($A10="","",SUMIFS('비용 내역'!$E$4:$E$1003,'비용 내역'!$B$4:$B$1003,$A10,'비용 내역'!$D$4:$D$1003,P$4,'비용 내역'!$A$4:$A$1003,">="&IF('운행기록부'!$I$2="",0,'운행기록부'!$I$2),'비용 내역'!$A$4:$A$1003,"<="&IF('운행기록부'!$J$2="",2958465,'운행기록부'!$J$2))) | Q10: =IF($A10="","",SUMIFS('비용 내역'!$E$4:$E$1003,'비용 내역'!$B$4:$B$1003,$A10,'비용 내역'!$D$4:$D$1003,Q$4,'비용 내역'!$A$4:$A$1003,">="&IF('운행기록부'!$I$2="",0,'운행기록부'!$I$2),'비용 내역'!$A$4:$A$1003,"<="&IF('운행기록부'!$J$2="",2958465,'운행기록부'!$J$2))) | R10: =IF($A10="","",SUMIFS('비용 내역'!$E$4:$E$1003,'비용 내역'!$B$4:$B$1003,$A10,'비용 내역'!$D$4:$D$1003,R$4,'비용 내역'!$A$4:$A$1003,">="&IF('운행기록부'!$I$2="",0,'운행기록부'!$I$2),'비용 내역'!$A$4:$A$1003,"<="&IF('운행기록부'!$J$2="",2958465,'운행기록부'!$J$2))) | S10: =IF($A10="","",SUM(J10:R10)) | T10: =IF($A10="","",MID(IF(N(F10)=0," · 운행 기록 없음","")&IF(N(S10)>15000000," · 비용 1,500만 원 초과","")&IF(D10<>"가입"," · 전용보험 확인",""),4,200))
F11: =IF($A11="","",COUNTIFS('운행기록부'!$C$5:$C$1004,$A11,'운행기록부'!$A$5:$A$1004,">="&IF('운행기록부'!$I$2="",0,'운행기록부'!$I$2),'운행기록부'!$A$5:$A$1004,"<="&IF('운행기록부'!$J$2="",2958465,'운행기록부'!$J$2))) | G11: =IF($A11="","",SUMIFS('운행기록부'!$I$5:$I$1004,'운행기록부'!$C$5:$C$1004,$A11,'운행기록부'!$A$5:$A$1004,">="&IF('운행기록부'!$I$2="",0,'운행기록부'!$I$2),'운행기록부'!$A$5:$A$1004,"<="&IF('운행기록부'!$J$2="",2958465,'운행기록부'!$J$2))) | H11: =IF($A11="","",SUMIFS('운행기록부'!$L$5:$L$1004,'운행기록부'!$C$5:$C$1004,$A11,'운행기록부'!$A$5:$A$1004,">="&IF('운행기록부'!$I$2="",0,'운행기록부'!$I$2),'운행기록부'!$A$5:$A$1004,"<="&IF('운행기록부'!$J$2="",2958465,'운행기록부'!$J$2))) | I11: =IF(OR($A11="",N(G11)=0),"",H11/G11) | J11: =IF($A11="","",SUMIFS('비용 내역'!$E$4:$E$1003,'비용 내역'!$B$4:$B$1003,$A11,'비용 내역'!$D$4:$D$1003,J$4,'비용 내역'!$A$4:$A$1003,">="&IF('운행기록부'!$I$2="",0,'운행기록부'!$I$2),'비용 내역'!$A$4:$A$1003,"<="&IF('운행기록부'!$J$2="",2958465,'운행기록부'!$J$2))) | K11: =IF($A11="","",SUMIFS('비용 내역'!$E$4:$E$1003,'비용 내역'!$B$4:$B$1003,$A11,'비용 내역'!$D$4:$D$1003,K$4,'비용 내역'!$A$4:$A$1003,">="&IF('운행기록부'!$I$2="",0,'운행기록부'!$I$2),'비용 내역'!$A$4:$A$1003,"<="&IF('운행기록부'!$J$2="",2958465,'운행기록부'!$J$2))) | L11: =IF($A11="","",SUMIFS('비용 내역'!$E$4:$E$1003,'비용 내역'!$B$4:$B$1003,$A11,'비용 내역'!$D$4:$D$1003,L$4,'비용 내역'!$A$4:$A$1003,">="&IF('운행기록부'!$I$2="",0,'운행기록부'!$I$2),'비용 내역'!$A$4:$A$1003,"<="&IF('운행기록부'!$J$2="",2958465,'운행기록부'!$J$2))) | M11: =IF($A11="","",SUMIFS('비용 내역'!$E$4:$E$1003,'비용 내역'!$B$4:$B$1003,$A11,'비용 내역'!$D$4:$D$1003,M$4,'비용 내역'!$A$4:$A$1003,">="&IF('운행기록부'!$I$2="",0,'운행기록부'!$I$2),'비용 내역'!$A$4:$A$1003,"<="&IF('운행기록부'!$J$2="",2958465,'운행기록부'!$J$2))) | N11: =IF($A11="","",SUMIFS('비용 내역'!$E$4:$E$1003,'비용 내역'!$B$4:$B$1003,$A11,'비용 내역'!$D$4:$D$1003,N$4,'비용 내역'!$A$4:$A$1003,">="&IF('운행기록부'!$I$2="",0,'운행기록부'!$I$2),'비용 내역'!$A$4:$A$1003,"<="&IF('운행기록부'!$J$2="",2958465,'운행기록부'!$J$2))) | O11: =IF($A11="","",SUMIFS('비용 내역'!$E$4:$E$1003,'비용 내역'!$B$4:$B$1003,$A11,'비용 내역'!$D$4:$D$1003,O$4,'비용 내역'!$A$4:$A$1003,">="&IF('운행기록부'!$I$2="",0,'운행기록부'!$I$2),'비용 내역'!$A$4:$A$1003,"<="&IF('운행기록부'!$J$2="",2958465,'운행기록부'!$J$2))) | P11: =IF($A11="","",SUMIFS('비용 내역'!$E$4:$E$1003,'비용 내역'!$B$4:$B$1003,$A11,'비용 내역'!$D$4:$D$1003,P$4,'비용 내역'!$A$4:$A$1003,">="&IF('운행기록부'!$I$2="",0,'운행기록부'!$I$2),'비용 내역'!$A$4:$A$1003,"<="&IF('운행기록부'!$J$2="",2958465,'운행기록부'!$J$2))) | Q11: =IF($A11="","",SUMIFS('비용 내역'!$E$4:$E$1003,'비용 내역'!$B$4:$B$1003,$A11,'비용 내역'!$D$4:$D$1003,Q$4,'비용 내역'!$A$4:$A$1003,">="&IF('운행기록부'!$I$2="",0,'운행기록부'!$I$2),'비용 내역'!$A$4:$A$1003,"<="&IF('운행기록부'!$J$2="",2958465,'운행기록부'!$J$2))) | R11: =IF($A11="","",SUMIFS('비용 내역'!$E$4:$E$1003,'비용 내역'!$B$4:$B$1003,$A11,'비용 내역'!$D$4:$D$1003,R$4,'비용 내역'!$A$4:$A$1003,">="&IF('운행기록부'!$I$2="",0,'운행기록부'!$I$2),'비용 내역'!$A$4:$A$1003,"<="&IF('운행기록부'!$J$2="",2958465,'운행기록부'!$J$2))) | S11: =IF($A11="","",SUM(J11:R11)) | T11: =IF($A11="","",MID(IF(N(F11)=0," · 운행 기록 없음","")&IF(N(S11)>15000000," · 비용 1,500만 원 초과","")&IF(D11<>"가입"," · 전용보험 확인",""),4,200))
F12: =IF($A12="","",COUNTIFS('운행기록부'!$C$5:$C$1004,$A12,'운행기록부'!$A$5:$A$1004,">="&IF('운행기록부'!$I$2="",0,'운행기록부'!$I$2),'운행기록부'!$A$5:$A$1004,"<="&IF('운행기록부'!$J$2="",2958465,'운행기록부'!$J$2))) | G12: =IF($A12="","",SUMIFS('운행기록부'!$I$5:$I$1004,'운행기록부'!$C$5:$C$1004,$A12,'운행기록부'!$A$5:$A$1004,">="&IF('운행기록부'!$I$2="",0,'운행기록부'!$I$2),'운행기록부'!$A$5:$A$1004,"<="&IF('운행기록부'!$J$2="",2958465,'운행기록부'!$J$2))) | H12: =IF($A12="","",SUMIFS('운행기록부'!$L$5:$L$1004,'운행기록부'!$C$5:$C$1004,$A12,'운행기록부'!$A$5:$A$1004,">="&IF('운행기록부'!$I$2="",0,'운행기록부'!$I$2),'운행기록부'!$A$5:$A$1004,"<="&IF('운행기록부'!$J$2="",2958465,'운행기록부'!$J$2))) | I12: =IF(OR($A12="",N(G12)=0),"",H12/G12) | J12: =IF($A12="","",SUMIFS('비용 내역'!$E$4:$E$1003,'비용 내역'!$B$4:$B$1003,$A12,'비용 내역'!$D$4:$D$1003,J$4,'비용 내역'!$A$4:$A$1003,">="&IF('운행기록부'!$I$2="",0,'운행기록부'!$I$2),'비용 내역'!$A$4:$A$1003,"<="&IF('운행기록부'!$J$2="",2958465,'운행기록부'!$J$2))) | K12: =IF($A12="","",SUMIFS('비용 내역'!$E$4:$E$1003,'비용 내역'!$B$4:$B$1003,$A12,'비용 내역'!$D$4:$D$1003,K$4,'비용 내역'!$A$4:$A$1003,">="&IF('운행기록부'!$I$2="",0,'운행기록부'!$I$2),'비용 내역'!$A$4:$A$1003,"<="&IF('운행기록부'!$J$2="",2958465,'운행기록부'!$J$2))) | L12: =IF($A12="","",SUMIFS('비용 내역'!$E$4:$E$1003,'비용 내역'!$B$4:$B$1003,$A12,'비용 내역'!$D$4:$D$1003,L$4,'비용 내역'!$A$4:$A$1003,">="&IF('운행기록부'!$I$2="",0,'운행기록부'!$I$2),'비용 내역'!$A$4:$A$1003,"<="&IF('운행기록부'!$J$2="",2958465,'운행기록부'!$J$2))) | M12: =IF($A12="","",SUMIFS('비용 내역'!$E$4:$E$1003,'비용 내역'!$B$4:$B$1003,$A12,'비용 내역'!$D$4:$D$1003,M$4,'비용 내역'!$A$4:$A$1003,">="&IF('운행기록부'!$I$2="",0,'운행기록부'!$I$2),'비용 내역'!$A$4:$A$1003,"<="&IF('운행기록부'!$J$2="",2958465,'운행기록부'!$J$2))) | N12: =IF($A12="","",SUMIFS('비용 내역'!$E$4:$E$1003,'비용 내역'!$B$4:$B$1003,$A12,'비용 내역'!$D$4:$D$1003,N$4,'비용 내역'!$A$4:$A$1003,">="&IF('운행기록부'!$I$2="",0,'운행기록부'!$I$2),'비용 내역'!$A$4:$A$1003,"<="&IF('운행기록부'!$J$2="",2958465,'운행기록부'!$J$2))) | O12: =IF($A12="","",SUMIFS('비용 내역'!$E$4:$E$1003,'비용 내역'!$B$4:$B$1003,$A12,'비용 내역'!$D$4:$D$1003,O$4,'비용 내역'!$A$4:$A$1003,">="&IF('운행기록부'!$I$2="",0,'운행기록부'!$I$2),'비용 내역'!$A$4:$A$1003,"<="&IF('운행기록부'!$J$2="",2958465,'운행기록부'!$J$2))) | P12: =IF($A12="","",SUMIFS('비용 내역'!$E$4:$E$1003,'비용 내역'!$B$4:$B$1003,$A12,'비용 내역'!$D$4:$D$1003,P$4,'비용 내역'!$A$4:$A$1003,">="&IF('운행기록부'!$I$2="",0,'운행기록부'!$I$2),'비용 내역'!$A$4:$A$1003,"<="&IF('운행기록부'!$J$2="",2958465,'운행기록부'!$J$2))) | Q12: =IF($A12="","",SUMIFS('비용 내역'!$E$4:$E$1003,'비용 내역'!$B$4:$B$1003,$A12,'비용 내역'!$D$4:$D$1003,Q$4,'비용 내역'!$A$4:$A$1003,">="&IF('운행기록부'!$I$2="",0,'운행기록부'!$I$2),'비용 내역'!$A$4:$A$1003,"<="&IF('운행기록부'!$J$2="",2958465,'운행기록부'!$J$2))) | R12: =IF($A12="","",SUMIFS('비용 내역'!$E$4:$E$1003,'비용 내역'!$B$4:$B$1003,$A12,'비용 내역'!$D$4:$D$1003,R$4,'비용 내역'!$A$4:$A$1003,">="&IF('운행기록부'!$I$2="",0,'운행기록부'!$I$2),'비용 내역'!$A$4:$A$1003,"<="&IF('운행기록부'!$J$2="",2958465,'운행기록부'!$J$2))) | S12: =IF($A12="","",SUM(J12:R12)) | T12: =IF($A12="","",MID(IF(N(F12)=0," · 운행 기록 없음","")&IF(N(S12)>15000000," · 비용 1,500만 원 초과","")&IF(D12<>"가입"," · 전용보험 확인",""),4,200))
F13: =IF($A13="","",COUNTIFS('운행기록부'!$C$5:$C$1004,$A13,'운행기록부'!$A$5:$A$1004,">="&IF('운행기록부'!$I$2="",0,'운행기록부'!$I$2),'운행기록부'!$A$5:$A$1004,"<="&IF('운행기록부'!$J$2="",2958465,'운행기록부'!$J$2))) | G13: =IF($A13="","",SUMIFS('운행기록부'!$I$5:$I$1004,'운행기록부'!$C$5:$C$1004,$A13,'운행기록부'!$A$5:$A$1004,">="&IF('운행기록부'!$I$2="",0,'운행기록부'!$I$2),'운행기록부'!$A$5:$A$1004,"<="&IF('운행기록부'!$J$2="",2958465,'운행기록부'!$J$2))) | H13: =IF($A13="","",SUMIFS('운행기록부'!$L$5:$L$1004,'운행기록부'!$C$5:$C$1004,$A13,'운행기록부'!$A$5:$A$1004,">="&IF('운행기록부'!$I$2="",0,'운행기록부'!$I$2),'운행기록부'!$A$5:$A$1004,"<="&IF('운행기록부'!$J$2="",2958465,'운행기록부'!$J$2))) | I13: =IF(OR($A13="",N(G13)=0),"",H13/G13) | J13: =IF($A13="","",SUMIFS('비용 내역'!$E$4:$E$1003,'비용 내역'!$B$4:$B$1003,$A13,'비용 내역'!$D$4:$D$1003,J$4,'비용 내역'!$A$4:$A$1003,">="&IF('운행기록부'!$I$2="",0,'운행기록부'!$I$2),'비용 내역'!$A$4:$A$1003,"<="&IF('운행기록부'!$J$2="",2958465,'운행기록부'!$J$2))) | K13: =IF($A13="","",SUMIFS('비용 내역'!$E$4:$E$1003,'비용 내역'!$B$4:$B$1003,$A13,'비용 내역'!$D$4:$D$1003,K$4,'비용 내역'!$A$4:$A$1003,">="&IF('운행기록부'!$I$2="",0,'운행기록부'!$I$2),'비용 내역'!$A$4:$A$1003,"<="&IF('운행기록부'!$J$2="",2958465,'운행기록부'!$J$2))) | L13: =IF($A13="","",SUMIFS('비용 내역'!$E$4:$E$1003,'비용 내역'!$B$4:$B$1003,$A13,'비용 내역'!$D$4:$D$1003,L$4,'비용 내역'!$A$4:$A$1003,">="&IF('운행기록부'!$I$2="",0,'운행기록부'!$I$2),'비용 내역'!$A$4:$A$1003,"<="&IF('운행기록부'!$J$2="",2958465,'운행기록부'!$J$2))) | M13: =IF($A13="","",SUMIFS('비용 내역'!$E$4:$E$1003,'비용 내역'!$B$4:$B$1003,$A13,'비용 내역'!$D$4:$D$1003,M$4,'비용 내역'!$A$4:$A$1003,">="&IF('운행기록부'!$I$2="",0,'운행기록부'!$I$2),'비용 내역'!$A$4:$A$1003,"<="&IF('운행기록부'!$J$2="",2958465,'운행기록부'!$J$2))) | N13: =IF($A13="","",SUMIFS('비용 내역'!$E$4:$E$1003,'비용 내역'!$B$4:$B$1003,$A13,'비용 내역'!$D$4:$D$1003,N$4,'비용 내역'!$A$4:$A$1003,">="&IF('운행기록부'!$I$2="",0,'운행기록부'!$I$2),'비용 내역'!$A$4:$A$1003,"<="&IF('운행기록부'!$J$2="",2958465,'운행기록부'!$J$2))) | O13: =IF($A13="","",SUMIFS('비용 내역'!$E$4:$E$1003,'비용 내역'!$B$4:$B$1003,$A13,'비용 내역'!$D$4:$D$1003,O$4,'비용 내역'!$A$4:$A$1003,">="&IF('운행기록부'!$I$2="",0,'운행기록부'!$I$2),'비용 내역'!$A$4:$A$1003,"<="&IF('운행기록부'!$J$2="",2958465,'운행기록부'!$J$2))) | P13: =IF($A13="","",SUMIFS('비용 내역'!$E$4:$E$1003,'비용 내역'!$B$4:$B$1003,$A13,'비용 내역'!$D$4:$D$1003,P$4,'비용 내역'!$A$4:$A$1003,">="&IF('운행기록부'!$I$2="",0,'운행기록부'!$I$2),'비용 내역'!$A$4:$A$1003,"<="&IF('운행기록부'!$J$2="",2958465,'운행기록부'!$J$2))) | Q13: =IF($A13="","",SUMIFS('비용 내역'!$E$4:$E$1003,'비용 내역'!$B$4:$B$1003,$A13,'비용 내역'!$D$4:$D$1003,Q$4,'비용 내역'!$A$4:$A$1003,">="&IF('운행기록부'!$I$2="",0,'운행기록부'!$I$2),'비용 내역'!$A$4:$A$1003,"<="&IF('운행기록부'!$J$2="",2958465,'운행기록부'!$J$2))) | R13: =IF($A13="","",SUMIFS('비용 내역'!$E$4:$E$1003,'비용 내역'!$B$4:$B$1003,$A13,'비용 내역'!$D$4:$D$1003,R$4,'비용 내역'!$A$4:$A$1003,">="&IF('운행기록부'!$I$2="",0,'운행기록부'!$I$2),'비용 내역'!$A$4:$A$1003,"<="&IF('운행기록부'!$J$2="",2958465,'운행기록부'!$J$2))) | S13: =IF($A13="","",SUM(J13:R13)) | T13: =IF($A13="","",MID(IF(N(F13)=0," · 운행 기록 없음","")&IF(N(S13)>15000000," · 비용 1,500만 원 초과","")&IF(D13<>"가입"," · 전용보험 확인",""),4,200))
F14: =IF($A14="","",COUNTIFS('운행기록부'!$C$5:$C$1004,$A14,'운행기록부'!$A$5:$A$1004,">="&IF('운행기록부'!$I$2="",0,'운행기록부'!$I$2),'운행기록부'!$A$5:$A$1004,"<="&IF('운행기록부'!$J$2="",2958465,'운행기록부'!$J$2))) | G14: =IF($A14="","",SUMIFS('운행기록부'!$I$5:$I$1004,'운행기록부'!$C$5:$C$1004,$A14,'운행기록부'!$A$5:$A$1004,">="&IF('운행기록부'!$I$2="",0,'운행기록부'!$I$2),'운행기록부'!$A$5:$A$1004,"<="&IF('운행기록부'!$J$2="",2958465,'운행기록부'!$J$2))) | H14: =IF($A14="","",SUMIFS('운행기록부'!$L$5:$L$1004,'운행기록부'!$C$5:$C$1004,$A14,'운행기록부'!$A$5:$A$1004,">="&IF('운행기록부'!$I$2="",0,'운행기록부'!$I$2),'운행기록부'!$A$5:$A$1004,"<="&IF('운행기록부'!$J$2="",2958465,'운행기록부'!$J$2))) | I14: =IF(OR($A14="",N(G14)=0),"",H14/G14) | J14: =IF($A14="","",SUMIFS('비용 내역'!$E$4:$E$1003,'비용 내역'!$B$4:$B$1003,$A14,'비용 내역'!$D$4:$D$1003,J$4,'비용 내역'!$A$4:$A$1003,">="&IF('운행기록부'!$I$2="",0,'운행기록부'!$I$2),'비용 내역'!$A$4:$A$1003,"<="&IF('운행기록부'!$J$2="",2958465,'운행기록부'!$J$2))) | K14: =IF($A14="","",SUMIFS('비용 내역'!$E$4:$E$1003,'비용 내역'!$B$4:$B$1003,$A14,'비용 내역'!$D$4:$D$1003,K$4,'비용 내역'!$A$4:$A$1003,">="&IF('운행기록부'!$I$2="",0,'운행기록부'!$I$2),'비용 내역'!$A$4:$A$1003,"<="&IF('운행기록부'!$J$2="",2958465,'운행기록부'!$J$2))) | L14: =IF($A14="","",SUMIFS('비용 내역'!$E$4:$E$1003,'비용 내역'!$B$4:$B$1003,$A14,'비용 내역'!$D$4:$D$1003,L$4,'비용 내역'!$A$4:$A$1003,">="&IF('운행기록부'!$I$2="",0,'운행기록부'!$I$2),'비용 내역'!$A$4:$A$1003,"<="&IF('운행기록부'!$J$2="",2958465,'운행기록부'!$J$2))) | M14: =IF($A14="","",SUMIFS('비용 내역'!$E$4:$E$1003,'비용 내역'!$B$4:$B$1003,$A14,'비용 내역'!$D$4:$D$1003,M$4,'비용 내역'!$A$4:$A$1003,">="&IF('운행기록부'!$I$2="",0,'운행기록부'!$I$2),'비용 내역'!$A$4:$A$1003,"<="&IF('운행기록부'!$J$2="",2958465,'운행기록부'!$J$2))) | N14: =IF($A14="","",SUMIFS('비용 내역'!$E$4:$E$1003,'비용 내역'!$B$4:$B$1003,$A14,'비용 내역'!$D$4:$D$1003,N$4,'비용 내역'!$A$4:$A$1003,">="&IF('운행기록부'!$I$2="",0,'운행기록부'!$I$2),'비용 내역'!$A$4:$A$1003,"<="&IF('운행기록부'!$J$2="",2958465,'운행기록부'!$J$2))) | O14: =IF($A14="","",SUMIFS('비용 내역'!$E$4:$E$1003,'비용 내역'!$B$4:$B$1003,$A14,'비용 내역'!$D$4:$D$1003,O$4,'비용 내역'!$A$4:$A$1003,">="&IF('운행기록부'!$I$2="",0,'운행기록부'!$I$2),'비용 내역'!$A$4:$A$1003,"<="&IF('운행기록부'!$J$2="",2958465,'운행기록부'!$J$2))) | P14: =IF($A14="","",SUMIFS('비용 내역'!$E$4:$E$1003,'비용 내역'!$B$4:$B$1003,$A14,'비용 내역'!$D$4:$D$1003,P$4,'비용 내역'!$A$4:$A$1003,">="&IF('운행기록부'!$I$2="",0,'운행기록부'!$I$2),'비용 내역'!$A$4:$A$1003,"<="&IF('운행기록부'!$J$2="",2958465,'운행기록부'!$J$2))) | Q14: =IF($A14="","",SUMIFS('비용 내역'!$E$4:$E$1003,'비용 내역'!$B$4:$B$1003,$A14,'비용 내역'!$D$4:$D$1003,Q$4,'비용 내역'!$A$4:$A$1003,">="&IF('운행기록부'!$I$2="",0,'운행기록부'!$I$2),'비용 내역'!$A$4:$A$1003,"<="&IF('운행기록부'!$J$2="",2958465,'운행기록부'!$J$2))) | R14: =IF($A14="","",SUMIFS('비용 내역'!$E$4:$E$1003,'비용 내역'!$B$4:$B$1003,$A14,'비용 내역'!$D$4:$D$1003,R$4,'비용 내역'!$A$4:$A$1003,">="&IF('운행기록부'!$I$2="",0,'운행기록부'!$I$2),'비용 내역'!$A$4:$A$1003,"<="&IF('운행기록부'!$J$2="",2958465,'운행기록부'!$J$2))) | S14: =IF($A14="","",SUM(J14:R14)) | T14: =IF($A14="","",MID(IF(N(F14)=0," · 운행 기록 없음","")&IF(N(S14)>15000000," · 비용 1,500만 원 초과","")&IF(D14<>"가입"," · 전용보험 확인",""),4,200))
F15: =IF($A15="","",COUNTIFS('운행기록부'!$C$5:$C$1004,$A15,'운행기록부'!$A$5:$A$1004,">="&IF('운행기록부'!$I$2="",0,'운행기록부'!$I$2),'운행기록부'!$A$5:$A$1004,"<="&IF('운행기록부'!$J$2="",2958465,'운행기록부'!$J$2))) | G15: =IF($A15="","",SUMIFS('운행기록부'!$I$5:$I$1004,'운행기록부'!$C$5:$C$1004,$A15,'운행기록부'!$A$5:$A$1004,">="&IF('운행기록부'!$I$2="",0,'운행기록부'!$I$2),'운행기록부'!$A$5:$A$1004,"<="&IF('운행기록부'!$J$2="",2958465,'운행기록부'!$J$2))) | H15: =IF($A15="","",SUMIFS('운행기록부'!$L$5:$L$1004,'운행기록부'!$C$5:$C$1004,$A15,'운행기록부'!$A$5:$A$1004,">="&IF('운행기록부'!$I$2="",0,'운행기록부'!$I$2),'운행기록부'!$A$5:$A$1004,"<="&IF('운행기록부'!$J$2="",2958465,'운행기록부'!$J$2))) | I15: =IF(OR($A15="",N(G15)=0),"",H15/G15) | J15: =IF($A15="","",SUMIFS('비용 내역'!$E$4:$E$1003,'비용 내역'!$B$4:$B$1003,$A15,'비용 내역'!$D$4:$D$1003,J$4,'비용 내역'!$A$4:$A$1003,">="&IF('운행기록부'!$I$2="",0,'운행기록부'!$I$2),'비용 내역'!$A$4:$A$1003,"<="&IF('운행기록부'!$J$2="",2958465,'운행기록부'!$J$2))) | K15: =IF($A15="","",SUMIFS('비용 내역'!$E$4:$E$1003,'비용 내역'!$B$4:$B$1003,$A15,'비용 내역'!$D$4:$D$1003,K$4,'비용 내역'!$A$4:$A$1003,">="&IF('운행기록부'!$I$2="",0,'운행기록부'!$I$2),'비용 내역'!$A$4:$A$1003,"<="&IF('운행기록부'!$J$2="",2958465,'운행기록부'!$J$2))) | L15: =IF($A15="","",SUMIFS('비용 내역'!$E$4:$E$1003,'비용 내역'!$B$4:$B$1003,$A15,'비용 내역'!$D$4:$D$1003,L$4,'비용 내역'!$A$4:$A$1003,">="&IF('운행기록부'!$I$2="",0,'운행기록부'!$I$2),'비용 내역'!$A$4:$A$1003,"<="&IF('운행기록부'!$J$2="",2958465,'운행기록부'!$J$2))) | M15: =IF($A15="","",SUMIFS('비용 내역'!$E$4:$E$1003,'비용 내역'!$B$4:$B$1003,$A15,'비용 내역'!$D$4:$D$1003,M$4,'비용 내역'!$A$4:$A$1003,">="&IF('운행기록부'!$I$2="",0,'운행기록부'!$I$2),'비용 내역'!$A$4:$A$1003,"<="&IF('운행기록부'!$J$2="",2958465,'운행기록부'!$J$2))) | N15: =IF($A15="","",SUMIFS('비용 내역'!$E$4:$E$1003,'비용 내역'!$B$4:$B$1003,$A15,'비용 내역'!$D$4:$D$1003,N$4,'비용 내역'!$A$4:$A$1003,">="&IF('운행기록부'!$I$2="",0,'운행기록부'!$I$2),'비용 내역'!$A$4:$A$1003,"<="&IF('운행기록부'!$J$2="",2958465,'운행기록부'!$J$2))) | O15: =IF($A15="","",SUMIFS('비용 내역'!$E$4:$E$1003,'비용 내역'!$B$4:$B$1003,$A15,'비용 내역'!$D$4:$D$1003,O$4,'비용 내역'!$A$4:$A$1003,">="&IF('운행기록부'!$I$2="",0,'운행기록부'!$I$2),'비용 내역'!$A$4:$A$1003,"<="&IF('운행기록부'!$J$2="",2958465,'운행기록부'!$J$2))) | P15: =IF($A15="","",SUMIFS('비용 내역'!$E$4:$E$1003,'비용 내역'!$B$4:$B$1003,$A15,'비용 내역'!$D$4:$D$1003,P$4,'비용 내역'!$A$4:$A$1003,">="&IF('운행기록부'!$I$2="",0,'운행기록부'!$I$2),'비용 내역'!$A$4:$A$1003,"<="&IF('운행기록부'!$J$2="",2958465,'운행기록부'!$J$2))) | Q15: =IF($A15="","",SUMIFS('비용 내역'!$E$4:$E$1003,'비용 내역'!$B$4:$B$1003,$A15,'비용 내역'!$D$4:$D$1003,Q$4,'비용 내역'!$A$4:$A$1003,">="&IF('운행기록부'!$I$2="",0,'운행기록부'!$I$2),'비용 내역'!$A$4:$A$1003,"<="&IF('운행기록부'!$J$2="",2958465,'운행기록부'!$J$2))) | R15: =IF($A15="","",SUMIFS('비용 내역'!$E$4:$E$1003,'비용 내역'!$B$4:$B$1003,$A15,'비용 내역'!$D$4:$D$1003,R$4,'비용 내역'!$A$4:$A$1003,">="&IF('운행기록부'!$I$2="",0,'운행기록부'!$I$2),'비용 내역'!$A$4:$A$1003,"<="&IF('운행기록부'!$J$2="",2958465,'운행기록부'!$J$2))) | S15: =IF($A15="","",SUM(J15:R15)) | T15: =IF($A15="","",MID(IF(N(F15)=0," · 운행 기록 없음","")&IF(N(S15)>15000000," · 비용 1,500만 원 초과","")&IF(D15<>"가입"," · 전용보험 확인",""),4,200))
F16: =IF($A16="","",COUNTIFS('운행기록부'!$C$5:$C$1004,$A16,'운행기록부'!$A$5:$A$1004,">="&IF('운행기록부'!$I$2="",0,'운행기록부'!$I$2),'운행기록부'!$A$5:$A$1004,"<="&IF('운행기록부'!$J$2="",2958465,'운행기록부'!$J$2))) | G16: =IF($A16="","",SUMIFS('운행기록부'!$I$5:$I$1004,'운행기록부'!$C$5:$C$1004,$A16,'운행기록부'!$A$5:$A$1004,">="&IF('운행기록부'!$I$2="",0,'운행기록부'!$I$2),'운행기록부'!$A$5:$A$1004,"<="&IF('운행기록부'!$J$2="",2958465,'운행기록부'!$J$2))) | H16: =IF($A16="","",SUMIFS('운행기록부'!$L$5:$L$1004,'운행기록부'!$C$5:$C$1004,$A16,'운행기록부'!$A$5:$A$1004,">="&IF('운행기록부'!$I$2="",0,'운행기록부'!$I$2),'운행기록부'!$A$5:$A$1004,"<="&IF('운행기록부'!$J$2="",2958465,'운행기록부'!$J$2))) | I16: =IF(OR($A16="",N(G16)=0),"",H16/G16) | J16: =IF($A16="","",SUMIFS('비용 내역'!$E$4:$E$1003,'비용 내역'!$B$4:$B$1003,$A16,'비용 내역'!$D$4:$D$1003,J$4,'비용 내역'!$A$4:$A$1003,">="&IF('운행기록부'!$I$2="",0,'운행기록부'!$I$2),'비용 내역'!$A$4:$A$1003,"<="&IF('운행기록부'!$J$2="",2958465,'운행기록부'!$J$2))) | K16: =IF($A16="","",SUMIFS('비용 내역'!$E$4:$E$1003,'비용 내역'!$B$4:$B$1003,$A16,'비용 내역'!$D$4:$D$1003,K$4,'비용 내역'!$A$4:$A$1003,">="&IF('운행기록부'!$I$2="",0,'운행기록부'!$I$2),'비용 내역'!$A$4:$A$1003,"<="&IF('운행기록부'!$J$2="",2958465,'운행기록부'!$J$2))) | L16: =IF($A16="","",SUMIFS('비용 내역'!$E$4:$E$1003,'비용 내역'!$B$4:$B$1003,$A16,'비용 내역'!$D$4:$D$1003,L$4,'비용 내역'!$A$4:$A$1003,">="&IF('운행기록부'!$I$2="",0,'운행기록부'!$I$2),'비용 내역'!$A$4:$A$1003,"<="&IF('운행기록부'!$J$2="",2958465,'운행기록부'!$J$2))) | M16: =IF($A16="","",SUMIFS('비용 내역'!$E$4:$E$1003,'비용 내역'!$B$4:$B$1003,$A16,'비용 내역'!$D$4:$D$1003,M$4,'비용 내역'!$A$4:$A$1003,">="&IF('운행기록부'!$I$2="",0,'운행기록부'!$I$2),'비용 내역'!$A$4:$A$1003,"<="&IF('운행기록부'!$J$2="",2958465,'운행기록부'!$J$2))) | N16: =IF($A16="","",SUMIFS('비용 내역'!$E$4:$E$1003,'비용 내역'!$B$4:$B$1003,$A16,'비용 내역'!$D$4:$D$1003,N$4,'비용 내역'!$A$4:$A$1003,">="&IF('운행기록부'!$I$2="",0,'운행기록부'!$I$2),'비용 내역'!$A$4:$A$1003,"<="&IF('운행기록부'!$J$2="",2958465,'운행기록부'!$J$2))) | O16: =IF($A16="","",SUMIFS('비용 내역'!$E$4:$E$1003,'비용 내역'!$B$4:$B$1003,$A16,'비용 내역'!$D$4:$D$1003,O$4,'비용 내역'!$A$4:$A$1003,">="&IF('운행기록부'!$I$2="",0,'운행기록부'!$I$2),'비용 내역'!$A$4:$A$1003,"<="&IF('운행기록부'!$J$2="",2958465,'운행기록부'!$J$2))) | P16: =IF($A16="","",SUMIFS('비용 내역'!$E$4:$E$1003,'비용 내역'!$B$4:$B$1003,$A16,'비용 내역'!$D$4:$D$1003,P$4,'비용 내역'!$A$4:$A$1003,">="&IF('운행기록부'!$I$2="",0,'운행기록부'!$I$2),'비용 내역'!$A$4:$A$1003,"<="&IF('운행기록부'!$J$2="",2958465,'운행기록부'!$J$2))) | Q16: =IF($A16="","",SUMIFS('비용 내역'!$E$4:$E$1003,'비용 내역'!$B$4:$B$1003,$A16,'비용 내역'!$D$4:$D$1003,Q$4,'비용 내역'!$A$4:$A$1003,">="&IF('운행기록부'!$I$2="",0,'운행기록부'!$I$2),'비용 내역'!$A$4:$A$1003,"<="&IF('운행기록부'!$J$2="",2958465,'운행기록부'!$J$2))) | R16: =IF($A16="","",SUMIFS('비용 내역'!$E$4:$E$1003,'비용 내역'!$B$4:$B$1003,$A16,'비용 내역'!$D$4:$D$1003,R$4,'비용 내역'!$A$4:$A$1003,">="&IF('운행기록부'!$I$2="",0,'운행기록부'!$I$2),'비용 내역'!$A$4:$A$1003,"<="&IF('운행기록부'!$J$2="",2958465,'운행기록부'!$J$2))) | S16: =IF($A16="","",SUM(J16:R16)) | T16: =IF($A16="","",MID(IF(N(F16)=0," · 운행 기록 없음","")&IF(N(S16)>15000000," · 비용 1,500만 원 초과","")&IF(D16<>"가입"," · 전용보험 확인",""),4,200))
... F24: =IF($A24="","",COUNTIFS('운행기록부'!$C$5:$C$1004,$A24,'운행기록부'!$A$5:$A$1004,">="&IF('운행기록부'!$I$2="",0,'운행기록부'!$I$2),'운행기록부'!$A$5:$A$1004,"<="&IF('운행기록부'!$J$2="",2958465,'운행기록부'!$J$2))) | G24: =IF($A24="","",SUMIFS('운행기록부'!$I$5:$I$1004,'운행기록부'!$C$5:$C$1004,$A24,'운행기록부'!$A$5:$A$1004,">="&IF('운행기록부'!$I$2="",0,'운행기록부'!$I$2),'운행기록부'!$A$5:$A$1004,"<="&IF('운행기록부'!$J$2="",2958465,'운행기록부'!$J$2))) | H24: =IF($A24="","",SUMIFS('운행기록부'!$L$5:$L$1004,'운행기록부'!$C$5:$C$1004,$A24,'운행기록부'!$A$5:$A$1004,">="&IF('운행기록부'!$I$2="",0,'운행기록부'!$I$2),'운행기록부'!$A$5:$A$1004,"<="&IF('운행기록부'!$J$2="",2958465,'운행기록부'!$J$2))) | I24: =IF(OR($A24="",N(G24)=0),"",H24/G24) | J24: =IF($A24="","",SUMIFS('비용 내역'!$E$4:$E$1003,'비용 내역'!$B$4:$B$1003,$A24,'비용 내역'!$D$4:$D$1003,J$4,'비용 내역'!$A$4:$A$1003,">="&IF('운행기록부'!$I$2="",0,'운행기록부'!$I$2),'비용 내역'!$A$4:$A$1003,"<="&IF('운행기록부'!$J$2="",2958465,'운행기록부'!$J$2))) | K24: =IF($A24="","",SUMIFS('비용 내역'!$E$4:$E$1003,'비용 내역'!$B$4:$B$1003,$A24,'비용 내역'!$D$4:$D$1003,K$4,'비용 내역'!$A$4:$A$1003,">="&IF('운행기록부'!$I$2="",0,'운행기록부'!$I$2),'비용 내역'!$A$4:$A$1003,"<="&IF('운행기록부'!$J$2="",2958465,'운행기록부'!$J$2))) | L24: =IF($A24="","",SUMIFS('비용 내역'!$E$4:$E$1003,'비용 내역'!$B$4:$B$1003,$A24,'비용 내역'!$D$4:$D$1003,L$4,'비용 내역'!$A$4:$A$1003,">="&IF('운행기록부'!$I$2="",0,'운행기록부'!$I$2),'비용 내역'!$A$4:$A$1003,"<="&IF('운행기록부'!$J$2="",2958465,'운행기록부'!$J$2))) | M24: =IF($A24="","",SUMIFS('비용 내역'!$E$4:$E$1003,'비용 내역'!$B$4:$B$1003,$A24,'비용 내역'!$D$4:$D$1003,M$4,'비용 내역'!$A$4:$A$1003,">="&IF('운행기록부'!$I$2="",0,'운행기록부'!$I$2),'비용 내역'!$A$4:$A$1003,"<="&IF('운행기록부'!$J$2="",2958465,'운행기록부'!$J$2))) | N24: =IF($A24="","",SUMIFS('비용 내역'!$E$4:$E$1003,'비용 내역'!$B$4:$B$1003,$A24,'비용 내역'!$D$4:$D$1003,N$4,'비용 내역'!$A$4:$A$1003,">="&IF('운행기록부'!$I$2="",0,'운행기록부'!$I$2),'비용 내역'!$A$4:$A$1003,"<="&IF('운행기록부'!$J$2="",2958465,'운행기록부'!$J$2))) | O24: =IF($A24="","",SUMIFS('비용 내역'!$E$4:$E$1003,'비용 내역'!$B$4:$B$1003,$A24,'비용 내역'!$D$4:$D$1003,O$4,'비용 내역'!$A$4:$A$1003,">="&IF('운행기록부'!$I$2="",0,'운행기록부'!$I$2),'비용 내역'!$A$4:$A$1003,"<="&IF('운행기록부'!$J$2="",2958465,'운행기록부'!$J$2))) | P24: =IF($A24="","",SUMIFS('비용 내역'!$E$4:$E$1003,'비용 내역'!$B$4:$B$1003,$A24,'비용 내역'!$D$4:$D$1003,P$4,'비용 내역'!$A$4:$A$1003,">="&IF('운행기록부'!$I$2="",0,'운행기록부'!$I$2),'비용 내역'!$A$4:$A$1003,"<="&IF('운행기록부'!$J$2="",2958465,'운행기록부'!$J$2))) | Q24: =IF($A24="","",SUMIFS('비용 내역'!$E$4:$E$1003,'비용 내역'!$B$4:$B$1003,$A24,'비용 내역'!$D$4:$D$1003,Q$4,'비용 내역'!$A$4:$A$1003,">="&IF('운행기록부'!$I$2="",0,'운행기록부'!$I$2),'비용 내역'!$A$4:$A$1003,"<="&IF('운행기록부'!$J$2="",2958465,'운행기록부'!$J$2))) | R24: =IF($A24="","",SUMIFS('비용 내역'!$E$4:$E$1003,'비용 내역'!$B$4:$B$1003,$A24,'비용 내역'!$D$4:$D$1003,R$4,'비용 내역'!$A$4:$A$1003,">="&IF('운행기록부'!$I$2="",0,'운행기록부'!$I$2),'비용 내역'!$A$4:$A$1003,"<="&IF('운행기록부'!$J$2="",2958465,'운행기록부'!$J$2))) | S24: =IF($A24="","",SUM(J24:R24)) | T24: =IF($A24="","",MID(IF(N(F24)=0," · 운행 기록 없음","")&IF(N(S24)>15000000," · 비용 1,500만 원 초과","")&IF(D24<>"가입"," · 전용보험 확인",""),4,200))
A25: 합계 | F25: =SUM(F5:F24) | G25: =SUM(G5:G24) | H25: =SUM(H5:H24) | I25: =IF(N(G25)=0,"",H25/G25) | J25: =SUM(J5:J24) | K25: =SUM(K5:K24) | L25: =SUM(L5:L24) | M25: =SUM(M5:M24) | N25: =SUM(N5:N24) | O25: =SUM(O5:O24) | P25: =SUM(P5:P24) | Q25: =SUM(Q5:Q24) | ... S25: =SUM(S5:S24)

Sheet 사용법
B2: 업무용승용차 운행기록부 엑셀 양식 사용법
B4: 1. '차량별 비용·업무사용비율' 시트에 차량마다 자동차등록번호·차종·보유 형태(소유·리스·렌트)·업무전용자동차보험 가입 여부를 먼저 적습니다.
B5: 2. '운행기록부' 위쪽에 상호·사업자등록번호와 사업연도 시작일·끝일(I2·J2)을 적습니다.
B6: 3. 운행할 때마다 한 줄: 사용일자, 자동차등록번호, 사용자 부서·성명, 주행 전·후 계기판의 거리, 업무용 사용거리(출·퇴근용 / 일반 업무용)를 적습니다. 요일·차종·주행거리는 자동입니다.
B7: 4. 방문처·업무 목적 칸에는 거래처 이름과 '납품 협의'처럼 목적을 짧게 적어 둡니다. 업무 목적을 소명해야 할 때 근거가 됩니다.
B8: 5. 같은 차의 기록은 날짜 순서대로 적습니다. 앞 기록의 주행 후 계기판과 이번 주행 전 계기판이 이어지지 않으면 확인 열에 'km 빔'이 뜹니다.
B9: 6. 주유·정비·보험·자동차세·통행료·리스료는 '비용 내역'에 차량번호와 함께 따로 적습니다. 비용 구분은 목록에서 고릅니다.
B10: 7. '차량별 비용·업무사용비율'에 차량마다 총 주행거리·업무용 사용거리·기록상 비율과 비용 구분별 합계가 자동으로 나옵니다.
B12: 국세청 고시는 차종·자동차등록번호·사용일자·사용자·운행내역이 들어 있으면 별도 서식도 인정합니다(국세청고시 제2025-5호 개인사업자용, 제2022-9호 법인용). 신고에 쓰는 서식의 칸 이름은 고시 첨부 별지 서식을 직접 확인하세요.
B13: 업무용 사용거리에는 사업장·거래처 방문, 회의, 판촉, 출·퇴근 등 직무와 관련된 주행이 들어갑니다(법인세법 시행규칙 제27조의2⑦).
B14: '확인 필요' 칸의 '비용 1,500만 원 초과'는 운행기록을 쓰지 않은 차량에 적용되는 차량별 기준 금액(시행령 제50조의2⑦, 부동산임대업 주업 법인 등은 500만 원)을 넘었다는 표시일 뿐입니다. 업무사용금액·비용 인정 여부는 계산하지 않으니 세무사와 확인하세요.
B15: 9인승 이상 승합차·트럭·경차는 업무용승용차 규정의 대상이 아니라고 국세상담센터가 안내합니다. 대상 여부는 세무사와 확인하세요.
... B23: 종이 원본은 법정 기간 동안 그대로 보관하세요. 이 파일은 찾기·집계·대조용입니다.
