Workbook

Sheet 미수금 대장
A1: 미수금 관리대장 | D1: 총 미수금 | E1: =SUM($I$4:$I$503) | F1: 연체 금액 | G1: =SUMIF($J$4:$J$503,"연체",$I$4:$I$503) | H1: 연체 건수 | I1: =COUNTIF($J$4:$J$503,"연체") | J1: 입금액·잔액·상태·연체일수는 자동입니다. 입금은 '입금 내역' 시트에 적으세요.
A2: 합계 | B2: =SUBTOTAL(103,C4:C503)&"건" | F2: =SUBTOTAL(109,F4:F503) | H2: =SUBTOTAL(109,H4:H503) | I2: =SUBTOTAL(109,I4:I503)
A3: 청구일 | B3: 청구번호 | C3: 거래처 | D3: 담당자 | E3: 내용 | F3: 청구금액 | G3: 입금예정일 | H3: 입금액(자동) | I3: 잔액(자동) | J3: 상태(자동) | K3: 연체일수(자동) | L3: 비고 | M3: 거래처 순번
A4: 46259 | B4: TI-2608-044 | C4: (예시) 한빛테크(주) | D4: 김민수 | E4: 8월 부품 납품 | F4: 1650000 | G4: 46275 | H4: =IF(B4="","",SUMIF('입금 내역'!$B$4:$B$1003,B4,'입금 내역'!$D$4:$D$1003)) | I4: =IF(F4="","",F4-N(H4)) | J4: =IF(F4="","",IF(I4<=0,"완납",IF(AND(G4<>"",G4<TODAY()),"연체",IF(N(H4)>0,"부분입금","미입금")))) | K4: =IF(J4="연체",TODAY()-G4,"") | M4: =IF(C4="","",IF(COUNTIF(C$4:C4,C4)=1,MAX(M$3:M3)+1,""))
A5: 46270 | B5: TI-2609-012 | C5: (예시) 한빛테크(주) | D5: 김민수 | E5: 9월 부품 납품 (예시 행 — 지우고 쓰세요) | F5: 9350000 | G5: 46295 | H5: =IF(B5="","",SUMIF('입금 내역'!$B$4:$B$1003,B5,'입금 내역'!$D$4:$D$1003)) | I5: =IF(F5="","",F5-N(H5)) | J5: =IF(F5="","",IF(I5<=0,"완납",IF(AND(G5<>"",G5<TODAY()),"연체",IF(N(H5)>0,"부분입금","미입금")))) | K5: =IF(J5="연체",TODAY()-G5,"") | M5: =IF(C5="","",IF(COUNTIF(C$4:C5,C5)=1,MAX(M$3:M4)+1,""))
A6: 46285 | B6: TI-2609-031 | C6: (예시) 세진산업(주) | D6: 이영진 | E6: 샤프트 120EA | F6: 2640000 | G6: 46326 | H6: =IF(B6="","",SUMIF('입금 내역'!$B$4:$B$1003,B6,'입금 내역'!$D$4:$D$1003)) | I6: =IF(F6="","",F6-N(H6)) | J6: =IF(F6="","",IF(I6<=0,"완납",IF(AND(G6<>"",G6<TODAY()),"연체",IF(N(H6)>0,"부분입금","미입금")))) | K6: =IF(J6="연체",TODAY()-G6,"") | M6: =IF(C6="","",IF(COUNTIF(C$4:C6,C6)=1,MAX(M$3:M5)+1,""))
H7: =IF(B7="","",SUMIF('입금 내역'!$B$4:$B$1003,B7,'입금 내역'!$D$4:$D$1003)) | I7: =IF(F7="","",F7-N(H7)) | J7: =IF(F7="","",IF(I7<=0,"완납",IF(AND(G7<>"",G7<TODAY()),"연체",IF(N(H7)>0,"부분입금","미입금")))) | K7: =IF(J7="연체",TODAY()-G7,"") | M7: =IF(C7="","",IF(COUNTIF(C$4:C7,C7)=1,MAX(M$3:M6)+1,""))
H8: =IF(B8="","",SUMIF('입금 내역'!$B$4:$B$1003,B8,'입금 내역'!$D$4:$D$1003)) | I8: =IF(F8="","",F8-N(H8)) | J8: =IF(F8="","",IF(I8<=0,"완납",IF(AND(G8<>"",G8<TODAY()),"연체",IF(N(H8)>0,"부분입금","미입금")))) | K8: =IF(J8="연체",TODAY()-G8,"") | M8: =IF(C8="","",IF(COUNTIF(C$4:C8,C8)=1,MAX(M$3:M7)+1,""))
H9: =IF(B9="","",SUMIF('입금 내역'!$B$4:$B$1003,B9,'입금 내역'!$D$4:$D$1003)) | I9: =IF(F9="","",F9-N(H9)) | J9: =IF(F9="","",IF(I9<=0,"완납",IF(AND(G9<>"",G9<TODAY()),"연체",IF(N(H9)>0,"부분입금","미입금")))) | K9: =IF(J9="연체",TODAY()-G9,"") | M9: =IF(C9="","",IF(COUNTIF(C$4:C9,C9)=1,MAX(M$3:M8)+1,""))
H10: =IF(B10="","",SUMIF('입금 내역'!$B$4:$B$1003,B10,'입금 내역'!$D$4:$D$1003)) | I10: =IF(F10="","",F10-N(H10)) | J10: =IF(F10="","",IF(I10<=0,"완납",IF(AND(G10<>"",G10<TODAY()),"연체",IF(N(H10)>0,"부분입금","미입금")))) | K10: =IF(J10="연체",TODAY()-G10,"") | M10: =IF(C10="","",IF(COUNTIF(C$4:C10,C10)=1,MAX(M$3:M9)+1,""))
H11: =IF(B11="","",SUMIF('입금 내역'!$B$4:$B$1003,B11,'입금 내역'!$D$4:$D$1003)) | I11: =IF(F11="","",F11-N(H11)) | J11: =IF(F11="","",IF(I11<=0,"완납",IF(AND(G11<>"",G11<TODAY()),"연체",IF(N(H11)>0,"부분입금","미입금")))) | K11: =IF(J11="연체",TODAY()-G11,"") | M11: =IF(C11="","",IF(COUNTIF(C$4:C11,C11)=1,MAX(M$3:M10)+1,""))
H12: =IF(B12="","",SUMIF('입금 내역'!$B$4:$B$1003,B12,'입금 내역'!$D$4:$D$1003)) | I12: =IF(F12="","",F12-N(H12)) | J12: =IF(F12="","",IF(I12<=0,"완납",IF(AND(G12<>"",G12<TODAY()),"연체",IF(N(H12)>0,"부분입금","미입금")))) | K12: =IF(J12="연체",TODAY()-G12,"") | M12: =IF(C12="","",IF(COUNTIF(C$4:C12,C12)=1,MAX(M$3:M11)+1,""))
H13: =IF(B13="","",SUMIF('입금 내역'!$B$4:$B$1003,B13,'입금 내역'!$D$4:$D$1003)) | I13: =IF(F13="","",F13-N(H13)) | J13: =IF(F13="","",IF(I13<=0,"완납",IF(AND(G13<>"",G13<TODAY()),"연체",IF(N(H13)>0,"부분입금","미입금")))) | K13: =IF(J13="연체",TODAY()-G13,"") | M13: =IF(C13="","",IF(COUNTIF(C$4:C13,C13)=1,MAX(M$3:M12)+1,""))
H14: =IF(B14="","",SUMIF('입금 내역'!$B$4:$B$1003,B14,'입금 내역'!$D$4:$D$1003)) | I14: =IF(F14="","",F14-N(H14)) | J14: =IF(F14="","",IF(I14<=0,"완납",IF(AND(G14<>"",G14<TODAY()),"연체",IF(N(H14)>0,"부분입금","미입금")))) | K14: =IF(J14="연체",TODAY()-G14,"") | M14: =IF(C14="","",IF(COUNTIF(C$4:C14,C14)=1,MAX(M$3:M13)+1,""))
H15: =IF(B15="","",SUMIF('입금 내역'!$B$4:$B$1003,B15,'입금 내역'!$D$4:$D$1003)) | I15: =IF(F15="","",F15-N(H15)) | J15: =IF(F15="","",IF(I15<=0,"완납",IF(AND(G15<>"",G15<TODAY()),"연체",IF(N(H15)>0,"부분입금","미입금")))) | K15: =IF(J15="연체",TODAY()-G15,"") | M15: =IF(C15="","",IF(COUNTIF(C$4:C15,C15)=1,MAX(M$3:M14)+1,""))
H16: =IF(B16="","",SUMIF('입금 내역'!$B$4:$B$1003,B16,'입금 내역'!$D$4:$D$1003)) | I16: =IF(F16="","",F16-N(H16)) | J16: =IF(F16="","",IF(I16<=0,"완납",IF(AND(G16<>"",G16<TODAY()),"연체",IF(N(H16)>0,"부분입금","미입금")))) | K16: =IF(J16="연체",TODAY()-G16,"") | M16: =IF(C16="","",IF(COUNTIF(C$4:C16,C16)=1,MAX(M$3:M15)+1,""))
H17: =IF(B17="","",SUMIF('입금 내역'!$B$4:$B$1003,B17,'입금 내역'!$D$4:$D$1003)) | I17: =IF(F17="","",F17-N(H17)) | J17: =IF(F17="","",IF(I17<=0,"완납",IF(AND(G17<>"",G17<TODAY()),"연체",IF(N(H17)>0,"부분입금","미입금")))) | K17: =IF(J17="연체",TODAY()-G17,"") | M17: =IF(C17="","",IF(COUNTIF(C$4:C17,C17)=1,MAX(M$3:M16)+1,""))
H18: =IF(B18="","",SUMIF('입금 내역'!$B$4:$B$1003,B18,'입금 내역'!$D$4:$D$1003)) | I18: =IF(F18="","",F18-N(H18)) | J18: =IF(F18="","",IF(I18<=0,"완납",IF(AND(G18<>"",G18<TODAY()),"연체",IF(N(H18)>0,"부분입금","미입금")))) | K18: =IF(J18="연체",TODAY()-G18,"") | M18: =IF(C18="","",IF(COUNTIF(C$4:C18,C18)=1,MAX(M$3:M17)+1,""))
... H503: =IF(B503="","",SUMIF('입금 내역'!$B$4:$B$1003,B503,'입금 내역'!$D$4:$D$1003)) | I503: =IF(F503="","",F503-N(H503)) | J503: =IF(F503="","",IF(I503<=0,"완납",IF(AND(G503<>"",G503<TODAY()),"연체",IF(N(H503)>0,"부분입금","미입금")))) | K503: =IF(J503="연체",TODAY()-G503,"") | M503: =IF(C503="","",IF(COUNTIF(C$4:C503,C503)=1,MAX(M$3:M502)+1,""))

Sheet 입금 내역
A1: 입금 내역 | E1: 입금될 때마다 한 줄. 나눠 들어오면 같은 청구번호로 여러 줄 적습니다.
A2: 합계 | B2: =COUNT(D4:D1003)&"건" | D2: =SUBTOTAL(109,D4:D1003)
A3: 입금일 | B3: 청구번호 | C3: 거래처(자동) | D3: 입금액 | E3: 입금 방법 | F3: 비고
A4: 46275 | B4: TI-2608-044 | C4: =IF(B4="","",IFERROR(INDEX('미수금 대장'!$C$4:$C$503,MATCH(B4,'미수금 대장'!$B$4:$B$503,0)),"대장에 없는 청구번호")) | D4: 1650000 | E4: 계좌이체 | F4: 예시
A5: 46295 | B5: TI-2609-012 | C5: =IF(B5="","",IFERROR(INDEX('미수금 대장'!$C$4:$C$503,MATCH(B5,'미수금 대장'!$B$4:$B$503,0)),"대장에 없는 청구번호")) | D5: 5000000 | E5: 계좌이체 | F5: 예시 · 나머지는 아직 미입금
C6: =IF(B6="","",IFERROR(INDEX('미수금 대장'!$C$4:$C$503,MATCH(B6,'미수금 대장'!$B$4:$B$503,0)),"대장에 없는 청구번호"))
C7: =IF(B7="","",IFERROR(INDEX('미수금 대장'!$C$4:$C$503,MATCH(B7,'미수금 대장'!$B$4:$B$503,0)),"대장에 없는 청구번호"))
C8: =IF(B8="","",IFERROR(INDEX('미수금 대장'!$C$4:$C$503,MATCH(B8,'미수금 대장'!$B$4:$B$503,0)),"대장에 없는 청구번호"))
C9: =IF(B9="","",IFERROR(INDEX('미수금 대장'!$C$4:$C$503,MATCH(B9,'미수금 대장'!$B$4:$B$503,0)),"대장에 없는 청구번호"))
C10: =IF(B10="","",IFERROR(INDEX('미수금 대장'!$C$4:$C$503,MATCH(B10,'미수금 대장'!$B$4:$B$503,0)),"대장에 없는 청구번호"))
C11: =IF(B11="","",IFERROR(INDEX('미수금 대장'!$C$4:$C$503,MATCH(B11,'미수금 대장'!$B$4:$B$503,0)),"대장에 없는 청구번호"))
C12: =IF(B12="","",IFERROR(INDEX('미수금 대장'!$C$4:$C$503,MATCH(B12,'미수금 대장'!$B$4:$B$503,0)),"대장에 없는 청구번호"))
C13: =IF(B13="","",IFERROR(INDEX('미수금 대장'!$C$4:$C$503,MATCH(B13,'미수금 대장'!$B$4:$B$503,0)),"대장에 없는 청구번호"))
C14: =IF(B14="","",IFERROR(INDEX('미수금 대장'!$C$4:$C$503,MATCH(B14,'미수금 대장'!$B$4:$B$503,0)),"대장에 없는 청구번호"))
C15: =IF(B15="","",IFERROR(INDEX('미수금 대장'!$C$4:$C$503,MATCH(B15,'미수금 대장'!$B$4:$B$503,0)),"대장에 없는 청구번호"))
C16: =IF(B16="","",IFERROR(INDEX('미수금 대장'!$C$4:$C$503,MATCH(B16,'미수금 대장'!$B$4:$B$503,0)),"대장에 없는 청구번호"))
C17: =IF(B17="","",IFERROR(INDEX('미수금 대장'!$C$4:$C$503,MATCH(B17,'미수금 대장'!$B$4:$B$503,0)),"대장에 없는 청구번호"))
... C1003: =IF(B1003="","",IFERROR(INDEX('미수금 대장'!$C$4:$C$503,MATCH(B1003,'미수금 대장'!$B$4:$B$503,0)),"대장에 없는 청구번호"))

Sheet 거래처별 현황
A1: 거래처별 미수금 현황 (채권 연령)
A2: '미수금 대장' 시트의 거래처가 처음 나온 순서대로 자동으로 채워집니다. 연체 구간은 입금예정일을 지난 날수 기준입니다.
A3: 거래처 | B3: 청구 합계 | C3: 입금 합계 | D3: 미수금 | E3: 기한 전 | F3: 1~30일 연체 | G3: 31~60일 | H3: 61~90일 | I3: 90일 초과 | J3: 연체 건수
A4: =IFERROR(INDEX('미수금 대장'!$C$4:$C$503,MATCH(1,'미수금 대장'!$M$4:$M$503,0)),"") | B4: =IF($A4="","",SUMIF('미수금 대장'!$C$4:$C$503,$A4,'미수금 대장'!$F$4:$F$503)) | C4: =IF($A4="","",SUMIF('미수금 대장'!$C$4:$C$503,$A4,'미수금 대장'!$H$4:$H$503)) | D4: =IF($A4="","",SUMIF('미수금 대장'!$C$4:$C$503,$A4,'미수금 대장'!$I$4:$I$503)) | E4: =IF($A4="","",SUMIFS('미수금 대장'!$I$4:$I$503,'미수금 대장'!$C$4:$C$503,$A4,'미수금 대장'!$J$4:$J$503,"미입금")+SUMIFS('미수금 대장'!$I$4:$I$503,'미수금 대장'!$C$4:$C$503,$A4,'미수금 대장'!$J$4:$J$503,"부분입금")) | F4: =IF($A4="","",SUMIFS('미수금 대장'!$I$4:$I$503,'미수금 대장'!$C$4:$C$503,$A4,'미수금 대장'!$K$4:$K$503,">=1",'미수금 대장'!$K$4:$K$503,"<=30")) | G4: =IF($A4="","",SUMIFS('미수금 대장'!$I$4:$I$503,'미수금 대장'!$C$4:$C$503,$A4,'미수금 대장'!$K$4:$K$503,">=31",'미수금 대장'!$K$4:$K$503,"<=60")) | H4: =IF($A4="","",SUMIFS('미수금 대장'!$I$4:$I$503,'미수금 대장'!$C$4:$C$503,$A4,'미수금 대장'!$K$4:$K$503,">=61",'미수금 대장'!$K$4:$K$503,"<=90")) | I4: =IF($A4="","",SUMIFS('미수금 대장'!$I$4:$I$503,'미수금 대장'!$C$4:$C$503,$A4,'미수금 대장'!$K$4:$K$503,">90")) | J4: =IF($A4="","",COUNTIFS('미수금 대장'!$C$4:$C$503,$A4,'미수금 대장'!$J$4:$J$503,"연체"))
A5: =IFERROR(INDEX('미수금 대장'!$C$4:$C$503,MATCH(2,'미수금 대장'!$M$4:$M$503,0)),"") | B5: =IF($A5="","",SUMIF('미수금 대장'!$C$4:$C$503,$A5,'미수금 대장'!$F$4:$F$503)) | C5: =IF($A5="","",SUMIF('미수금 대장'!$C$4:$C$503,$A5,'미수금 대장'!$H$4:$H$503)) | D5: =IF($A5="","",SUMIF('미수금 대장'!$C$4:$C$503,$A5,'미수금 대장'!$I$4:$I$503)) | E5: =IF($A5="","",SUMIFS('미수금 대장'!$I$4:$I$503,'미수금 대장'!$C$4:$C$503,$A5,'미수금 대장'!$J$4:$J$503,"미입금")+SUMIFS('미수금 대장'!$I$4:$I$503,'미수금 대장'!$C$4:$C$503,$A5,'미수금 대장'!$J$4:$J$503,"부분입금")) | F5: =IF($A5="","",SUMIFS('미수금 대장'!$I$4:$I$503,'미수금 대장'!$C$4:$C$503,$A5,'미수금 대장'!$K$4:$K$503,">=1",'미수금 대장'!$K$4:$K$503,"<=30")) | G5: =IF($A5="","",SUMIFS('미수금 대장'!$I$4:$I$503,'미수금 대장'!$C$4:$C$503,$A5,'미수금 대장'!$K$4:$K$503,">=31",'미수금 대장'!$K$4:$K$503,"<=60")) | H5: =IF($A5="","",SUMIFS('미수금 대장'!$I$4:$I$503,'미수금 대장'!$C$4:$C$503,$A5,'미수금 대장'!$K$4:$K$503,">=61",'미수금 대장'!$K$4:$K$503,"<=90")) | I5: =IF($A5="","",SUMIFS('미수금 대장'!$I$4:$I$503,'미수금 대장'!$C$4:$C$503,$A5,'미수금 대장'!$K$4:$K$503,">90")) | J5: =IF($A5="","",COUNTIFS('미수금 대장'!$C$4:$C$503,$A5,'미수금 대장'!$J$4:$J$503,"연체"))
A6: =IFERROR(INDEX('미수금 대장'!$C$4:$C$503,MATCH(3,'미수금 대장'!$M$4:$M$503,0)),"") | B6: =IF($A6="","",SUMIF('미수금 대장'!$C$4:$C$503,$A6,'미수금 대장'!$F$4:$F$503)) | C6: =IF($A6="","",SUMIF('미수금 대장'!$C$4:$C$503,$A6,'미수금 대장'!$H$4:$H$503)) | D6: =IF($A6="","",SUMIF('미수금 대장'!$C$4:$C$503,$A6,'미수금 대장'!$I$4:$I$503)) | E6: =IF($A6="","",SUMIFS('미수금 대장'!$I$4:$I$503,'미수금 대장'!$C$4:$C$503,$A6,'미수금 대장'!$J$4:$J$503,"미입금")+SUMIFS('미수금 대장'!$I$4:$I$503,'미수금 대장'!$C$4:$C$503,$A6,'미수금 대장'!$J$4:$J$503,"부분입금")) | F6: =IF($A6="","",SUMIFS('미수금 대장'!$I$4:$I$503,'미수금 대장'!$C$4:$C$503,$A6,'미수금 대장'!$K$4:$K$503,">=1",'미수금 대장'!$K$4:$K$503,"<=30")) | G6: =IF($A6="","",SUMIFS('미수금 대장'!$I$4:$I$503,'미수금 대장'!$C$4:$C$503,$A6,'미수금 대장'!$K$4:$K$503,">=31",'미수금 대장'!$K$4:$K$503,"<=60")) | H6: =IF($A6="","",SUMIFS('미수금 대장'!$I$4:$I$503,'미수금 대장'!$C$4:$C$503,$A6,'미수금 대장'!$K$4:$K$503,">=61",'미수금 대장'!$K$4:$K$503,"<=90")) | I6: =IF($A6="","",SUMIFS('미수금 대장'!$I$4:$I$503,'미수금 대장'!$C$4:$C$503,$A6,'미수금 대장'!$K$4:$K$503,">90")) | J6: =IF($A6="","",COUNTIFS('미수금 대장'!$C$4:$C$503,$A6,'미수금 대장'!$J$4:$J$503,"연체"))
A7: =IFERROR(INDEX('미수금 대장'!$C$4:$C$503,MATCH(4,'미수금 대장'!$M$4:$M$503,0)),"") | B7: =IF($A7="","",SUMIF('미수금 대장'!$C$4:$C$503,$A7,'미수금 대장'!$F$4:$F$503)) | C7: =IF($A7="","",SUMIF('미수금 대장'!$C$4:$C$503,$A7,'미수금 대장'!$H$4:$H$503)) | D7: =IF($A7="","",SUMIF('미수금 대장'!$C$4:$C$503,$A7,'미수금 대장'!$I$4:$I$503)) | E7: =IF($A7="","",SUMIFS('미수금 대장'!$I$4:$I$503,'미수금 대장'!$C$4:$C$503,$A7,'미수금 대장'!$J$4:$J$503,"미입금")+SUMIFS('미수금 대장'!$I$4:$I$503,'미수금 대장'!$C$4:$C$503,$A7,'미수금 대장'!$J$4:$J$503,"부분입금")) | F7: =IF($A7="","",SUMIFS('미수금 대장'!$I$4:$I$503,'미수금 대장'!$C$4:$C$503,$A7,'미수금 대장'!$K$4:$K$503,">=1",'미수금 대장'!$K$4:$K$503,"<=30")) | G7: =IF($A7="","",SUMIFS('미수금 대장'!$I$4:$I$503,'미수금 대장'!$C$4:$C$503,$A7,'미수금 대장'!$K$4:$K$503,">=31",'미수금 대장'!$K$4:$K$503,"<=60")) | H7: =IF($A7="","",SUMIFS('미수금 대장'!$I$4:$I$503,'미수금 대장'!$C$4:$C$503,$A7,'미수금 대장'!$K$4:$K$503,">=61",'미수금 대장'!$K$4:$K$503,"<=90")) | I7: =IF($A7="","",SUMIFS('미수금 대장'!$I$4:$I$503,'미수금 대장'!$C$4:$C$503,$A7,'미수금 대장'!$K$4:$K$503,">90")) | J7: =IF($A7="","",COUNTIFS('미수금 대장'!$C$4:$C$503,$A7,'미수금 대장'!$J$4:$J$503,"연체"))
A8: =IFERROR(INDEX('미수금 대장'!$C$4:$C$503,MATCH(5,'미수금 대장'!$M$4:$M$503,0)),"") | B8: =IF($A8="","",SUMIF('미수금 대장'!$C$4:$C$503,$A8,'미수금 대장'!$F$4:$F$503)) | C8: =IF($A8="","",SUMIF('미수금 대장'!$C$4:$C$503,$A8,'미수금 대장'!$H$4:$H$503)) | D8: =IF($A8="","",SUMIF('미수금 대장'!$C$4:$C$503,$A8,'미수금 대장'!$I$4:$I$503)) | E8: =IF($A8="","",SUMIFS('미수금 대장'!$I$4:$I$503,'미수금 대장'!$C$4:$C$503,$A8,'미수금 대장'!$J$4:$J$503,"미입금")+SUMIFS('미수금 대장'!$I$4:$I$503,'미수금 대장'!$C$4:$C$503,$A8,'미수금 대장'!$J$4:$J$503,"부분입금")) | F8: =IF($A8="","",SUMIFS('미수금 대장'!$I$4:$I$503,'미수금 대장'!$C$4:$C$503,$A8,'미수금 대장'!$K$4:$K$503,">=1",'미수금 대장'!$K$4:$K$503,"<=30")) | G8: =IF($A8="","",SUMIFS('미수금 대장'!$I$4:$I$503,'미수금 대장'!$C$4:$C$503,$A8,'미수금 대장'!$K$4:$K$503,">=31",'미수금 대장'!$K$4:$K$503,"<=60")) | H8: =IF($A8="","",SUMIFS('미수금 대장'!$I$4:$I$503,'미수금 대장'!$C$4:$C$503,$A8,'미수금 대장'!$K$4:$K$503,">=61",'미수금 대장'!$K$4:$K$503,"<=90")) | I8: =IF($A8="","",SUMIFS('미수금 대장'!$I$4:$I$503,'미수금 대장'!$C$4:$C$503,$A8,'미수금 대장'!$K$4:$K$503,">90")) | J8: =IF($A8="","",COUNTIFS('미수금 대장'!$C$4:$C$503,$A8,'미수금 대장'!$J$4:$J$503,"연체"))
A9: =IFERROR(INDEX('미수금 대장'!$C$4:$C$503,MATCH(6,'미수금 대장'!$M$4:$M$503,0)),"") | B9: =IF($A9="","",SUMIF('미수금 대장'!$C$4:$C$503,$A9,'미수금 대장'!$F$4:$F$503)) | C9: =IF($A9="","",SUMIF('미수금 대장'!$C$4:$C$503,$A9,'미수금 대장'!$H$4:$H$503)) | D9: =IF($A9="","",SUMIF('미수금 대장'!$C$4:$C$503,$A9,'미수금 대장'!$I$4:$I$503)) | E9: =IF($A9="","",SUMIFS('미수금 대장'!$I$4:$I$503,'미수금 대장'!$C$4:$C$503,$A9,'미수금 대장'!$J$4:$J$503,"미입금")+SUMIFS('미수금 대장'!$I$4:$I$503,'미수금 대장'!$C$4:$C$503,$A9,'미수금 대장'!$J$4:$J$503,"부분입금")) | F9: =IF($A9="","",SUMIFS('미수금 대장'!$I$4:$I$503,'미수금 대장'!$C$4:$C$503,$A9,'미수금 대장'!$K$4:$K$503,">=1",'미수금 대장'!$K$4:$K$503,"<=30")) | G9: =IF($A9="","",SUMIFS('미수금 대장'!$I$4:$I$503,'미수금 대장'!$C$4:$C$503,$A9,'미수금 대장'!$K$4:$K$503,">=31",'미수금 대장'!$K$4:$K$503,"<=60")) | H9: =IF($A9="","",SUMIFS('미수금 대장'!$I$4:$I$503,'미수금 대장'!$C$4:$C$503,$A9,'미수금 대장'!$K$4:$K$503,">=61",'미수금 대장'!$K$4:$K$503,"<=90")) | I9: =IF($A9="","",SUMIFS('미수금 대장'!$I$4:$I$503,'미수금 대장'!$C$4:$C$503,$A9,'미수금 대장'!$K$4:$K$503,">90")) | J9: =IF($A9="","",COUNTIFS('미수금 대장'!$C$4:$C$503,$A9,'미수금 대장'!$J$4:$J$503,"연체"))
A10: =IFERROR(INDEX('미수금 대장'!$C$4:$C$503,MATCH(7,'미수금 대장'!$M$4:$M$503,0)),"") | B10: =IF($A10="","",SUMIF('미수금 대장'!$C$4:$C$503,$A10,'미수금 대장'!$F$4:$F$503)) | C10: =IF($A10="","",SUMIF('미수금 대장'!$C$4:$C$503,$A10,'미수금 대장'!$H$4:$H$503)) | D10: =IF($A10="","",SUMIF('미수금 대장'!$C$4:$C$503,$A10,'미수금 대장'!$I$4:$I$503)) | E10: =IF($A10="","",SUMIFS('미수금 대장'!$I$4:$I$503,'미수금 대장'!$C$4:$C$503,$A10,'미수금 대장'!$J$4:$J$503,"미입금")+SUMIFS('미수금 대장'!$I$4:$I$503,'미수금 대장'!$C$4:$C$503,$A10,'미수금 대장'!$J$4:$J$503,"부분입금")) | F10: =IF($A10="","",SUMIFS('미수금 대장'!$I$4:$I$503,'미수금 대장'!$C$4:$C$503,$A10,'미수금 대장'!$K$4:$K$503,">=1",'미수금 대장'!$K$4:$K$503,"<=30")) | G10: =IF($A10="","",SUMIFS('미수금 대장'!$I$4:$I$503,'미수금 대장'!$C$4:$C$503,$A10,'미수금 대장'!$K$4:$K$503,">=31",'미수금 대장'!$K$4:$K$503,"<=60")) | H10: =IF($A10="","",SUMIFS('미수금 대장'!$I$4:$I$503,'미수금 대장'!$C$4:$C$503,$A10,'미수금 대장'!$K$4:$K$503,">=61",'미수금 대장'!$K$4:$K$503,"<=90")) | I10: =IF($A10="","",SUMIFS('미수금 대장'!$I$4:$I$503,'미수금 대장'!$C$4:$C$503,$A10,'미수금 대장'!$K$4:$K$503,">90")) | J10: =IF($A10="","",COUNTIFS('미수금 대장'!$C$4:$C$503,$A10,'미수금 대장'!$J$4:$J$503,"연체"))
A11: =IFERROR(INDEX('미수금 대장'!$C$4:$C$503,MATCH(8,'미수금 대장'!$M$4:$M$503,0)),"") | B11: =IF($A11="","",SUMIF('미수금 대장'!$C$4:$C$503,$A11,'미수금 대장'!$F$4:$F$503)) | C11: =IF($A11="","",SUMIF('미수금 대장'!$C$4:$C$503,$A11,'미수금 대장'!$H$4:$H$503)) | D11: =IF($A11="","",SUMIF('미수금 대장'!$C$4:$C$503,$A11,'미수금 대장'!$I$4:$I$503)) | E11: =IF($A11="","",SUMIFS('미수금 대장'!$I$4:$I$503,'미수금 대장'!$C$4:$C$503,$A11,'미수금 대장'!$J$4:$J$503,"미입금")+SUMIFS('미수금 대장'!$I$4:$I$503,'미수금 대장'!$C$4:$C$503,$A11,'미수금 대장'!$J$4:$J$503,"부분입금")) | F11: =IF($A11="","",SUMIFS('미수금 대장'!$I$4:$I$503,'미수금 대장'!$C$4:$C$503,$A11,'미수금 대장'!$K$4:$K$503,">=1",'미수금 대장'!$K$4:$K$503,"<=30")) | G11: =IF($A11="","",SUMIFS('미수금 대장'!$I$4:$I$503,'미수금 대장'!$C$4:$C$503,$A11,'미수금 대장'!$K$4:$K$503,">=31",'미수금 대장'!$K$4:$K$503,"<=60")) | H11: =IF($A11="","",SUMIFS('미수금 대장'!$I$4:$I$503,'미수금 대장'!$C$4:$C$503,$A11,'미수금 대장'!$K$4:$K$503,">=61",'미수금 대장'!$K$4:$K$503,"<=90")) | I11: =IF($A11="","",SUMIFS('미수금 대장'!$I$4:$I$503,'미수금 대장'!$C$4:$C$503,$A11,'미수금 대장'!$K$4:$K$503,">90")) | J11: =IF($A11="","",COUNTIFS('미수금 대장'!$C$4:$C$503,$A11,'미수금 대장'!$J$4:$J$503,"연체"))
A12: =IFERROR(INDEX('미수금 대장'!$C$4:$C$503,MATCH(9,'미수금 대장'!$M$4:$M$503,0)),"") | B12: =IF($A12="","",SUMIF('미수금 대장'!$C$4:$C$503,$A12,'미수금 대장'!$F$4:$F$503)) | C12: =IF($A12="","",SUMIF('미수금 대장'!$C$4:$C$503,$A12,'미수금 대장'!$H$4:$H$503)) | D12: =IF($A12="","",SUMIF('미수금 대장'!$C$4:$C$503,$A12,'미수금 대장'!$I$4:$I$503)) | E12: =IF($A12="","",SUMIFS('미수금 대장'!$I$4:$I$503,'미수금 대장'!$C$4:$C$503,$A12,'미수금 대장'!$J$4:$J$503,"미입금")+SUMIFS('미수금 대장'!$I$4:$I$503,'미수금 대장'!$C$4:$C$503,$A12,'미수금 대장'!$J$4:$J$503,"부분입금")) | F12: =IF($A12="","",SUMIFS('미수금 대장'!$I$4:$I$503,'미수금 대장'!$C$4:$C$503,$A12,'미수금 대장'!$K$4:$K$503,">=1",'미수금 대장'!$K$4:$K$503,"<=30")) | G12: =IF($A12="","",SUMIFS('미수금 대장'!$I$4:$I$503,'미수금 대장'!$C$4:$C$503,$A12,'미수금 대장'!$K$4:$K$503,">=31",'미수금 대장'!$K$4:$K$503,"<=60")) | H12: =IF($A12="","",SUMIFS('미수금 대장'!$I$4:$I$503,'미수금 대장'!$C$4:$C$503,$A12,'미수금 대장'!$K$4:$K$503,">=61",'미수금 대장'!$K$4:$K$503,"<=90")) | I12: =IF($A12="","",SUMIFS('미수금 대장'!$I$4:$I$503,'미수금 대장'!$C$4:$C$503,$A12,'미수금 대장'!$K$4:$K$503,">90")) | J12: =IF($A12="","",COUNTIFS('미수금 대장'!$C$4:$C$503,$A12,'미수금 대장'!$J$4:$J$503,"연체"))
A13: =IFERROR(INDEX('미수금 대장'!$C$4:$C$503,MATCH(10,'미수금 대장'!$M$4:$M$503,0)),"") | B13: =IF($A13="","",SUMIF('미수금 대장'!$C$4:$C$503,$A13,'미수금 대장'!$F$4:$F$503)) | C13: =IF($A13="","",SUMIF('미수금 대장'!$C$4:$C$503,$A13,'미수금 대장'!$H$4:$H$503)) | D13: =IF($A13="","",SUMIF('미수금 대장'!$C$4:$C$503,$A13,'미수금 대장'!$I$4:$I$503)) | E13: =IF($A13="","",SUMIFS('미수금 대장'!$I$4:$I$503,'미수금 대장'!$C$4:$C$503,$A13,'미수금 대장'!$J$4:$J$503,"미입금")+SUMIFS('미수금 대장'!$I$4:$I$503,'미수금 대장'!$C$4:$C$503,$A13,'미수금 대장'!$J$4:$J$503,"부분입금")) | F13: =IF($A13="","",SUMIFS('미수금 대장'!$I$4:$I$503,'미수금 대장'!$C$4:$C$503,$A13,'미수금 대장'!$K$4:$K$503,">=1",'미수금 대장'!$K$4:$K$503,"<=30")) | G13: =IF($A13="","",SUMIFS('미수금 대장'!$I$4:$I$503,'미수금 대장'!$C$4:$C$503,$A13,'미수금 대장'!$K$4:$K$503,">=31",'미수금 대장'!$K$4:$K$503,"<=60")) | H13: =IF($A13="","",SUMIFS('미수금 대장'!$I$4:$I$503,'미수금 대장'!$C$4:$C$503,$A13,'미수금 대장'!$K$4:$K$503,">=61",'미수금 대장'!$K$4:$K$503,"<=90")) | I13: =IF($A13="","",SUMIFS('미수금 대장'!$I$4:$I$503,'미수금 대장'!$C$4:$C$503,$A13,'미수금 대장'!$K$4:$K$503,">90")) | J13: =IF($A13="","",COUNTIFS('미수금 대장'!$C$4:$C$503,$A13,'미수금 대장'!$J$4:$J$503,"연체"))
A14: =IFERROR(INDEX('미수금 대장'!$C$4:$C$503,MATCH(11,'미수금 대장'!$M$4:$M$503,0)),"") | B14: =IF($A14="","",SUMIF('미수금 대장'!$C$4:$C$503,$A14,'미수금 대장'!$F$4:$F$503)) | C14: =IF($A14="","",SUMIF('미수금 대장'!$C$4:$C$503,$A14,'미수금 대장'!$H$4:$H$503)) | D14: =IF($A14="","",SUMIF('미수금 대장'!$C$4:$C$503,$A14,'미수금 대장'!$I$4:$I$503)) | E14: =IF($A14="","",SUMIFS('미수금 대장'!$I$4:$I$503,'미수금 대장'!$C$4:$C$503,$A14,'미수금 대장'!$J$4:$J$503,"미입금")+SUMIFS('미수금 대장'!$I$4:$I$503,'미수금 대장'!$C$4:$C$503,$A14,'미수금 대장'!$J$4:$J$503,"부분입금")) | F14: =IF($A14="","",SUMIFS('미수금 대장'!$I$4:$I$503,'미수금 대장'!$C$4:$C$503,$A14,'미수금 대장'!$K$4:$K$503,">=1",'미수금 대장'!$K$4:$K$503,"<=30")) | G14: =IF($A14="","",SUMIFS('미수금 대장'!$I$4:$I$503,'미수금 대장'!$C$4:$C$503,$A14,'미수금 대장'!$K$4:$K$503,">=31",'미수금 대장'!$K$4:$K$503,"<=60")) | H14: =IF($A14="","",SUMIFS('미수금 대장'!$I$4:$I$503,'미수금 대장'!$C$4:$C$503,$A14,'미수금 대장'!$K$4:$K$503,">=61",'미수금 대장'!$K$4:$K$503,"<=90")) | I14: =IF($A14="","",SUMIFS('미수금 대장'!$I$4:$I$503,'미수금 대장'!$C$4:$C$503,$A14,'미수금 대장'!$K$4:$K$503,">90")) | J14: =IF($A14="","",COUNTIFS('미수금 대장'!$C$4:$C$503,$A14,'미수금 대장'!$J$4:$J$503,"연체"))
A15: =IFERROR(INDEX('미수금 대장'!$C$4:$C$503,MATCH(12,'미수금 대장'!$M$4:$M$503,0)),"") | B15: =IF($A15="","",SUMIF('미수금 대장'!$C$4:$C$503,$A15,'미수금 대장'!$F$4:$F$503)) | C15: =IF($A15="","",SUMIF('미수금 대장'!$C$4:$C$503,$A15,'미수금 대장'!$H$4:$H$503)) | D15: =IF($A15="","",SUMIF('미수금 대장'!$C$4:$C$503,$A15,'미수금 대장'!$I$4:$I$503)) | E15: =IF($A15="","",SUMIFS('미수금 대장'!$I$4:$I$503,'미수금 대장'!$C$4:$C$503,$A15,'미수금 대장'!$J$4:$J$503,"미입금")+SUMIFS('미수금 대장'!$I$4:$I$503,'미수금 대장'!$C$4:$C$503,$A15,'미수금 대장'!$J$4:$J$503,"부분입금")) | F15: =IF($A15="","",SUMIFS('미수금 대장'!$I$4:$I$503,'미수금 대장'!$C$4:$C$503,$A15,'미수금 대장'!$K$4:$K$503,">=1",'미수금 대장'!$K$4:$K$503,"<=30")) | G15: =IF($A15="","",SUMIFS('미수금 대장'!$I$4:$I$503,'미수금 대장'!$C$4:$C$503,$A15,'미수금 대장'!$K$4:$K$503,">=31",'미수금 대장'!$K$4:$K$503,"<=60")) | H15: =IF($A15="","",SUMIFS('미수금 대장'!$I$4:$I$503,'미수금 대장'!$C$4:$C$503,$A15,'미수금 대장'!$K$4:$K$503,">=61",'미수금 대장'!$K$4:$K$503,"<=90")) | I15: =IF($A15="","",SUMIFS('미수금 대장'!$I$4:$I$503,'미수금 대장'!$C$4:$C$503,$A15,'미수금 대장'!$K$4:$K$503,">90")) | J15: =IF($A15="","",COUNTIFS('미수금 대장'!$C$4:$C$503,$A15,'미수금 대장'!$J$4:$J$503,"연체"))
A16: =IFERROR(INDEX('미수금 대장'!$C$4:$C$503,MATCH(13,'미수금 대장'!$M$4:$M$503,0)),"") | B16: =IF($A16="","",SUMIF('미수금 대장'!$C$4:$C$503,$A16,'미수금 대장'!$F$4:$F$503)) | C16: =IF($A16="","",SUMIF('미수금 대장'!$C$4:$C$503,$A16,'미수금 대장'!$H$4:$H$503)) | D16: =IF($A16="","",SUMIF('미수금 대장'!$C$4:$C$503,$A16,'미수금 대장'!$I$4:$I$503)) | E16: =IF($A16="","",SUMIFS('미수금 대장'!$I$4:$I$503,'미수금 대장'!$C$4:$C$503,$A16,'미수금 대장'!$J$4:$J$503,"미입금")+SUMIFS('미수금 대장'!$I$4:$I$503,'미수금 대장'!$C$4:$C$503,$A16,'미수금 대장'!$J$4:$J$503,"부분입금")) | F16: =IF($A16="","",SUMIFS('미수금 대장'!$I$4:$I$503,'미수금 대장'!$C$4:$C$503,$A16,'미수금 대장'!$K$4:$K$503,">=1",'미수금 대장'!$K$4:$K$503,"<=30")) | G16: =IF($A16="","",SUMIFS('미수금 대장'!$I$4:$I$503,'미수금 대장'!$C$4:$C$503,$A16,'미수금 대장'!$K$4:$K$503,">=31",'미수금 대장'!$K$4:$K$503,"<=60")) | H16: =IF($A16="","",SUMIFS('미수금 대장'!$I$4:$I$503,'미수금 대장'!$C$4:$C$503,$A16,'미수금 대장'!$K$4:$K$503,">=61",'미수금 대장'!$K$4:$K$503,"<=90")) | I16: =IF($A16="","",SUMIFS('미수금 대장'!$I$4:$I$503,'미수금 대장'!$C$4:$C$503,$A16,'미수금 대장'!$K$4:$K$503,">90")) | J16: =IF($A16="","",COUNTIFS('미수금 대장'!$C$4:$C$503,$A16,'미수금 대장'!$J$4:$J$503,"연체"))
A17: =IFERROR(INDEX('미수금 대장'!$C$4:$C$503,MATCH(14,'미수금 대장'!$M$4:$M$503,0)),"") | B17: =IF($A17="","",SUMIF('미수금 대장'!$C$4:$C$503,$A17,'미수금 대장'!$F$4:$F$503)) | C17: =IF($A17="","",SUMIF('미수금 대장'!$C$4:$C$503,$A17,'미수금 대장'!$H$4:$H$503)) | D17: =IF($A17="","",SUMIF('미수금 대장'!$C$4:$C$503,$A17,'미수금 대장'!$I$4:$I$503)) | E17: =IF($A17="","",SUMIFS('미수금 대장'!$I$4:$I$503,'미수금 대장'!$C$4:$C$503,$A17,'미수금 대장'!$J$4:$J$503,"미입금")+SUMIFS('미수금 대장'!$I$4:$I$503,'미수금 대장'!$C$4:$C$503,$A17,'미수금 대장'!$J$4:$J$503,"부분입금")) | F17: =IF($A17="","",SUMIFS('미수금 대장'!$I$4:$I$503,'미수금 대장'!$C$4:$C$503,$A17,'미수금 대장'!$K$4:$K$503,">=1",'미수금 대장'!$K$4:$K$503,"<=30")) | G17: =IF($A17="","",SUMIFS('미수금 대장'!$I$4:$I$503,'미수금 대장'!$C$4:$C$503,$A17,'미수금 대장'!$K$4:$K$503,">=31",'미수금 대장'!$K$4:$K$503,"<=60")) | H17: =IF($A17="","",SUMIFS('미수금 대장'!$I$4:$I$503,'미수금 대장'!$C$4:$C$503,$A17,'미수금 대장'!$K$4:$K$503,">=61",'미수금 대장'!$K$4:$K$503,"<=90")) | I17: =IF($A17="","",SUMIFS('미수금 대장'!$I$4:$I$503,'미수금 대장'!$C$4:$C$503,$A17,'미수금 대장'!$K$4:$K$503,">90")) | J17: =IF($A17="","",COUNTIFS('미수금 대장'!$C$4:$C$503,$A17,'미수금 대장'!$J$4:$J$503,"연체"))
A18: =IFERROR(INDEX('미수금 대장'!$C$4:$C$503,MATCH(15,'미수금 대장'!$M$4:$M$503,0)),"") | B18: =IF($A18="","",SUMIF('미수금 대장'!$C$4:$C$503,$A18,'미수금 대장'!$F$4:$F$503)) | C18: =IF($A18="","",SUMIF('미수금 대장'!$C$4:$C$503,$A18,'미수금 대장'!$H$4:$H$503)) | D18: =IF($A18="","",SUMIF('미수금 대장'!$C$4:$C$503,$A18,'미수금 대장'!$I$4:$I$503)) | E18: =IF($A18="","",SUMIFS('미수금 대장'!$I$4:$I$503,'미수금 대장'!$C$4:$C$503,$A18,'미수금 대장'!$J$4:$J$503,"미입금")+SUMIFS('미수금 대장'!$I$4:$I$503,'미수금 대장'!$C$4:$C$503,$A18,'미수금 대장'!$J$4:$J$503,"부분입금")) | F18: =IF($A18="","",SUMIFS('미수금 대장'!$I$4:$I$503,'미수금 대장'!$C$4:$C$503,$A18,'미수금 대장'!$K$4:$K$503,">=1",'미수금 대장'!$K$4:$K$503,"<=30")) | G18: =IF($A18="","",SUMIFS('미수금 대장'!$I$4:$I$503,'미수금 대장'!$C$4:$C$503,$A18,'미수금 대장'!$K$4:$K$503,">=31",'미수금 대장'!$K$4:$K$503,"<=60")) | H18: =IF($A18="","",SUMIFS('미수금 대장'!$I$4:$I$503,'미수금 대장'!$C$4:$C$503,$A18,'미수금 대장'!$K$4:$K$503,">=61",'미수금 대장'!$K$4:$K$503,"<=90")) | I18: =IF($A18="","",SUMIFS('미수금 대장'!$I$4:$I$503,'미수금 대장'!$C$4:$C$503,$A18,'미수금 대장'!$K$4:$K$503,">90")) | J18: =IF($A18="","",COUNTIFS('미수금 대장'!$C$4:$C$503,$A18,'미수금 대장'!$J$4:$J$503,"연체"))
A19: =IFERROR(INDEX('미수금 대장'!$C$4:$C$503,MATCH(16,'미수금 대장'!$M$4:$M$503,0)),"") | B19: =IF($A19="","",SUMIF('미수금 대장'!$C$4:$C$503,$A19,'미수금 대장'!$F$4:$F$503)) | C19: =IF($A19="","",SUMIF('미수금 대장'!$C$4:$C$503,$A19,'미수금 대장'!$H$4:$H$503)) | D19: =IF($A19="","",SUMIF('미수금 대장'!$C$4:$C$503,$A19,'미수금 대장'!$I$4:$I$503)) | E19: =IF($A19="","",SUMIFS('미수금 대장'!$I$4:$I$503,'미수금 대장'!$C$4:$C$503,$A19,'미수금 대장'!$J$4:$J$503,"미입금")+SUMIFS('미수금 대장'!$I$4:$I$503,'미수금 대장'!$C$4:$C$503,$A19,'미수금 대장'!$J$4:$J$503,"부분입금")) | F19: =IF($A19="","",SUMIFS('미수금 대장'!$I$4:$I$503,'미수금 대장'!$C$4:$C$503,$A19,'미수금 대장'!$K$4:$K$503,">=1",'미수금 대장'!$K$4:$K$503,"<=30")) | G19: =IF($A19="","",SUMIFS('미수금 대장'!$I$4:$I$503,'미수금 대장'!$C$4:$C$503,$A19,'미수금 대장'!$K$4:$K$503,">=31",'미수금 대장'!$K$4:$K$503,"<=60")) | H19: =IF($A19="","",SUMIFS('미수금 대장'!$I$4:$I$503,'미수금 대장'!$C$4:$C$503,$A19,'미수금 대장'!$K$4:$K$503,">=61",'미수금 대장'!$K$4:$K$503,"<=90")) | I19: =IF($A19="","",SUMIFS('미수금 대장'!$I$4:$I$503,'미수금 대장'!$C$4:$C$503,$A19,'미수금 대장'!$K$4:$K$503,">90")) | J19: =IF($A19="","",COUNTIFS('미수금 대장'!$C$4:$C$503,$A19,'미수금 대장'!$J$4:$J$503,"연체"))
A20: =IFERROR(INDEX('미수금 대장'!$C$4:$C$503,MATCH(17,'미수금 대장'!$M$4:$M$503,0)),"") | B20: =IF($A20="","",SUMIF('미수금 대장'!$C$4:$C$503,$A20,'미수금 대장'!$F$4:$F$503)) | C20: =IF($A20="","",SUMIF('미수금 대장'!$C$4:$C$503,$A20,'미수금 대장'!$H$4:$H$503)) | D20: =IF($A20="","",SUMIF('미수금 대장'!$C$4:$C$503,$A20,'미수금 대장'!$I$4:$I$503)) | E20: =IF($A20="","",SUMIFS('미수금 대장'!$I$4:$I$503,'미수금 대장'!$C$4:$C$503,$A20,'미수금 대장'!$J$4:$J$503,"미입금")+SUMIFS('미수금 대장'!$I$4:$I$503,'미수금 대장'!$C$4:$C$503,$A20,'미수금 대장'!$J$4:$J$503,"부분입금")) | F20: =IF($A20="","",SUMIFS('미수금 대장'!$I$4:$I$503,'미수금 대장'!$C$4:$C$503,$A20,'미수금 대장'!$K$4:$K$503,">=1",'미수금 대장'!$K$4:$K$503,"<=30")) | G20: =IF($A20="","",SUMIFS('미수금 대장'!$I$4:$I$503,'미수금 대장'!$C$4:$C$503,$A20,'미수금 대장'!$K$4:$K$503,">=31",'미수금 대장'!$K$4:$K$503,"<=60")) | H20: =IF($A20="","",SUMIFS('미수금 대장'!$I$4:$I$503,'미수금 대장'!$C$4:$C$503,$A20,'미수금 대장'!$K$4:$K$503,">=61",'미수금 대장'!$K$4:$K$503,"<=90")) | I20: =IF($A20="","",SUMIFS('미수금 대장'!$I$4:$I$503,'미수금 대장'!$C$4:$C$503,$A20,'미수금 대장'!$K$4:$K$503,">90")) | J20: =IF($A20="","",COUNTIFS('미수금 대장'!$C$4:$C$503,$A20,'미수금 대장'!$J$4:$J$503,"연체"))
A21: =IFERROR(INDEX('미수금 대장'!$C$4:$C$503,MATCH(18,'미수금 대장'!$M$4:$M$503,0)),"") | B21: =IF($A21="","",SUMIF('미수금 대장'!$C$4:$C$503,$A21,'미수금 대장'!$F$4:$F$503)) | C21: =IF($A21="","",SUMIF('미수금 대장'!$C$4:$C$503,$A21,'미수금 대장'!$H$4:$H$503)) | D21: =IF($A21="","",SUMIF('미수금 대장'!$C$4:$C$503,$A21,'미수금 대장'!$I$4:$I$503)) | E21: =IF($A21="","",SUMIFS('미수금 대장'!$I$4:$I$503,'미수금 대장'!$C$4:$C$503,$A21,'미수금 대장'!$J$4:$J$503,"미입금")+SUMIFS('미수금 대장'!$I$4:$I$503,'미수금 대장'!$C$4:$C$503,$A21,'미수금 대장'!$J$4:$J$503,"부분입금")) | F21: =IF($A21="","",SUMIFS('미수금 대장'!$I$4:$I$503,'미수금 대장'!$C$4:$C$503,$A21,'미수금 대장'!$K$4:$K$503,">=1",'미수금 대장'!$K$4:$K$503,"<=30")) | G21: =IF($A21="","",SUMIFS('미수금 대장'!$I$4:$I$503,'미수금 대장'!$C$4:$C$503,$A21,'미수금 대장'!$K$4:$K$503,">=31",'미수금 대장'!$K$4:$K$503,"<=60")) | H21: =IF($A21="","",SUMIFS('미수금 대장'!$I$4:$I$503,'미수금 대장'!$C$4:$C$503,$A21,'미수금 대장'!$K$4:$K$503,">=61",'미수금 대장'!$K$4:$K$503,"<=90")) | I21: =IF($A21="","",SUMIFS('미수금 대장'!$I$4:$I$503,'미수금 대장'!$C$4:$C$503,$A21,'미수금 대장'!$K$4:$K$503,">90")) | J21: =IF($A21="","",COUNTIFS('미수금 대장'!$C$4:$C$503,$A21,'미수금 대장'!$J$4:$J$503,"연체"))
A22: =IFERROR(INDEX('미수금 대장'!$C$4:$C$503,MATCH(19,'미수금 대장'!$M$4:$M$503,0)),"") | B22: =IF($A22="","",SUMIF('미수금 대장'!$C$4:$C$503,$A22,'미수금 대장'!$F$4:$F$503)) | C22: =IF($A22="","",SUMIF('미수금 대장'!$C$4:$C$503,$A22,'미수금 대장'!$H$4:$H$503)) | D22: =IF($A22="","",SUMIF('미수금 대장'!$C$4:$C$503,$A22,'미수금 대장'!$I$4:$I$503)) | E22: =IF($A22="","",SUMIFS('미수금 대장'!$I$4:$I$503,'미수금 대장'!$C$4:$C$503,$A22,'미수금 대장'!$J$4:$J$503,"미입금")+SUMIFS('미수금 대장'!$I$4:$I$503,'미수금 대장'!$C$4:$C$503,$A22,'미수금 대장'!$J$4:$J$503,"부분입금")) | F22: =IF($A22="","",SUMIFS('미수금 대장'!$I$4:$I$503,'미수금 대장'!$C$4:$C$503,$A22,'미수금 대장'!$K$4:$K$503,">=1",'미수금 대장'!$K$4:$K$503,"<=30")) | G22: =IF($A22="","",SUMIFS('미수금 대장'!$I$4:$I$503,'미수금 대장'!$C$4:$C$503,$A22,'미수금 대장'!$K$4:$K$503,">=31",'미수금 대장'!$K$4:$K$503,"<=60")) | H22: =IF($A22="","",SUMIFS('미수금 대장'!$I$4:$I$503,'미수금 대장'!$C$4:$C$503,$A22,'미수금 대장'!$K$4:$K$503,">=61",'미수금 대장'!$K$4:$K$503,"<=90")) | I22: =IF($A22="","",SUMIFS('미수금 대장'!$I$4:$I$503,'미수금 대장'!$C$4:$C$503,$A22,'미수금 대장'!$K$4:$K$503,">90")) | J22: =IF($A22="","",COUNTIFS('미수금 대장'!$C$4:$C$503,$A22,'미수금 대장'!$J$4:$J$503,"연체"))
A23: =IFERROR(INDEX('미수금 대장'!$C$4:$C$503,MATCH(20,'미수금 대장'!$M$4:$M$503,0)),"") | B23: =IF($A23="","",SUMIF('미수금 대장'!$C$4:$C$503,$A23,'미수금 대장'!$F$4:$F$503)) | C23: =IF($A23="","",SUMIF('미수금 대장'!$C$4:$C$503,$A23,'미수금 대장'!$H$4:$H$503)) | D23: =IF($A23="","",SUMIF('미수금 대장'!$C$4:$C$503,$A23,'미수금 대장'!$I$4:$I$503)) | E23: =IF($A23="","",SUMIFS('미수금 대장'!$I$4:$I$503,'미수금 대장'!$C$4:$C$503,$A23,'미수금 대장'!$J$4:$J$503,"미입금")+SUMIFS('미수금 대장'!$I$4:$I$503,'미수금 대장'!$C$4:$C$503,$A23,'미수금 대장'!$J$4:$J$503,"부분입금")) | F23: =IF($A23="","",SUMIFS('미수금 대장'!$I$4:$I$503,'미수금 대장'!$C$4:$C$503,$A23,'미수금 대장'!$K$4:$K$503,">=1",'미수금 대장'!$K$4:$K$503,"<=30")) | G23: =IF($A23="","",SUMIFS('미수금 대장'!$I$4:$I$503,'미수금 대장'!$C$4:$C$503,$A23,'미수금 대장'!$K$4:$K$503,">=31",'미수금 대장'!$K$4:$K$503,"<=60")) | H23: =IF($A23="","",SUMIFS('미수금 대장'!$I$4:$I$503,'미수금 대장'!$C$4:$C$503,$A23,'미수금 대장'!$K$4:$K$503,">=61",'미수금 대장'!$K$4:$K$503,"<=90")) | I23: =IF($A23="","",SUMIFS('미수금 대장'!$I$4:$I$503,'미수금 대장'!$C$4:$C$503,$A23,'미수금 대장'!$K$4:$K$503,">90")) | J23: =IF($A23="","",COUNTIFS('미수금 대장'!$C$4:$C$503,$A23,'미수금 대장'!$J$4:$J$503,"연체"))
A24: =IFERROR(INDEX('미수금 대장'!$C$4:$C$503,MATCH(21,'미수금 대장'!$M$4:$M$503,0)),"") | B24: =IF($A24="","",SUMIF('미수금 대장'!$C$4:$C$503,$A24,'미수금 대장'!$F$4:$F$503)) | C24: =IF($A24="","",SUMIF('미수금 대장'!$C$4:$C$503,$A24,'미수금 대장'!$H$4:$H$503)) | D24: =IF($A24="","",SUMIF('미수금 대장'!$C$4:$C$503,$A24,'미수금 대장'!$I$4:$I$503)) | E24: =IF($A24="","",SUMIFS('미수금 대장'!$I$4:$I$503,'미수금 대장'!$C$4:$C$503,$A24,'미수금 대장'!$J$4:$J$503,"미입금")+SUMIFS('미수금 대장'!$I$4:$I$503,'미수금 대장'!$C$4:$C$503,$A24,'미수금 대장'!$J$4:$J$503,"부분입금")) | F24: =IF($A24="","",SUMIFS('미수금 대장'!$I$4:$I$503,'미수금 대장'!$C$4:$C$503,$A24,'미수금 대장'!$K$4:$K$503,">=1",'미수금 대장'!$K$4:$K$503,"<=30")) | G24: =IF($A24="","",SUMIFS('미수금 대장'!$I$4:$I$503,'미수금 대장'!$C$4:$C$503,$A24,'미수금 대장'!$K$4:$K$503,">=31",'미수금 대장'!$K$4:$K$503,"<=60")) | H24: =IF($A24="","",SUMIFS('미수금 대장'!$I$4:$I$503,'미수금 대장'!$C$4:$C$503,$A24,'미수금 대장'!$K$4:$K$503,">=61",'미수금 대장'!$K$4:$K$503,"<=90")) | I24: =IF($A24="","",SUMIFS('미수금 대장'!$I$4:$I$503,'미수금 대장'!$C$4:$C$503,$A24,'미수금 대장'!$K$4:$K$503,">90")) | J24: =IF($A24="","",COUNTIFS('미수금 대장'!$C$4:$C$503,$A24,'미수금 대장'!$J$4:$J$503,"연체"))
A25: =IFERROR(INDEX('미수금 대장'!$C$4:$C$503,MATCH(22,'미수금 대장'!$M$4:$M$503,0)),"") | B25: =IF($A25="","",SUMIF('미수금 대장'!$C$4:$C$503,$A25,'미수금 대장'!$F$4:$F$503)) | C25: =IF($A25="","",SUMIF('미수금 대장'!$C$4:$C$503,$A25,'미수금 대장'!$H$4:$H$503)) | D25: =IF($A25="","",SUMIF('미수금 대장'!$C$4:$C$503,$A25,'미수금 대장'!$I$4:$I$503)) | E25: =IF($A25="","",SUMIFS('미수금 대장'!$I$4:$I$503,'미수금 대장'!$C$4:$C$503,$A25,'미수금 대장'!$J$4:$J$503,"미입금")+SUMIFS('미수금 대장'!$I$4:$I$503,'미수금 대장'!$C$4:$C$503,$A25,'미수금 대장'!$J$4:$J$503,"부분입금")) | F25: =IF($A25="","",SUMIFS('미수금 대장'!$I$4:$I$503,'미수금 대장'!$C$4:$C$503,$A25,'미수금 대장'!$K$4:$K$503,">=1",'미수금 대장'!$K$4:$K$503,"<=30")) | G25: =IF($A25="","",SUMIFS('미수금 대장'!$I$4:$I$503,'미수금 대장'!$C$4:$C$503,$A25,'미수금 대장'!$K$4:$K$503,">=31",'미수금 대장'!$K$4:$K$503,"<=60")) | H25: =IF($A25="","",SUMIFS('미수금 대장'!$I$4:$I$503,'미수금 대장'!$C$4:$C$503,$A25,'미수금 대장'!$K$4:$K$503,">=61",'미수금 대장'!$K$4:$K$503,"<=90")) | I25: =IF($A25="","",SUMIFS('미수금 대장'!$I$4:$I$503,'미수금 대장'!$C$4:$C$503,$A25,'미수금 대장'!$K$4:$K$503,">90")) | J25: =IF($A25="","",COUNTIFS('미수금 대장'!$C$4:$C$503,$A25,'미수금 대장'!$J$4:$J$503,"연체"))
A26: =IFERROR(INDEX('미수금 대장'!$C$4:$C$503,MATCH(23,'미수금 대장'!$M$4:$M$503,0)),"") | B26: =IF($A26="","",SUMIF('미수금 대장'!$C$4:$C$503,$A26,'미수금 대장'!$F$4:$F$503)) | C26: =IF($A26="","",SUMIF('미수금 대장'!$C$4:$C$503,$A26,'미수금 대장'!$H$4:$H$503)) | D26: =IF($A26="","",SUMIF('미수금 대장'!$C$4:$C$503,$A26,'미수금 대장'!$I$4:$I$503)) | E26: =IF($A26="","",SUMIFS('미수금 대장'!$I$4:$I$503,'미수금 대장'!$C$4:$C$503,$A26,'미수금 대장'!$J$4:$J$503,"미입금")+SUMIFS('미수금 대장'!$I$4:$I$503,'미수금 대장'!$C$4:$C$503,$A26,'미수금 대장'!$J$4:$J$503,"부분입금")) | F26: =IF($A26="","",SUMIFS('미수금 대장'!$I$4:$I$503,'미수금 대장'!$C$4:$C$503,$A26,'미수금 대장'!$K$4:$K$503,">=1",'미수금 대장'!$K$4:$K$503,"<=30")) | G26: =IF($A26="","",SUMIFS('미수금 대장'!$I$4:$I$503,'미수금 대장'!$C$4:$C$503,$A26,'미수금 대장'!$K$4:$K$503,">=31",'미수금 대장'!$K$4:$K$503,"<=60")) | H26: =IF($A26="","",SUMIFS('미수금 대장'!$I$4:$I$503,'미수금 대장'!$C$4:$C$503,$A26,'미수금 대장'!$K$4:$K$503,">=61",'미수금 대장'!$K$4:$K$503,"<=90")) | I26: =IF($A26="","",SUMIFS('미수금 대장'!$I$4:$I$503,'미수금 대장'!$C$4:$C$503,$A26,'미수금 대장'!$K$4:$K$503,">90")) | J26: =IF($A26="","",COUNTIFS('미수금 대장'!$C$4:$C$503,$A26,'미수금 대장'!$J$4:$J$503,"연체"))
A27: =IFERROR(INDEX('미수금 대장'!$C$4:$C$503,MATCH(24,'미수금 대장'!$M$4:$M$503,0)),"") | B27: =IF($A27="","",SUMIF('미수금 대장'!$C$4:$C$503,$A27,'미수금 대장'!$F$4:$F$503)) | C27: =IF($A27="","",SUMIF('미수금 대장'!$C$4:$C$503,$A27,'미수금 대장'!$H$4:$H$503)) | D27: =IF($A27="","",SUMIF('미수금 대장'!$C$4:$C$503,$A27,'미수금 대장'!$I$4:$I$503)) | E27: =IF($A27="","",SUMIFS('미수금 대장'!$I$4:$I$503,'미수금 대장'!$C$4:$C$503,$A27,'미수금 대장'!$J$4:$J$503,"미입금")+SUMIFS('미수금 대장'!$I$4:$I$503,'미수금 대장'!$C$4:$C$503,$A27,'미수금 대장'!$J$4:$J$503,"부분입금")) | F27: =IF($A27="","",SUMIFS('미수금 대장'!$I$4:$I$503,'미수금 대장'!$C$4:$C$503,$A27,'미수금 대장'!$K$4:$K$503,">=1",'미수금 대장'!$K$4:$K$503,"<=30")) | G27: =IF($A27="","",SUMIFS('미수금 대장'!$I$4:$I$503,'미수금 대장'!$C$4:$C$503,$A27,'미수금 대장'!$K$4:$K$503,">=31",'미수금 대장'!$K$4:$K$503,"<=60")) | H27: =IF($A27="","",SUMIFS('미수금 대장'!$I$4:$I$503,'미수금 대장'!$C$4:$C$503,$A27,'미수금 대장'!$K$4:$K$503,">=61",'미수금 대장'!$K$4:$K$503,"<=90")) | I27: =IF($A27="","",SUMIFS('미수금 대장'!$I$4:$I$503,'미수금 대장'!$C$4:$C$503,$A27,'미수금 대장'!$K$4:$K$503,">90")) | J27: =IF($A27="","",COUNTIFS('미수금 대장'!$C$4:$C$503,$A27,'미수금 대장'!$J$4:$J$503,"연체"))
A28: =IFERROR(INDEX('미수금 대장'!$C$4:$C$503,MATCH(25,'미수금 대장'!$M$4:$M$503,0)),"") | B28: =IF($A28="","",SUMIF('미수금 대장'!$C$4:$C$503,$A28,'미수금 대장'!$F$4:$F$503)) | C28: =IF($A28="","",SUMIF('미수금 대장'!$C$4:$C$503,$A28,'미수금 대장'!$H$4:$H$503)) | D28: =IF($A28="","",SUMIF('미수금 대장'!$C$4:$C$503,$A28,'미수금 대장'!$I$4:$I$503)) | E28: =IF($A28="","",SUMIFS('미수금 대장'!$I$4:$I$503,'미수금 대장'!$C$4:$C$503,$A28,'미수금 대장'!$J$4:$J$503,"미입금")+SUMIFS('미수금 대장'!$I$4:$I$503,'미수금 대장'!$C$4:$C$503,$A28,'미수금 대장'!$J$4:$J$503,"부분입금")) | F28: =IF($A28="","",SUMIFS('미수금 대장'!$I$4:$I$503,'미수금 대장'!$C$4:$C$503,$A28,'미수금 대장'!$K$4:$K$503,">=1",'미수금 대장'!$K$4:$K$503,"<=30")) | G28: =IF($A28="","",SUMIFS('미수금 대장'!$I$4:$I$503,'미수금 대장'!$C$4:$C$503,$A28,'미수금 대장'!$K$4:$K$503,">=31",'미수금 대장'!$K$4:$K$503,"<=60")) | H28: =IF($A28="","",SUMIFS('미수금 대장'!$I$4:$I$503,'미수금 대장'!$C$4:$C$503,$A28,'미수금 대장'!$K$4:$K$503,">=61",'미수금 대장'!$K$4:$K$503,"<=90")) | I28: =IF($A28="","",SUMIFS('미수금 대장'!$I$4:$I$503,'미수금 대장'!$C$4:$C$503,$A28,'미수금 대장'!$K$4:$K$503,">90")) | J28: =IF($A28="","",COUNTIFS('미수금 대장'!$C$4:$C$503,$A28,'미수금 대장'!$J$4:$J$503,"연체"))
A29: =IFERROR(INDEX('미수금 대장'!$C$4:$C$503,MATCH(26,'미수금 대장'!$M$4:$M$503,0)),"") | B29: =IF($A29="","",SUMIF('미수금 대장'!$C$4:$C$503,$A29,'미수금 대장'!$F$4:$F$503)) | C29: =IF($A29="","",SUMIF('미수금 대장'!$C$4:$C$503,$A29,'미수금 대장'!$H$4:$H$503)) | D29: =IF($A29="","",SUMIF('미수금 대장'!$C$4:$C$503,$A29,'미수금 대장'!$I$4:$I$503)) | E29: =IF($A29="","",SUMIFS('미수금 대장'!$I$4:$I$503,'미수금 대장'!$C$4:$C$503,$A29,'미수금 대장'!$J$4:$J$503,"미입금")+SUMIFS('미수금 대장'!$I$4:$I$503,'미수금 대장'!$C$4:$C$503,$A29,'미수금 대장'!$J$4:$J$503,"부분입금")) | F29: =IF($A29="","",SUMIFS('미수금 대장'!$I$4:$I$503,'미수금 대장'!$C$4:$C$503,$A29,'미수금 대장'!$K$4:$K$503,">=1",'미수금 대장'!$K$4:$K$503,"<=30")) | G29: =IF($A29="","",SUMIFS('미수금 대장'!$I$4:$I$503,'미수금 대장'!$C$4:$C$503,$A29,'미수금 대장'!$K$4:$K$503,">=31",'미수금 대장'!$K$4:$K$503,"<=60")) | H29: =IF($A29="","",SUMIFS('미수금 대장'!$I$4:$I$503,'미수금 대장'!$C$4:$C$503,$A29,'미수금 대장'!$K$4:$K$503,">=61",'미수금 대장'!$K$4:$K$503,"<=90")) | I29: =IF($A29="","",SUMIFS('미수금 대장'!$I$4:$I$503,'미수금 대장'!$C$4:$C$503,$A29,'미수금 대장'!$K$4:$K$503,">90")) | J29: =IF($A29="","",COUNTIFS('미수금 대장'!$C$4:$C$503,$A29,'미수금 대장'!$J$4:$J$503,"연체"))
A30: =IFERROR(INDEX('미수금 대장'!$C$4:$C$503,MATCH(27,'미수금 대장'!$M$4:$M$503,0)),"") | B30: =IF($A30="","",SUMIF('미수금 대장'!$C$4:$C$503,$A30,'미수금 대장'!$F$4:$F$503)) | C30: =IF($A30="","",SUMIF('미수금 대장'!$C$4:$C$503,$A30,'미수금 대장'!$H$4:$H$503)) | D30: =IF($A30="","",SUMIF('미수금 대장'!$C$4:$C$503,$A30,'미수금 대장'!$I$4:$I$503)) | E30: =IF($A30="","",SUMIFS('미수금 대장'!$I$4:$I$503,'미수금 대장'!$C$4:$C$503,$A30,'미수금 대장'!$J$4:$J$503,"미입금")+SUMIFS('미수금 대장'!$I$4:$I$503,'미수금 대장'!$C$4:$C$503,$A30,'미수금 대장'!$J$4:$J$503,"부분입금")) | F30: =IF($A30="","",SUMIFS('미수금 대장'!$I$4:$I$503,'미수금 대장'!$C$4:$C$503,$A30,'미수금 대장'!$K$4:$K$503,">=1",'미수금 대장'!$K$4:$K$503,"<=30")) | G30: =IF($A30="","",SUMIFS('미수금 대장'!$I$4:$I$503,'미수금 대장'!$C$4:$C$503,$A30,'미수금 대장'!$K$4:$K$503,">=31",'미수금 대장'!$K$4:$K$503,"<=60")) | H30: =IF($A30="","",SUMIFS('미수금 대장'!$I$4:$I$503,'미수금 대장'!$C$4:$C$503,$A30,'미수금 대장'!$K$4:$K$503,">=61",'미수금 대장'!$K$4:$K$503,"<=90")) | I30: =IF($A30="","",SUMIFS('미수금 대장'!$I$4:$I$503,'미수금 대장'!$C$4:$C$503,$A30,'미수금 대장'!$K$4:$K$503,">90")) | J30: =IF($A30="","",COUNTIFS('미수금 대장'!$C$4:$C$503,$A30,'미수금 대장'!$J$4:$J$503,"연체"))
A31: =IFERROR(INDEX('미수금 대장'!$C$4:$C$503,MATCH(28,'미수금 대장'!$M$4:$M$503,0)),"") | B31: =IF($A31="","",SUMIF('미수금 대장'!$C$4:$C$503,$A31,'미수금 대장'!$F$4:$F$503)) | C31: =IF($A31="","",SUMIF('미수금 대장'!$C$4:$C$503,$A31,'미수금 대장'!$H$4:$H$503)) | D31: =IF($A31="","",SUMIF('미수금 대장'!$C$4:$C$503,$A31,'미수금 대장'!$I$4:$I$503)) | E31: =IF($A31="","",SUMIFS('미수금 대장'!$I$4:$I$503,'미수금 대장'!$C$4:$C$503,$A31,'미수금 대장'!$J$4:$J$503,"미입금")+SUMIFS('미수금 대장'!$I$4:$I$503,'미수금 대장'!$C$4:$C$503,$A31,'미수금 대장'!$J$4:$J$503,"부분입금")) | F31: =IF($A31="","",SUMIFS('미수금 대장'!$I$4:$I$503,'미수금 대장'!$C$4:$C$503,$A31,'미수금 대장'!$K$4:$K$503,">=1",'미수금 대장'!$K$4:$K$503,"<=30")) | G31: =IF($A31="","",SUMIFS('미수금 대장'!$I$4:$I$503,'미수금 대장'!$C$4:$C$503,$A31,'미수금 대장'!$K$4:$K$503,">=31",'미수금 대장'!$K$4:$K$503,"<=60")) | H31: =IF($A31="","",SUMIFS('미수금 대장'!$I$4:$I$503,'미수금 대장'!$C$4:$C$503,$A31,'미수금 대장'!$K$4:$K$503,">=61",'미수금 대장'!$K$4:$K$503,"<=90")) | I31: =IF($A31="","",SUMIFS('미수금 대장'!$I$4:$I$503,'미수금 대장'!$C$4:$C$503,$A31,'미수금 대장'!$K$4:$K$503,">90")) | J31: =IF($A31="","",COUNTIFS('미수금 대장'!$C$4:$C$503,$A31,'미수금 대장'!$J$4:$J$503,"연체"))
A32: =IFERROR(INDEX('미수금 대장'!$C$4:$C$503,MATCH(29,'미수금 대장'!$M$4:$M$503,0)),"") | B32: =IF($A32="","",SUMIF('미수금 대장'!$C$4:$C$503,$A32,'미수금 대장'!$F$4:$F$503)) | C32: =IF($A32="","",SUMIF('미수금 대장'!$C$4:$C$503,$A32,'미수금 대장'!$H$4:$H$503)) | D32: =IF($A32="","",SUMIF('미수금 대장'!$C$4:$C$503,$A32,'미수금 대장'!$I$4:$I$503)) | E32: =IF($A32="","",SUMIFS('미수금 대장'!$I$4:$I$503,'미수금 대장'!$C$4:$C$503,$A32,'미수금 대장'!$J$4:$J$503,"미입금")+SUMIFS('미수금 대장'!$I$4:$I$503,'미수금 대장'!$C$4:$C$503,$A32,'미수금 대장'!$J$4:$J$503,"부분입금")) | F32: =IF($A32="","",SUMIFS('미수금 대장'!$I$4:$I$503,'미수금 대장'!$C$4:$C$503,$A32,'미수금 대장'!$K$4:$K$503,">=1",'미수금 대장'!$K$4:$K$503,"<=30")) | G32: =IF($A32="","",SUMIFS('미수금 대장'!$I$4:$I$503,'미수금 대장'!$C$4:$C$503,$A32,'미수금 대장'!$K$4:$K$503,">=31",'미수금 대장'!$K$4:$K$503,"<=60")) | H32: =IF($A32="","",SUMIFS('미수금 대장'!$I$4:$I$503,'미수금 대장'!$C$4:$C$503,$A32,'미수금 대장'!$K$4:$K$503,">=61",'미수금 대장'!$K$4:$K$503,"<=90")) | I32: =IF($A32="","",SUMIFS('미수금 대장'!$I$4:$I$503,'미수금 대장'!$C$4:$C$503,$A32,'미수금 대장'!$K$4:$K$503,">90")) | J32: =IF($A32="","",COUNTIFS('미수금 대장'!$C$4:$C$503,$A32,'미수금 대장'!$J$4:$J$503,"연체"))
A33: =IFERROR(INDEX('미수금 대장'!$C$4:$C$503,MATCH(30,'미수금 대장'!$M$4:$M$503,0)),"") | B33: =IF($A33="","",SUMIF('미수금 대장'!$C$4:$C$503,$A33,'미수금 대장'!$F$4:$F$503)) | C33: =IF($A33="","",SUMIF('미수금 대장'!$C$4:$C$503,$A33,'미수금 대장'!$H$4:$H$503)) | D33: =IF($A33="","",SUMIF('미수금 대장'!$C$4:$C$503,$A33,'미수금 대장'!$I$4:$I$503)) | E33: =IF($A33="","",SUMIFS('미수금 대장'!$I$4:$I$503,'미수금 대장'!$C$4:$C$503,$A33,'미수금 대장'!$J$4:$J$503,"미입금")+SUMIFS('미수금 대장'!$I$4:$I$503,'미수금 대장'!$C$4:$C$503,$A33,'미수금 대장'!$J$4:$J$503,"부분입금")) | F33: =IF($A33="","",SUMIFS('미수금 대장'!$I$4:$I$503,'미수금 대장'!$C$4:$C$503,$A33,'미수금 대장'!$K$4:$K$503,">=1",'미수금 대장'!$K$4:$K$503,"<=30")) | G33: =IF($A33="","",SUMIFS('미수금 대장'!$I$4:$I$503,'미수금 대장'!$C$4:$C$503,$A33,'미수금 대장'!$K$4:$K$503,">=31",'미수금 대장'!$K$4:$K$503,"<=60")) | H33: =IF($A33="","",SUMIFS('미수금 대장'!$I$4:$I$503,'미수금 대장'!$C$4:$C$503,$A33,'미수금 대장'!$K$4:$K$503,">=61",'미수금 대장'!$K$4:$K$503,"<=90")) | I33: =IF($A33="","",SUMIFS('미수금 대장'!$I$4:$I$503,'미수금 대장'!$C$4:$C$503,$A33,'미수금 대장'!$K$4:$K$503,">90")) | J33: =IF($A33="","",COUNTIFS('미수금 대장'!$C$4:$C$503,$A33,'미수금 대장'!$J$4:$J$503,"연체"))
A34: =IFERROR(INDEX('미수금 대장'!$C$4:$C$503,MATCH(31,'미수금 대장'!$M$4:$M$503,0)),"") | B34: =IF($A34="","",SUMIF('미수금 대장'!$C$4:$C$503,$A34,'미수금 대장'!$F$4:$F$503)) | C34: =IF($A34="","",SUMIF('미수금 대장'!$C$4:$C$503,$A34,'미수금 대장'!$H$4:$H$503)) | D34: =IF($A34="","",SUMIF('미수금 대장'!$C$4:$C$503,$A34,'미수금 대장'!$I$4:$I$503)) | E34: =IF($A34="","",SUMIFS('미수금 대장'!$I$4:$I$503,'미수금 대장'!$C$4:$C$503,$A34,'미수금 대장'!$J$4:$J$503,"미입금")+SUMIFS('미수금 대장'!$I$4:$I$503,'미수금 대장'!$C$4:$C$503,$A34,'미수금 대장'!$J$4:$J$503,"부분입금")) | F34: =IF($A34="","",SUMIFS('미수금 대장'!$I$4:$I$503,'미수금 대장'!$C$4:$C$503,$A34,'미수금 대장'!$K$4:$K$503,">=1",'미수금 대장'!$K$4:$K$503,"<=30")) | G34: =IF($A34="","",SUMIFS('미수금 대장'!$I$4:$I$503,'미수금 대장'!$C$4:$C$503,$A34,'미수금 대장'!$K$4:$K$503,">=31",'미수금 대장'!$K$4:$K$503,"<=60")) | H34: =IF($A34="","",SUMIFS('미수금 대장'!$I$4:$I$503,'미수금 대장'!$C$4:$C$503,$A34,'미수금 대장'!$K$4:$K$503,">=61",'미수금 대장'!$K$4:$K$503,"<=90")) | I34: =IF($A34="","",SUMIFS('미수금 대장'!$I$4:$I$503,'미수금 대장'!$C$4:$C$503,$A34,'미수금 대장'!$K$4:$K$503,">90")) | J34: =IF($A34="","",COUNTIFS('미수금 대장'!$C$4:$C$503,$A34,'미수금 대장'!$J$4:$J$503,"연체"))
A35: =IFERROR(INDEX('미수금 대장'!$C$4:$C$503,MATCH(32,'미수금 대장'!$M$4:$M$503,0)),"") | B35: =IF($A35="","",SUMIF('미수금 대장'!$C$4:$C$503,$A35,'미수금 대장'!$F$4:$F$503)) | C35: =IF($A35="","",SUMIF('미수금 대장'!$C$4:$C$503,$A35,'미수금 대장'!$H$4:$H$503)) | D35: =IF($A35="","",SUMIF('미수금 대장'!$C$4:$C$503,$A35,'미수금 대장'!$I$4:$I$503)) | E35: =IF($A35="","",SUMIFS('미수금 대장'!$I$4:$I$503,'미수금 대장'!$C$4:$C$503,$A35,'미수금 대장'!$J$4:$J$503,"미입금")+SUMIFS('미수금 대장'!$I$4:$I$503,'미수금 대장'!$C$4:$C$503,$A35,'미수금 대장'!$J$4:$J$503,"부분입금")) | F35: =IF($A35="","",SUMIFS('미수금 대장'!$I$4:$I$503,'미수금 대장'!$C$4:$C$503,$A35,'미수금 대장'!$K$4:$K$503,">=1",'미수금 대장'!$K$4:$K$503,"<=30")) | G35: =IF($A35="","",SUMIFS('미수금 대장'!$I$4:$I$503,'미수금 대장'!$C$4:$C$503,$A35,'미수금 대장'!$K$4:$K$503,">=31",'미수금 대장'!$K$4:$K$503,"<=60")) | H35: =IF($A35="","",SUMIFS('미수금 대장'!$I$4:$I$503,'미수금 대장'!$C$4:$C$503,$A35,'미수금 대장'!$K$4:$K$503,">=61",'미수금 대장'!$K$4:$K$503,"<=90")) | I35: =IF($A35="","",SUMIFS('미수금 대장'!$I$4:$I$503,'미수금 대장'!$C$4:$C$503,$A35,'미수금 대장'!$K$4:$K$503,">90")) | J35: =IF($A35="","",COUNTIFS('미수금 대장'!$C$4:$C$503,$A35,'미수금 대장'!$J$4:$J$503,"연체"))
A36: =IFERROR(INDEX('미수금 대장'!$C$4:$C$503,MATCH(33,'미수금 대장'!$M$4:$M$503,0)),"") | B36: =IF($A36="","",SUMIF('미수금 대장'!$C$4:$C$503,$A36,'미수금 대장'!$F$4:$F$503)) | C36: =IF($A36="","",SUMIF('미수금 대장'!$C$4:$C$503,$A36,'미수금 대장'!$H$4:$H$503)) | D36: =IF($A36="","",SUMIF('미수금 대장'!$C$4:$C$503,$A36,'미수금 대장'!$I$4:$I$503)) | E36: =IF($A36="","",SUMIFS('미수금 대장'!$I$4:$I$503,'미수금 대장'!$C$4:$C$503,$A36,'미수금 대장'!$J$4:$J$503,"미입금")+SUMIFS('미수금 대장'!$I$4:$I$503,'미수금 대장'!$C$4:$C$503,$A36,'미수금 대장'!$J$4:$J$503,"부분입금")) | F36: =IF($A36="","",SUMIFS('미수금 대장'!$I$4:$I$503,'미수금 대장'!$C$4:$C$503,$A36,'미수금 대장'!$K$4:$K$503,">=1",'미수금 대장'!$K$4:$K$503,"<=30")) | G36: =IF($A36="","",SUMIFS('미수금 대장'!$I$4:$I$503,'미수금 대장'!$C$4:$C$503,$A36,'미수금 대장'!$K$4:$K$503,">=31",'미수금 대장'!$K$4:$K$503,"<=60")) | H36: =IF($A36="","",SUMIFS('미수금 대장'!$I$4:$I$503,'미수금 대장'!$C$4:$C$503,$A36,'미수금 대장'!$K$4:$K$503,">=61",'미수금 대장'!$K$4:$K$503,"<=90")) | I36: =IF($A36="","",SUMIFS('미수금 대장'!$I$4:$I$503,'미수금 대장'!$C$4:$C$503,$A36,'미수금 대장'!$K$4:$K$503,">90")) | J36: =IF($A36="","",COUNTIFS('미수금 대장'!$C$4:$C$503,$A36,'미수금 대장'!$J$4:$J$503,"연체"))
A37: =IFERROR(INDEX('미수금 대장'!$C$4:$C$503,MATCH(34,'미수금 대장'!$M$4:$M$503,0)),"") | B37: =IF($A37="","",SUMIF('미수금 대장'!$C$4:$C$503,$A37,'미수금 대장'!$F$4:$F$503)) | C37: =IF($A37="","",SUMIF('미수금 대장'!$C$4:$C$503,$A37,'미수금 대장'!$H$4:$H$503)) | D37: =IF($A37="","",SUMIF('미수금 대장'!$C$4:$C$503,$A37,'미수금 대장'!$I$4:$I$503)) | E37: =IF($A37="","",SUMIFS('미수금 대장'!$I$4:$I$503,'미수금 대장'!$C$4:$C$503,$A37,'미수금 대장'!$J$4:$J$503,"미입금")+SUMIFS('미수금 대장'!$I$4:$I$503,'미수금 대장'!$C$4:$C$503,$A37,'미수금 대장'!$J$4:$J$503,"부분입금")) | F37: =IF($A37="","",SUMIFS('미수금 대장'!$I$4:$I$503,'미수금 대장'!$C$4:$C$503,$A37,'미수금 대장'!$K$4:$K$503,">=1",'미수금 대장'!$K$4:$K$503,"<=30")) | G37: =IF($A37="","",SUMIFS('미수금 대장'!$I$4:$I$503,'미수금 대장'!$C$4:$C$503,$A37,'미수금 대장'!$K$4:$K$503,">=31",'미수금 대장'!$K$4:$K$503,"<=60")) | H37: =IF($A37="","",SUMIFS('미수금 대장'!$I$4:$I$503,'미수금 대장'!$C$4:$C$503,$A37,'미수금 대장'!$K$4:$K$503,">=61",'미수금 대장'!$K$4:$K$503,"<=90")) | I37: =IF($A37="","",SUMIFS('미수금 대장'!$I$4:$I$503,'미수금 대장'!$C$4:$C$503,$A37,'미수금 대장'!$K$4:$K$503,">90")) | J37: =IF($A37="","",COUNTIFS('미수금 대장'!$C$4:$C$503,$A37,'미수금 대장'!$J$4:$J$503,"연체"))
A38: =IFERROR(INDEX('미수금 대장'!$C$4:$C$503,MATCH(35,'미수금 대장'!$M$4:$M$503,0)),"") | B38: =IF($A38="","",SUMIF('미수금 대장'!$C$4:$C$503,$A38,'미수금 대장'!$F$4:$F$503)) | C38: =IF($A38="","",SUMIF('미수금 대장'!$C$4:$C$503,$A38,'미수금 대장'!$H$4:$H$503)) | D38: =IF($A38="","",SUMIF('미수금 대장'!$C$4:$C$503,$A38,'미수금 대장'!$I$4:$I$503)) | E38: =IF($A38="","",SUMIFS('미수금 대장'!$I$4:$I$503,'미수금 대장'!$C$4:$C$503,$A38,'미수금 대장'!$J$4:$J$503,"미입금")+SUMIFS('미수금 대장'!$I$4:$I$503,'미수금 대장'!$C$4:$C$503,$A38,'미수금 대장'!$J$4:$J$503,"부분입금")) | F38: =IF($A38="","",SUMIFS('미수금 대장'!$I$4:$I$503,'미수금 대장'!$C$4:$C$503,$A38,'미수금 대장'!$K$4:$K$503,">=1",'미수금 대장'!$K$4:$K$503,"<=30")) | G38: =IF($A38="","",SUMIFS('미수금 대장'!$I$4:$I$503,'미수금 대장'!$C$4:$C$503,$A38,'미수금 대장'!$K$4:$K$503,">=31",'미수금 대장'!$K$4:$K$503,"<=60")) | H38: =IF($A38="","",SUMIFS('미수금 대장'!$I$4:$I$503,'미수금 대장'!$C$4:$C$503,$A38,'미수금 대장'!$K$4:$K$503,">=61",'미수금 대장'!$K$4:$K$503,"<=90")) | I38: =IF($A38="","",SUMIFS('미수금 대장'!$I$4:$I$503,'미수금 대장'!$C$4:$C$503,$A38,'미수금 대장'!$K$4:$K$503,">90")) | J38: =IF($A38="","",COUNTIFS('미수금 대장'!$C$4:$C$503,$A38,'미수금 대장'!$J$4:$J$503,"연체"))
A39: =IFERROR(INDEX('미수금 대장'!$C$4:$C$503,MATCH(36,'미수금 대장'!$M$4:$M$503,0)),"") | B39: =IF($A39="","",SUMIF('미수금 대장'!$C$4:$C$503,$A39,'미수금 대장'!$F$4:$F$503)) | C39: =IF($A39="","",SUMIF('미수금 대장'!$C$4:$C$503,$A39,'미수금 대장'!$H$4:$H$503)) | D39: =IF($A39="","",SUMIF('미수금 대장'!$C$4:$C$503,$A39,'미수금 대장'!$I$4:$I$503)) | E39: =IF($A39="","",SUMIFS('미수금 대장'!$I$4:$I$503,'미수금 대장'!$C$4:$C$503,$A39,'미수금 대장'!$J$4:$J$503,"미입금")+SUMIFS('미수금 대장'!$I$4:$I$503,'미수금 대장'!$C$4:$C$503,$A39,'미수금 대장'!$J$4:$J$503,"부분입금")) | F39: =IF($A39="","",SUMIFS('미수금 대장'!$I$4:$I$503,'미수금 대장'!$C$4:$C$503,$A39,'미수금 대장'!$K$4:$K$503,">=1",'미수금 대장'!$K$4:$K$503,"<=30")) | G39: =IF($A39="","",SUMIFS('미수금 대장'!$I$4:$I$503,'미수금 대장'!$C$4:$C$503,$A39,'미수금 대장'!$K$4:$K$503,">=31",'미수금 대장'!$K$4:$K$503,"<=60")) | H39: =IF($A39="","",SUMIFS('미수금 대장'!$I$4:$I$503,'미수금 대장'!$C$4:$C$503,$A39,'미수금 대장'!$K$4:$K$503,">=61",'미수금 대장'!$K$4:$K$503,"<=90")) | I39: =IF($A39="","",SUMIFS('미수금 대장'!$I$4:$I$503,'미수금 대장'!$C$4:$C$503,$A39,'미수금 대장'!$K$4:$K$503,">90")) | J39: =IF($A39="","",COUNTIFS('미수금 대장'!$C$4:$C$503,$A39,'미수금 대장'!$J$4:$J$503,"연체"))
A40: =IFERROR(INDEX('미수금 대장'!$C$4:$C$503,MATCH(37,'미수금 대장'!$M$4:$M$503,0)),"") | B40: =IF($A40="","",SUMIF('미수금 대장'!$C$4:$C$503,$A40,'미수금 대장'!$F$4:$F$503)) | C40: =IF($A40="","",SUMIF('미수금 대장'!$C$4:$C$503,$A40,'미수금 대장'!$H$4:$H$503)) | D40: =IF($A40="","",SUMIF('미수금 대장'!$C$4:$C$503,$A40,'미수금 대장'!$I$4:$I$503)) | E40: =IF($A40="","",SUMIFS('미수금 대장'!$I$4:$I$503,'미수금 대장'!$C$4:$C$503,$A40,'미수금 대장'!$J$4:$J$503,"미입금")+SUMIFS('미수금 대장'!$I$4:$I$503,'미수금 대장'!$C$4:$C$503,$A40,'미수금 대장'!$J$4:$J$503,"부분입금")) | F40: =IF($A40="","",SUMIFS('미수금 대장'!$I$4:$I$503,'미수금 대장'!$C$4:$C$503,$A40,'미수금 대장'!$K$4:$K$503,">=1",'미수금 대장'!$K$4:$K$503,"<=30")) | G40: =IF($A40="","",SUMIFS('미수금 대장'!$I$4:$I$503,'미수금 대장'!$C$4:$C$503,$A40,'미수금 대장'!$K$4:$K$503,">=31",'미수금 대장'!$K$4:$K$503,"<=60")) | H40: =IF($A40="","",SUMIFS('미수금 대장'!$I$4:$I$503,'미수금 대장'!$C$4:$C$503,$A40,'미수금 대장'!$K$4:$K$503,">=61",'미수금 대장'!$K$4:$K$503,"<=90")) | I40: =IF($A40="","",SUMIFS('미수금 대장'!$I$4:$I$503,'미수금 대장'!$C$4:$C$503,$A40,'미수금 대장'!$K$4:$K$503,">90")) | J40: =IF($A40="","",COUNTIFS('미수금 대장'!$C$4:$C$503,$A40,'미수금 대장'!$J$4:$J$503,"연체"))
...

Sheet 사용법
B2: 미수금 관리대장 사용법
B4: 1. 고객에게 청구(세금계산서·거래명세서 발행)할 때마다 '미수금 대장'에 한 줄씩 적습니다. 청구번호에는 세금계산서 승인번호나 거래명세서 번호처럼 겹치지 않는 번호를 씁니다.
B5: 2. 입금예정일(결제기한)을 꼭 적습니다. 이 날짜가 지났는데 잔액이 남으면 상태가 '연체'로 바뀌고 빨간색으로 표시됩니다.
B6: 3. 돈이 들어오면 '입금 내역'에 입금일·청구번호·입금액을 적습니다. 나눠서 들어오면 같은 청구번호로 여러 줄 적습니다. 대장의 입금액·잔액·상태가 자동으로 바뀝니다.
B7: 4. '입금 내역'에서 거래처 칸에 '대장에 없는 청구번호'가 뜨면 청구번호를 잘못 적은 것입니다.
B8: 5. '거래처별 현황'에서 거래처마다 미수금과 연체 구간(1~30일, 31~60일, 61~90일, 90일 초과)을 봅니다. 오래된 미수금부터 연락합니다.
B9: 6. 회색 예시 행(대장 3줄, 입금 내역 2줄)은 지우고 씁니다.
B11: 물품 대금 같은 채권은 오래 받지 못하면 소멸시효가 지나 받기 어려워질 수 있습니다. 오래된 미수금은 전문가와 상의해 조치하세요.
B13: 청구서·입금 확인을 메일로 주고받는다면
B14: AiutoForm은 메일로 받은 청구서를 AI가 읽어 청구서 시트에 쌓고, 결제액을 적으면 잔액과 결제상태(미결제·부분결제·결제완료·연체)를 계산하며, 결제기한을 캘린더에 올립니다.
B15: 가입 없이 데모로 확인: https://aiutoform.co.kr/demo
