Workbook

Sheet 주문 접수 대장
A1: 주문 접수 대장 | D1: 납기 지연 | E1: =COUNTIF($P$4:$P$503,"지연") | F1: 납기 임박 | G1: =COUNTIF($P$4:$P$503,"임박") | H1: 진행 중 | I1: =COUNTIFS($D$4:$D$503,"<>",$O$4:$O$503,"<>납품완료",$O$4:$O$503,"<>취소") | K1: 임박 기준 | L1: 1 | M1: 품목 한 줄에 한 줄. 납기일이 지났으면 '지연'(빨강), 오늘부터 임박 기준 안이면 '임박'(주황). 납품완료·취소는 빠집니다.
A2: 합계 | B2: =SUBTOTAL(103,D4:D503)&"건" | K2: =SUBTOTAL(109,K4:K503)
A3: 수신일 | B3: 수신시각 | C3: 접수 경로 | D3: 거래처 | E3: 발주번호 | F3: 품목 | G3: 규격 | H3: 수량 | I3: 단위 | J3: 단가 | K3: 금액(자동) | L3: 납기일 | M3: 배송지 | N3: 특이사항 | O3: 처리상태 | P3: 납기 표시(자동) | Q3: 접수자 | R3: 원본 위치 | S3: 품목 순번
K4: =IF(OR(H4="",J4=""),"",H4*J4) | P4: =IF(OR(L4="",D4="",O4="납품완료",O4="취소"),"",IF(L4<TODAY(),"지연",IF(L4-TODAY()<=$L$1,"임박",""))) | S4: =IF(F4="","",IF(COUNTIF(F$4:F4,F4)=1,MAX(S$3:S3)+1,""))
K5: =IF(OR(H5="",J5=""),"",H5*J5) | P5: =IF(OR(L5="",D5="",O5="납품완료",O5="취소"),"",IF(L5<TODAY(),"지연",IF(L5-TODAY()<=$L$1,"임박",""))) | S5: =IF(F5="","",IF(COUNTIF(F$4:F5,F5)=1,MAX(S$3:S4)+1,""))
K6: =IF(OR(H6="",J6=""),"",H6*J6) | P6: =IF(OR(L6="",D6="",O6="납품완료",O6="취소"),"",IF(L6<TODAY(),"지연",IF(L6-TODAY()<=$L$1,"임박",""))) | S6: =IF(F6="","",IF(COUNTIF(F$4:F6,F6)=1,MAX(S$3:S5)+1,""))
K7: =IF(OR(H7="",J7=""),"",H7*J7) | P7: =IF(OR(L7="",D7="",O7="납품완료",O7="취소"),"",IF(L7<TODAY(),"지연",IF(L7-TODAY()<=$L$1,"임박",""))) | S7: =IF(F7="","",IF(COUNTIF(F$4:F7,F7)=1,MAX(S$3:S6)+1,""))
K8: =IF(OR(H8="",J8=""),"",H8*J8) | P8: =IF(OR(L8="",D8="",O8="납품완료",O8="취소"),"",IF(L8<TODAY(),"지연",IF(L8-TODAY()<=$L$1,"임박",""))) | S8: =IF(F8="","",IF(COUNTIF(F$4:F8,F8)=1,MAX(S$3:S7)+1,""))
K9: =IF(OR(H9="",J9=""),"",H9*J9) | P9: =IF(OR(L9="",D9="",O9="납품완료",O9="취소"),"",IF(L9<TODAY(),"지연",IF(L9-TODAY()<=$L$1,"임박",""))) | S9: =IF(F9="","",IF(COUNTIF(F$4:F9,F9)=1,MAX(S$3:S8)+1,""))
K10: =IF(OR(H10="",J10=""),"",H10*J10) | P10: =IF(OR(L10="",D10="",O10="납품완료",O10="취소"),"",IF(L10<TODAY(),"지연",IF(L10-TODAY()<=$L$1,"임박",""))) | S10: =IF(F10="","",IF(COUNTIF(F$4:F10,F10)=1,MAX(S$3:S9)+1,""))
K11: =IF(OR(H11="",J11=""),"",H11*J11) | P11: =IF(OR(L11="",D11="",O11="납품완료",O11="취소"),"",IF(L11<TODAY(),"지연",IF(L11-TODAY()<=$L$1,"임박",""))) | S11: =IF(F11="","",IF(COUNTIF(F$4:F11,F11)=1,MAX(S$3:S10)+1,""))
K12: =IF(OR(H12="",J12=""),"",H12*J12) | P12: =IF(OR(L12="",D12="",O12="납품완료",O12="취소"),"",IF(L12<TODAY(),"지연",IF(L12-TODAY()<=$L$1,"임박",""))) | S12: =IF(F12="","",IF(COUNTIF(F$4:F12,F12)=1,MAX(S$3:S11)+1,""))
K13: =IF(OR(H13="",J13=""),"",H13*J13) | P13: =IF(OR(L13="",D13="",O13="납품완료",O13="취소"),"",IF(L13<TODAY(),"지연",IF(L13-TODAY()<=$L$1,"임박",""))) | S13: =IF(F13="","",IF(COUNTIF(F$4:F13,F13)=1,MAX(S$3:S12)+1,""))
K14: =IF(OR(H14="",J14=""),"",H14*J14) | P14: =IF(OR(L14="",D14="",O14="납품완료",O14="취소"),"",IF(L14<TODAY(),"지연",IF(L14-TODAY()<=$L$1,"임박",""))) | S14: =IF(F14="","",IF(COUNTIF(F$4:F14,F14)=1,MAX(S$3:S13)+1,""))
K15: =IF(OR(H15="",J15=""),"",H15*J15) | P15: =IF(OR(L15="",D15="",O15="납품완료",O15="취소"),"",IF(L15<TODAY(),"지연",IF(L15-TODAY()<=$L$1,"임박",""))) | S15: =IF(F15="","",IF(COUNTIF(F$4:F15,F15)=1,MAX(S$3:S14)+1,""))
... K503: =IF(OR(H503="",J503=""),"",H503*J503) | P503: =IF(OR(L503="",D503="",O503="납품완료",O503="취소"),"",IF(L503<TODAY(),"지연",IF(L503-TODAY()<=$L$1,"임박",""))) | S503: =IF(F503="","",IF(COUNTIF(F$4:F503,F503)=1,MAX(S$3:S502)+1,""))

Sheet 품목별 집계
A1: 품목별 집계
A2: '주문 접수 대장' 시트에서 자동으로 계산합니다. 품목은 대장에 처음 나온 순서대로 채워집니다. 기간은 수신일 기준입니다.
A3: 기간 (수신일) | B3: =DATE(YEAR(TODAY()),MONTH(TODAY()),1) | C3: ~ | D3: =DATE(YEAR(TODAY()),MONTH(TODAY())+1,1)-1 | F3: 처음에는 이번 달입니다. 날짜를 직접 적어 바꿉니다.
A5: 품목 | B5: 규격(첫 줄) | C5: 단위 | D5: 주문 줄 수 | E5: 수량 합계 | F5: 금액 합계 | G5: 미납 수량 | H5: 지연 | I5: 취소 | J5: 단위 확인
A6: =IFERROR(INDEX('주문 접수 대장'!$F$4:$F$503,MATCH(1,'주문 접수 대장'!$S$4:$S$503,0)),"") | B6: =IF($A6="","",INDEX('주문 접수 대장'!$G$4:$G$503,MATCH($A6,'주문 접수 대장'!$F$4:$F$503,0))&"") | C6: =IF($A6="","",INDEX('주문 접수 대장'!$I$4:$I$503,MATCH($A6,'주문 접수 대장'!$F$4:$F$503,0))&"") | D6: =IF($A6="","",COUNTIFS('주문 접수 대장'!$F$4:$F$503,$A6,'주문 접수 대장'!$A$4:$A$503,">="&$B$3,'주문 접수 대장'!$A$4:$A$503,"<="&$D$3)) | E6: =IF($A6="","",SUMIFS('주문 접수 대장'!$H$4:$H$503,'주문 접수 대장'!$F$4:$F$503,$A6,'주문 접수 대장'!$A$4:$A$503,">="&$B$3,'주문 접수 대장'!$A$4:$A$503,"<="&$D$3)) | F6: =IF($A6="","",SUMIFS('주문 접수 대장'!$K$4:$K$503,'주문 접수 대장'!$F$4:$F$503,$A6,'주문 접수 대장'!$A$4:$A$503,">="&$B$3,'주문 접수 대장'!$A$4:$A$503,"<="&$D$3)) | G6: =IF($A6="","",SUMIFS('주문 접수 대장'!$H$4:$H$503,'주문 접수 대장'!$F$4:$F$503,$A6,'주문 접수 대장'!$A$4:$A$503,">="&$B$3,'주문 접수 대장'!$A$4:$A$503,"<="&$D$3,'주문 접수 대장'!$O$4:$O$503,"<>납품완료",'주문 접수 대장'!$O$4:$O$503,"<>취소")) | H6: =IF($A6="","",COUNTIFS('주문 접수 대장'!$F$4:$F$503,$A6,'주문 접수 대장'!$A$4:$A$503,">="&$B$3,'주문 접수 대장'!$A$4:$A$503,"<="&$D$3,'주문 접수 대장'!$P$4:$P$503,"지연")) | I6: =IF($A6="","",COUNTIFS('주문 접수 대장'!$F$4:$F$503,$A6,'주문 접수 대장'!$A$4:$A$503,">="&$B$3,'주문 접수 대장'!$A$4:$A$503,"<="&$D$3,'주문 접수 대장'!$O$4:$O$503,"취소")) | J6: =IF($A6="","",IF(COUNTIFS('주문 접수 대장'!$F$4:$F$503,$A6,'주문 접수 대장'!$I$4:$I$503,"<>"&C6)>0,"단위 섞임",""))
A7: =IFERROR(INDEX('주문 접수 대장'!$F$4:$F$503,MATCH(2,'주문 접수 대장'!$S$4:$S$503,0)),"") | B7: =IF($A7="","",INDEX('주문 접수 대장'!$G$4:$G$503,MATCH($A7,'주문 접수 대장'!$F$4:$F$503,0))&"") | C7: =IF($A7="","",INDEX('주문 접수 대장'!$I$4:$I$503,MATCH($A7,'주문 접수 대장'!$F$4:$F$503,0))&"") | D7: =IF($A7="","",COUNTIFS('주문 접수 대장'!$F$4:$F$503,$A7,'주문 접수 대장'!$A$4:$A$503,">="&$B$3,'주문 접수 대장'!$A$4:$A$503,"<="&$D$3)) | E7: =IF($A7="","",SUMIFS('주문 접수 대장'!$H$4:$H$503,'주문 접수 대장'!$F$4:$F$503,$A7,'주문 접수 대장'!$A$4:$A$503,">="&$B$3,'주문 접수 대장'!$A$4:$A$503,"<="&$D$3)) | F7: =IF($A7="","",SUMIFS('주문 접수 대장'!$K$4:$K$503,'주문 접수 대장'!$F$4:$F$503,$A7,'주문 접수 대장'!$A$4:$A$503,">="&$B$3,'주문 접수 대장'!$A$4:$A$503,"<="&$D$3)) | G7: =IF($A7="","",SUMIFS('주문 접수 대장'!$H$4:$H$503,'주문 접수 대장'!$F$4:$F$503,$A7,'주문 접수 대장'!$A$4:$A$503,">="&$B$3,'주문 접수 대장'!$A$4:$A$503,"<="&$D$3,'주문 접수 대장'!$O$4:$O$503,"<>납품완료",'주문 접수 대장'!$O$4:$O$503,"<>취소")) | H7: =IF($A7="","",COUNTIFS('주문 접수 대장'!$F$4:$F$503,$A7,'주문 접수 대장'!$A$4:$A$503,">="&$B$3,'주문 접수 대장'!$A$4:$A$503,"<="&$D$3,'주문 접수 대장'!$P$4:$P$503,"지연")) | I7: =IF($A7="","",COUNTIFS('주문 접수 대장'!$F$4:$F$503,$A7,'주문 접수 대장'!$A$4:$A$503,">="&$B$3,'주문 접수 대장'!$A$4:$A$503,"<="&$D$3,'주문 접수 대장'!$O$4:$O$503,"취소")) | J7: =IF($A7="","",IF(COUNTIFS('주문 접수 대장'!$F$4:$F$503,$A7,'주문 접수 대장'!$I$4:$I$503,"<>"&C7)>0,"단위 섞임",""))
A8: =IFERROR(INDEX('주문 접수 대장'!$F$4:$F$503,MATCH(3,'주문 접수 대장'!$S$4:$S$503,0)),"") | B8: =IF($A8="","",INDEX('주문 접수 대장'!$G$4:$G$503,MATCH($A8,'주문 접수 대장'!$F$4:$F$503,0))&"") | C8: =IF($A8="","",INDEX('주문 접수 대장'!$I$4:$I$503,MATCH($A8,'주문 접수 대장'!$F$4:$F$503,0))&"") | D8: =IF($A8="","",COUNTIFS('주문 접수 대장'!$F$4:$F$503,$A8,'주문 접수 대장'!$A$4:$A$503,">="&$B$3,'주문 접수 대장'!$A$4:$A$503,"<="&$D$3)) | E8: =IF($A8="","",SUMIFS('주문 접수 대장'!$H$4:$H$503,'주문 접수 대장'!$F$4:$F$503,$A8,'주문 접수 대장'!$A$4:$A$503,">="&$B$3,'주문 접수 대장'!$A$4:$A$503,"<="&$D$3)) | F8: =IF($A8="","",SUMIFS('주문 접수 대장'!$K$4:$K$503,'주문 접수 대장'!$F$4:$F$503,$A8,'주문 접수 대장'!$A$4:$A$503,">="&$B$3,'주문 접수 대장'!$A$4:$A$503,"<="&$D$3)) | G8: =IF($A8="","",SUMIFS('주문 접수 대장'!$H$4:$H$503,'주문 접수 대장'!$F$4:$F$503,$A8,'주문 접수 대장'!$A$4:$A$503,">="&$B$3,'주문 접수 대장'!$A$4:$A$503,"<="&$D$3,'주문 접수 대장'!$O$4:$O$503,"<>납품완료",'주문 접수 대장'!$O$4:$O$503,"<>취소")) | H8: =IF($A8="","",COUNTIFS('주문 접수 대장'!$F$4:$F$503,$A8,'주문 접수 대장'!$A$4:$A$503,">="&$B$3,'주문 접수 대장'!$A$4:$A$503,"<="&$D$3,'주문 접수 대장'!$P$4:$P$503,"지연")) | I8: =IF($A8="","",COUNTIFS('주문 접수 대장'!$F$4:$F$503,$A8,'주문 접수 대장'!$A$4:$A$503,">="&$B$3,'주문 접수 대장'!$A$4:$A$503,"<="&$D$3,'주문 접수 대장'!$O$4:$O$503,"취소")) | J8: =IF($A8="","",IF(COUNTIFS('주문 접수 대장'!$F$4:$F$503,$A8,'주문 접수 대장'!$I$4:$I$503,"<>"&C8)>0,"단위 섞임",""))
A9: =IFERROR(INDEX('주문 접수 대장'!$F$4:$F$503,MATCH(4,'주문 접수 대장'!$S$4:$S$503,0)),"") | B9: =IF($A9="","",INDEX('주문 접수 대장'!$G$4:$G$503,MATCH($A9,'주문 접수 대장'!$F$4:$F$503,0))&"") | C9: =IF($A9="","",INDEX('주문 접수 대장'!$I$4:$I$503,MATCH($A9,'주문 접수 대장'!$F$4:$F$503,0))&"") | D9: =IF($A9="","",COUNTIFS('주문 접수 대장'!$F$4:$F$503,$A9,'주문 접수 대장'!$A$4:$A$503,">="&$B$3,'주문 접수 대장'!$A$4:$A$503,"<="&$D$3)) | E9: =IF($A9="","",SUMIFS('주문 접수 대장'!$H$4:$H$503,'주문 접수 대장'!$F$4:$F$503,$A9,'주문 접수 대장'!$A$4:$A$503,">="&$B$3,'주문 접수 대장'!$A$4:$A$503,"<="&$D$3)) | F9: =IF($A9="","",SUMIFS('주문 접수 대장'!$K$4:$K$503,'주문 접수 대장'!$F$4:$F$503,$A9,'주문 접수 대장'!$A$4:$A$503,">="&$B$3,'주문 접수 대장'!$A$4:$A$503,"<="&$D$3)) | G9: =IF($A9="","",SUMIFS('주문 접수 대장'!$H$4:$H$503,'주문 접수 대장'!$F$4:$F$503,$A9,'주문 접수 대장'!$A$4:$A$503,">="&$B$3,'주문 접수 대장'!$A$4:$A$503,"<="&$D$3,'주문 접수 대장'!$O$4:$O$503,"<>납품완료",'주문 접수 대장'!$O$4:$O$503,"<>취소")) | H9: =IF($A9="","",COUNTIFS('주문 접수 대장'!$F$4:$F$503,$A9,'주문 접수 대장'!$A$4:$A$503,">="&$B$3,'주문 접수 대장'!$A$4:$A$503,"<="&$D$3,'주문 접수 대장'!$P$4:$P$503,"지연")) | I9: =IF($A9="","",COUNTIFS('주문 접수 대장'!$F$4:$F$503,$A9,'주문 접수 대장'!$A$4:$A$503,">="&$B$3,'주문 접수 대장'!$A$4:$A$503,"<="&$D$3,'주문 접수 대장'!$O$4:$O$503,"취소")) | J9: =IF($A9="","",IF(COUNTIFS('주문 접수 대장'!$F$4:$F$503,$A9,'주문 접수 대장'!$I$4:$I$503,"<>"&C9)>0,"단위 섞임",""))
A10: =IFERROR(INDEX('주문 접수 대장'!$F$4:$F$503,MATCH(5,'주문 접수 대장'!$S$4:$S$503,0)),"") | B10: =IF($A10="","",INDEX('주문 접수 대장'!$G$4:$G$503,MATCH($A10,'주문 접수 대장'!$F$4:$F$503,0))&"") | C10: =IF($A10="","",INDEX('주문 접수 대장'!$I$4:$I$503,MATCH($A10,'주문 접수 대장'!$F$4:$F$503,0))&"") | D10: =IF($A10="","",COUNTIFS('주문 접수 대장'!$F$4:$F$503,$A10,'주문 접수 대장'!$A$4:$A$503,">="&$B$3,'주문 접수 대장'!$A$4:$A$503,"<="&$D$3)) | E10: =IF($A10="","",SUMIFS('주문 접수 대장'!$H$4:$H$503,'주문 접수 대장'!$F$4:$F$503,$A10,'주문 접수 대장'!$A$4:$A$503,">="&$B$3,'주문 접수 대장'!$A$4:$A$503,"<="&$D$3)) | F10: =IF($A10="","",SUMIFS('주문 접수 대장'!$K$4:$K$503,'주문 접수 대장'!$F$4:$F$503,$A10,'주문 접수 대장'!$A$4:$A$503,">="&$B$3,'주문 접수 대장'!$A$4:$A$503,"<="&$D$3)) | G10: =IF($A10="","",SUMIFS('주문 접수 대장'!$H$4:$H$503,'주문 접수 대장'!$F$4:$F$503,$A10,'주문 접수 대장'!$A$4:$A$503,">="&$B$3,'주문 접수 대장'!$A$4:$A$503,"<="&$D$3,'주문 접수 대장'!$O$4:$O$503,"<>납품완료",'주문 접수 대장'!$O$4:$O$503,"<>취소")) | H10: =IF($A10="","",COUNTIFS('주문 접수 대장'!$F$4:$F$503,$A10,'주문 접수 대장'!$A$4:$A$503,">="&$B$3,'주문 접수 대장'!$A$4:$A$503,"<="&$D$3,'주문 접수 대장'!$P$4:$P$503,"지연")) | I10: =IF($A10="","",COUNTIFS('주문 접수 대장'!$F$4:$F$503,$A10,'주문 접수 대장'!$A$4:$A$503,">="&$B$3,'주문 접수 대장'!$A$4:$A$503,"<="&$D$3,'주문 접수 대장'!$O$4:$O$503,"취소")) | J10: =IF($A10="","",IF(COUNTIFS('주문 접수 대장'!$F$4:$F$503,$A10,'주문 접수 대장'!$I$4:$I$503,"<>"&C10)>0,"단위 섞임",""))
A11: =IFERROR(INDEX('주문 접수 대장'!$F$4:$F$503,MATCH(6,'주문 접수 대장'!$S$4:$S$503,0)),"") | B11: =IF($A11="","",INDEX('주문 접수 대장'!$G$4:$G$503,MATCH($A11,'주문 접수 대장'!$F$4:$F$503,0))&"") | C11: =IF($A11="","",INDEX('주문 접수 대장'!$I$4:$I$503,MATCH($A11,'주문 접수 대장'!$F$4:$F$503,0))&"") | D11: =IF($A11="","",COUNTIFS('주문 접수 대장'!$F$4:$F$503,$A11,'주문 접수 대장'!$A$4:$A$503,">="&$B$3,'주문 접수 대장'!$A$4:$A$503,"<="&$D$3)) | E11: =IF($A11="","",SUMIFS('주문 접수 대장'!$H$4:$H$503,'주문 접수 대장'!$F$4:$F$503,$A11,'주문 접수 대장'!$A$4:$A$503,">="&$B$3,'주문 접수 대장'!$A$4:$A$503,"<="&$D$3)) | F11: =IF($A11="","",SUMIFS('주문 접수 대장'!$K$4:$K$503,'주문 접수 대장'!$F$4:$F$503,$A11,'주문 접수 대장'!$A$4:$A$503,">="&$B$3,'주문 접수 대장'!$A$4:$A$503,"<="&$D$3)) | G11: =IF($A11="","",SUMIFS('주문 접수 대장'!$H$4:$H$503,'주문 접수 대장'!$F$4:$F$503,$A11,'주문 접수 대장'!$A$4:$A$503,">="&$B$3,'주문 접수 대장'!$A$4:$A$503,"<="&$D$3,'주문 접수 대장'!$O$4:$O$503,"<>납품완료",'주문 접수 대장'!$O$4:$O$503,"<>취소")) | H11: =IF($A11="","",COUNTIFS('주문 접수 대장'!$F$4:$F$503,$A11,'주문 접수 대장'!$A$4:$A$503,">="&$B$3,'주문 접수 대장'!$A$4:$A$503,"<="&$D$3,'주문 접수 대장'!$P$4:$P$503,"지연")) | I11: =IF($A11="","",COUNTIFS('주문 접수 대장'!$F$4:$F$503,$A11,'주문 접수 대장'!$A$4:$A$503,">="&$B$3,'주문 접수 대장'!$A$4:$A$503,"<="&$D$3,'주문 접수 대장'!$O$4:$O$503,"취소")) | J11: =IF($A11="","",IF(COUNTIFS('주문 접수 대장'!$F$4:$F$503,$A11,'주문 접수 대장'!$I$4:$I$503,"<>"&C11)>0,"단위 섞임",""))
A12: =IFERROR(INDEX('주문 접수 대장'!$F$4:$F$503,MATCH(7,'주문 접수 대장'!$S$4:$S$503,0)),"") | B12: =IF($A12="","",INDEX('주문 접수 대장'!$G$4:$G$503,MATCH($A12,'주문 접수 대장'!$F$4:$F$503,0))&"") | C12: =IF($A12="","",INDEX('주문 접수 대장'!$I$4:$I$503,MATCH($A12,'주문 접수 대장'!$F$4:$F$503,0))&"") | D12: =IF($A12="","",COUNTIFS('주문 접수 대장'!$F$4:$F$503,$A12,'주문 접수 대장'!$A$4:$A$503,">="&$B$3,'주문 접수 대장'!$A$4:$A$503,"<="&$D$3)) | E12: =IF($A12="","",SUMIFS('주문 접수 대장'!$H$4:$H$503,'주문 접수 대장'!$F$4:$F$503,$A12,'주문 접수 대장'!$A$4:$A$503,">="&$B$3,'주문 접수 대장'!$A$4:$A$503,"<="&$D$3)) | F12: =IF($A12="","",SUMIFS('주문 접수 대장'!$K$4:$K$503,'주문 접수 대장'!$F$4:$F$503,$A12,'주문 접수 대장'!$A$4:$A$503,">="&$B$3,'주문 접수 대장'!$A$4:$A$503,"<="&$D$3)) | G12: =IF($A12="","",SUMIFS('주문 접수 대장'!$H$4:$H$503,'주문 접수 대장'!$F$4:$F$503,$A12,'주문 접수 대장'!$A$4:$A$503,">="&$B$3,'주문 접수 대장'!$A$4:$A$503,"<="&$D$3,'주문 접수 대장'!$O$4:$O$503,"<>납품완료",'주문 접수 대장'!$O$4:$O$503,"<>취소")) | H12: =IF($A12="","",COUNTIFS('주문 접수 대장'!$F$4:$F$503,$A12,'주문 접수 대장'!$A$4:$A$503,">="&$B$3,'주문 접수 대장'!$A$4:$A$503,"<="&$D$3,'주문 접수 대장'!$P$4:$P$503,"지연")) | I12: =IF($A12="","",COUNTIFS('주문 접수 대장'!$F$4:$F$503,$A12,'주문 접수 대장'!$A$4:$A$503,">="&$B$3,'주문 접수 대장'!$A$4:$A$503,"<="&$D$3,'주문 접수 대장'!$O$4:$O$503,"취소")) | J12: =IF($A12="","",IF(COUNTIFS('주문 접수 대장'!$F$4:$F$503,$A12,'주문 접수 대장'!$I$4:$I$503,"<>"&C12)>0,"단위 섞임",""))
A13: =IFERROR(INDEX('주문 접수 대장'!$F$4:$F$503,MATCH(8,'주문 접수 대장'!$S$4:$S$503,0)),"") | B13: =IF($A13="","",INDEX('주문 접수 대장'!$G$4:$G$503,MATCH($A13,'주문 접수 대장'!$F$4:$F$503,0))&"") | C13: =IF($A13="","",INDEX('주문 접수 대장'!$I$4:$I$503,MATCH($A13,'주문 접수 대장'!$F$4:$F$503,0))&"") | D13: =IF($A13="","",COUNTIFS('주문 접수 대장'!$F$4:$F$503,$A13,'주문 접수 대장'!$A$4:$A$503,">="&$B$3,'주문 접수 대장'!$A$4:$A$503,"<="&$D$3)) | E13: =IF($A13="","",SUMIFS('주문 접수 대장'!$H$4:$H$503,'주문 접수 대장'!$F$4:$F$503,$A13,'주문 접수 대장'!$A$4:$A$503,">="&$B$3,'주문 접수 대장'!$A$4:$A$503,"<="&$D$3)) | F13: =IF($A13="","",SUMIFS('주문 접수 대장'!$K$4:$K$503,'주문 접수 대장'!$F$4:$F$503,$A13,'주문 접수 대장'!$A$4:$A$503,">="&$B$3,'주문 접수 대장'!$A$4:$A$503,"<="&$D$3)) | G13: =IF($A13="","",SUMIFS('주문 접수 대장'!$H$4:$H$503,'주문 접수 대장'!$F$4:$F$503,$A13,'주문 접수 대장'!$A$4:$A$503,">="&$B$3,'주문 접수 대장'!$A$4:$A$503,"<="&$D$3,'주문 접수 대장'!$O$4:$O$503,"<>납품완료",'주문 접수 대장'!$O$4:$O$503,"<>취소")) | H13: =IF($A13="","",COUNTIFS('주문 접수 대장'!$F$4:$F$503,$A13,'주문 접수 대장'!$A$4:$A$503,">="&$B$3,'주문 접수 대장'!$A$4:$A$503,"<="&$D$3,'주문 접수 대장'!$P$4:$P$503,"지연")) | I13: =IF($A13="","",COUNTIFS('주문 접수 대장'!$F$4:$F$503,$A13,'주문 접수 대장'!$A$4:$A$503,">="&$B$3,'주문 접수 대장'!$A$4:$A$503,"<="&$D$3,'주문 접수 대장'!$O$4:$O$503,"취소")) | J13: =IF($A13="","",IF(COUNTIFS('주문 접수 대장'!$F$4:$F$503,$A13,'주문 접수 대장'!$I$4:$I$503,"<>"&C13)>0,"단위 섞임",""))
A14: =IFERROR(INDEX('주문 접수 대장'!$F$4:$F$503,MATCH(9,'주문 접수 대장'!$S$4:$S$503,0)),"") | B14: =IF($A14="","",INDEX('주문 접수 대장'!$G$4:$G$503,MATCH($A14,'주문 접수 대장'!$F$4:$F$503,0))&"") | C14: =IF($A14="","",INDEX('주문 접수 대장'!$I$4:$I$503,MATCH($A14,'주문 접수 대장'!$F$4:$F$503,0))&"") | D14: =IF($A14="","",COUNTIFS('주문 접수 대장'!$F$4:$F$503,$A14,'주문 접수 대장'!$A$4:$A$503,">="&$B$3,'주문 접수 대장'!$A$4:$A$503,"<="&$D$3)) | E14: =IF($A14="","",SUMIFS('주문 접수 대장'!$H$4:$H$503,'주문 접수 대장'!$F$4:$F$503,$A14,'주문 접수 대장'!$A$4:$A$503,">="&$B$3,'주문 접수 대장'!$A$4:$A$503,"<="&$D$3)) | F14: =IF($A14="","",SUMIFS('주문 접수 대장'!$K$4:$K$503,'주문 접수 대장'!$F$4:$F$503,$A14,'주문 접수 대장'!$A$4:$A$503,">="&$B$3,'주문 접수 대장'!$A$4:$A$503,"<="&$D$3)) | G14: =IF($A14="","",SUMIFS('주문 접수 대장'!$H$4:$H$503,'주문 접수 대장'!$F$4:$F$503,$A14,'주문 접수 대장'!$A$4:$A$503,">="&$B$3,'주문 접수 대장'!$A$4:$A$503,"<="&$D$3,'주문 접수 대장'!$O$4:$O$503,"<>납품완료",'주문 접수 대장'!$O$4:$O$503,"<>취소")) | H14: =IF($A14="","",COUNTIFS('주문 접수 대장'!$F$4:$F$503,$A14,'주문 접수 대장'!$A$4:$A$503,">="&$B$3,'주문 접수 대장'!$A$4:$A$503,"<="&$D$3,'주문 접수 대장'!$P$4:$P$503,"지연")) | I14: =IF($A14="","",COUNTIFS('주문 접수 대장'!$F$4:$F$503,$A14,'주문 접수 대장'!$A$4:$A$503,">="&$B$3,'주문 접수 대장'!$A$4:$A$503,"<="&$D$3,'주문 접수 대장'!$O$4:$O$503,"취소")) | J14: =IF($A14="","",IF(COUNTIFS('주문 접수 대장'!$F$4:$F$503,$A14,'주문 접수 대장'!$I$4:$I$503,"<>"&C14)>0,"단위 섞임",""))
A15: =IFERROR(INDEX('주문 접수 대장'!$F$4:$F$503,MATCH(10,'주문 접수 대장'!$S$4:$S$503,0)),"") | B15: =IF($A15="","",INDEX('주문 접수 대장'!$G$4:$G$503,MATCH($A15,'주문 접수 대장'!$F$4:$F$503,0))&"") | C15: =IF($A15="","",INDEX('주문 접수 대장'!$I$4:$I$503,MATCH($A15,'주문 접수 대장'!$F$4:$F$503,0))&"") | D15: =IF($A15="","",COUNTIFS('주문 접수 대장'!$F$4:$F$503,$A15,'주문 접수 대장'!$A$4:$A$503,">="&$B$3,'주문 접수 대장'!$A$4:$A$503,"<="&$D$3)) | E15: =IF($A15="","",SUMIFS('주문 접수 대장'!$H$4:$H$503,'주문 접수 대장'!$F$4:$F$503,$A15,'주문 접수 대장'!$A$4:$A$503,">="&$B$3,'주문 접수 대장'!$A$4:$A$503,"<="&$D$3)) | F15: =IF($A15="","",SUMIFS('주문 접수 대장'!$K$4:$K$503,'주문 접수 대장'!$F$4:$F$503,$A15,'주문 접수 대장'!$A$4:$A$503,">="&$B$3,'주문 접수 대장'!$A$4:$A$503,"<="&$D$3)) | G15: =IF($A15="","",SUMIFS('주문 접수 대장'!$H$4:$H$503,'주문 접수 대장'!$F$4:$F$503,$A15,'주문 접수 대장'!$A$4:$A$503,">="&$B$3,'주문 접수 대장'!$A$4:$A$503,"<="&$D$3,'주문 접수 대장'!$O$4:$O$503,"<>납품완료",'주문 접수 대장'!$O$4:$O$503,"<>취소")) | H15: =IF($A15="","",COUNTIFS('주문 접수 대장'!$F$4:$F$503,$A15,'주문 접수 대장'!$A$4:$A$503,">="&$B$3,'주문 접수 대장'!$A$4:$A$503,"<="&$D$3,'주문 접수 대장'!$P$4:$P$503,"지연")) | I15: =IF($A15="","",COUNTIFS('주문 접수 대장'!$F$4:$F$503,$A15,'주문 접수 대장'!$A$4:$A$503,">="&$B$3,'주문 접수 대장'!$A$4:$A$503,"<="&$D$3,'주문 접수 대장'!$O$4:$O$503,"취소")) | J15: =IF($A15="","",IF(COUNTIFS('주문 접수 대장'!$F$4:$F$503,$A15,'주문 접수 대장'!$I$4:$I$503,"<>"&C15)>0,"단위 섞임",""))
A16: =IFERROR(INDEX('주문 접수 대장'!$F$4:$F$503,MATCH(11,'주문 접수 대장'!$S$4:$S$503,0)),"") | B16: =IF($A16="","",INDEX('주문 접수 대장'!$G$4:$G$503,MATCH($A16,'주문 접수 대장'!$F$4:$F$503,0))&"") | C16: =IF($A16="","",INDEX('주문 접수 대장'!$I$4:$I$503,MATCH($A16,'주문 접수 대장'!$F$4:$F$503,0))&"") | D16: =IF($A16="","",COUNTIFS('주문 접수 대장'!$F$4:$F$503,$A16,'주문 접수 대장'!$A$4:$A$503,">="&$B$3,'주문 접수 대장'!$A$4:$A$503,"<="&$D$3)) | E16: =IF($A16="","",SUMIFS('주문 접수 대장'!$H$4:$H$503,'주문 접수 대장'!$F$4:$F$503,$A16,'주문 접수 대장'!$A$4:$A$503,">="&$B$3,'주문 접수 대장'!$A$4:$A$503,"<="&$D$3)) | F16: =IF($A16="","",SUMIFS('주문 접수 대장'!$K$4:$K$503,'주문 접수 대장'!$F$4:$F$503,$A16,'주문 접수 대장'!$A$4:$A$503,">="&$B$3,'주문 접수 대장'!$A$4:$A$503,"<="&$D$3)) | G16: =IF($A16="","",SUMIFS('주문 접수 대장'!$H$4:$H$503,'주문 접수 대장'!$F$4:$F$503,$A16,'주문 접수 대장'!$A$4:$A$503,">="&$B$3,'주문 접수 대장'!$A$4:$A$503,"<="&$D$3,'주문 접수 대장'!$O$4:$O$503,"<>납품완료",'주문 접수 대장'!$O$4:$O$503,"<>취소")) | H16: =IF($A16="","",COUNTIFS('주문 접수 대장'!$F$4:$F$503,$A16,'주문 접수 대장'!$A$4:$A$503,">="&$B$3,'주문 접수 대장'!$A$4:$A$503,"<="&$D$3,'주문 접수 대장'!$P$4:$P$503,"지연")) | I16: =IF($A16="","",COUNTIFS('주문 접수 대장'!$F$4:$F$503,$A16,'주문 접수 대장'!$A$4:$A$503,">="&$B$3,'주문 접수 대장'!$A$4:$A$503,"<="&$D$3,'주문 접수 대장'!$O$4:$O$503,"취소")) | J16: =IF($A16="","",IF(COUNTIFS('주문 접수 대장'!$F$4:$F$503,$A16,'주문 접수 대장'!$I$4:$I$503,"<>"&C16)>0,"단위 섞임",""))
A17: =IFERROR(INDEX('주문 접수 대장'!$F$4:$F$503,MATCH(12,'주문 접수 대장'!$S$4:$S$503,0)),"") | B17: =IF($A17="","",INDEX('주문 접수 대장'!$G$4:$G$503,MATCH($A17,'주문 접수 대장'!$F$4:$F$503,0))&"") | C17: =IF($A17="","",INDEX('주문 접수 대장'!$I$4:$I$503,MATCH($A17,'주문 접수 대장'!$F$4:$F$503,0))&"") | D17: =IF($A17="","",COUNTIFS('주문 접수 대장'!$F$4:$F$503,$A17,'주문 접수 대장'!$A$4:$A$503,">="&$B$3,'주문 접수 대장'!$A$4:$A$503,"<="&$D$3)) | E17: =IF($A17="","",SUMIFS('주문 접수 대장'!$H$4:$H$503,'주문 접수 대장'!$F$4:$F$503,$A17,'주문 접수 대장'!$A$4:$A$503,">="&$B$3,'주문 접수 대장'!$A$4:$A$503,"<="&$D$3)) | F17: =IF($A17="","",SUMIFS('주문 접수 대장'!$K$4:$K$503,'주문 접수 대장'!$F$4:$F$503,$A17,'주문 접수 대장'!$A$4:$A$503,">="&$B$3,'주문 접수 대장'!$A$4:$A$503,"<="&$D$3)) | G17: =IF($A17="","",SUMIFS('주문 접수 대장'!$H$4:$H$503,'주문 접수 대장'!$F$4:$F$503,$A17,'주문 접수 대장'!$A$4:$A$503,">="&$B$3,'주문 접수 대장'!$A$4:$A$503,"<="&$D$3,'주문 접수 대장'!$O$4:$O$503,"<>납품완료",'주문 접수 대장'!$O$4:$O$503,"<>취소")) | H17: =IF($A17="","",COUNTIFS('주문 접수 대장'!$F$4:$F$503,$A17,'주문 접수 대장'!$A$4:$A$503,">="&$B$3,'주문 접수 대장'!$A$4:$A$503,"<="&$D$3,'주문 접수 대장'!$P$4:$P$503,"지연")) | I17: =IF($A17="","",COUNTIFS('주문 접수 대장'!$F$4:$F$503,$A17,'주문 접수 대장'!$A$4:$A$503,">="&$B$3,'주문 접수 대장'!$A$4:$A$503,"<="&$D$3,'주문 접수 대장'!$O$4:$O$503,"취소")) | J17: =IF($A17="","",IF(COUNTIFS('주문 접수 대장'!$F$4:$F$503,$A17,'주문 접수 대장'!$I$4:$I$503,"<>"&C17)>0,"단위 섞임",""))
A18: =IFERROR(INDEX('주문 접수 대장'!$F$4:$F$503,MATCH(13,'주문 접수 대장'!$S$4:$S$503,0)),"") | B18: =IF($A18="","",INDEX('주문 접수 대장'!$G$4:$G$503,MATCH($A18,'주문 접수 대장'!$F$4:$F$503,0))&"") | C18: =IF($A18="","",INDEX('주문 접수 대장'!$I$4:$I$503,MATCH($A18,'주문 접수 대장'!$F$4:$F$503,0))&"") | D18: =IF($A18="","",COUNTIFS('주문 접수 대장'!$F$4:$F$503,$A18,'주문 접수 대장'!$A$4:$A$503,">="&$B$3,'주문 접수 대장'!$A$4:$A$503,"<="&$D$3)) | E18: =IF($A18="","",SUMIFS('주문 접수 대장'!$H$4:$H$503,'주문 접수 대장'!$F$4:$F$503,$A18,'주문 접수 대장'!$A$4:$A$503,">="&$B$3,'주문 접수 대장'!$A$4:$A$503,"<="&$D$3)) | F18: =IF($A18="","",SUMIFS('주문 접수 대장'!$K$4:$K$503,'주문 접수 대장'!$F$4:$F$503,$A18,'주문 접수 대장'!$A$4:$A$503,">="&$B$3,'주문 접수 대장'!$A$4:$A$503,"<="&$D$3)) | G18: =IF($A18="","",SUMIFS('주문 접수 대장'!$H$4:$H$503,'주문 접수 대장'!$F$4:$F$503,$A18,'주문 접수 대장'!$A$4:$A$503,">="&$B$3,'주문 접수 대장'!$A$4:$A$503,"<="&$D$3,'주문 접수 대장'!$O$4:$O$503,"<>납품완료",'주문 접수 대장'!$O$4:$O$503,"<>취소")) | H18: =IF($A18="","",COUNTIFS('주문 접수 대장'!$F$4:$F$503,$A18,'주문 접수 대장'!$A$4:$A$503,">="&$B$3,'주문 접수 대장'!$A$4:$A$503,"<="&$D$3,'주문 접수 대장'!$P$4:$P$503,"지연")) | I18: =IF($A18="","",COUNTIFS('주문 접수 대장'!$F$4:$F$503,$A18,'주문 접수 대장'!$A$4:$A$503,">="&$B$3,'주문 접수 대장'!$A$4:$A$503,"<="&$D$3,'주문 접수 대장'!$O$4:$O$503,"취소")) | J18: =IF($A18="","",IF(COUNTIFS('주문 접수 대장'!$F$4:$F$503,$A18,'주문 접수 대장'!$I$4:$I$503,"<>"&C18)>0,"단위 섞임",""))
A19: =IFERROR(INDEX('주문 접수 대장'!$F$4:$F$503,MATCH(14,'주문 접수 대장'!$S$4:$S$503,0)),"") | B19: =IF($A19="","",INDEX('주문 접수 대장'!$G$4:$G$503,MATCH($A19,'주문 접수 대장'!$F$4:$F$503,0))&"") | C19: =IF($A19="","",INDEX('주문 접수 대장'!$I$4:$I$503,MATCH($A19,'주문 접수 대장'!$F$4:$F$503,0))&"") | D19: =IF($A19="","",COUNTIFS('주문 접수 대장'!$F$4:$F$503,$A19,'주문 접수 대장'!$A$4:$A$503,">="&$B$3,'주문 접수 대장'!$A$4:$A$503,"<="&$D$3)) | E19: =IF($A19="","",SUMIFS('주문 접수 대장'!$H$4:$H$503,'주문 접수 대장'!$F$4:$F$503,$A19,'주문 접수 대장'!$A$4:$A$503,">="&$B$3,'주문 접수 대장'!$A$4:$A$503,"<="&$D$3)) | F19: =IF($A19="","",SUMIFS('주문 접수 대장'!$K$4:$K$503,'주문 접수 대장'!$F$4:$F$503,$A19,'주문 접수 대장'!$A$4:$A$503,">="&$B$3,'주문 접수 대장'!$A$4:$A$503,"<="&$D$3)) | G19: =IF($A19="","",SUMIFS('주문 접수 대장'!$H$4:$H$503,'주문 접수 대장'!$F$4:$F$503,$A19,'주문 접수 대장'!$A$4:$A$503,">="&$B$3,'주문 접수 대장'!$A$4:$A$503,"<="&$D$3,'주문 접수 대장'!$O$4:$O$503,"<>납품완료",'주문 접수 대장'!$O$4:$O$503,"<>취소")) | H19: =IF($A19="","",COUNTIFS('주문 접수 대장'!$F$4:$F$503,$A19,'주문 접수 대장'!$A$4:$A$503,">="&$B$3,'주문 접수 대장'!$A$4:$A$503,"<="&$D$3,'주문 접수 대장'!$P$4:$P$503,"지연")) | I19: =IF($A19="","",COUNTIFS('주문 접수 대장'!$F$4:$F$503,$A19,'주문 접수 대장'!$A$4:$A$503,">="&$B$3,'주문 접수 대장'!$A$4:$A$503,"<="&$D$3,'주문 접수 대장'!$O$4:$O$503,"취소")) | J19: =IF($A19="","",IF(COUNTIFS('주문 접수 대장'!$F$4:$F$503,$A19,'주문 접수 대장'!$I$4:$I$503,"<>"&C19)>0,"단위 섞임",""))
A20: =IFERROR(INDEX('주문 접수 대장'!$F$4:$F$503,MATCH(15,'주문 접수 대장'!$S$4:$S$503,0)),"") | B20: =IF($A20="","",INDEX('주문 접수 대장'!$G$4:$G$503,MATCH($A20,'주문 접수 대장'!$F$4:$F$503,0))&"") | C20: =IF($A20="","",INDEX('주문 접수 대장'!$I$4:$I$503,MATCH($A20,'주문 접수 대장'!$F$4:$F$503,0))&"") | D20: =IF($A20="","",COUNTIFS('주문 접수 대장'!$F$4:$F$503,$A20,'주문 접수 대장'!$A$4:$A$503,">="&$B$3,'주문 접수 대장'!$A$4:$A$503,"<="&$D$3)) | E20: =IF($A20="","",SUMIFS('주문 접수 대장'!$H$4:$H$503,'주문 접수 대장'!$F$4:$F$503,$A20,'주문 접수 대장'!$A$4:$A$503,">="&$B$3,'주문 접수 대장'!$A$4:$A$503,"<="&$D$3)) | F20: =IF($A20="","",SUMIFS('주문 접수 대장'!$K$4:$K$503,'주문 접수 대장'!$F$4:$F$503,$A20,'주문 접수 대장'!$A$4:$A$503,">="&$B$3,'주문 접수 대장'!$A$4:$A$503,"<="&$D$3)) | G20: =IF($A20="","",SUMIFS('주문 접수 대장'!$H$4:$H$503,'주문 접수 대장'!$F$4:$F$503,$A20,'주문 접수 대장'!$A$4:$A$503,">="&$B$3,'주문 접수 대장'!$A$4:$A$503,"<="&$D$3,'주문 접수 대장'!$O$4:$O$503,"<>납품완료",'주문 접수 대장'!$O$4:$O$503,"<>취소")) | H20: =IF($A20="","",COUNTIFS('주문 접수 대장'!$F$4:$F$503,$A20,'주문 접수 대장'!$A$4:$A$503,">="&$B$3,'주문 접수 대장'!$A$4:$A$503,"<="&$D$3,'주문 접수 대장'!$P$4:$P$503,"지연")) | I20: =IF($A20="","",COUNTIFS('주문 접수 대장'!$F$4:$F$503,$A20,'주문 접수 대장'!$A$4:$A$503,">="&$B$3,'주문 접수 대장'!$A$4:$A$503,"<="&$D$3,'주문 접수 대장'!$O$4:$O$503,"취소")) | J20: =IF($A20="","",IF(COUNTIFS('주문 접수 대장'!$F$4:$F$503,$A20,'주문 접수 대장'!$I$4:$I$503,"<>"&C20)>0,"단위 섞임",""))
A21: =IFERROR(INDEX('주문 접수 대장'!$F$4:$F$503,MATCH(16,'주문 접수 대장'!$S$4:$S$503,0)),"") | B21: =IF($A21="","",INDEX('주문 접수 대장'!$G$4:$G$503,MATCH($A21,'주문 접수 대장'!$F$4:$F$503,0))&"") | C21: =IF($A21="","",INDEX('주문 접수 대장'!$I$4:$I$503,MATCH($A21,'주문 접수 대장'!$F$4:$F$503,0))&"") | D21: =IF($A21="","",COUNTIFS('주문 접수 대장'!$F$4:$F$503,$A21,'주문 접수 대장'!$A$4:$A$503,">="&$B$3,'주문 접수 대장'!$A$4:$A$503,"<="&$D$3)) | E21: =IF($A21="","",SUMIFS('주문 접수 대장'!$H$4:$H$503,'주문 접수 대장'!$F$4:$F$503,$A21,'주문 접수 대장'!$A$4:$A$503,">="&$B$3,'주문 접수 대장'!$A$4:$A$503,"<="&$D$3)) | F21: =IF($A21="","",SUMIFS('주문 접수 대장'!$K$4:$K$503,'주문 접수 대장'!$F$4:$F$503,$A21,'주문 접수 대장'!$A$4:$A$503,">="&$B$3,'주문 접수 대장'!$A$4:$A$503,"<="&$D$3)) | G21: =IF($A21="","",SUMIFS('주문 접수 대장'!$H$4:$H$503,'주문 접수 대장'!$F$4:$F$503,$A21,'주문 접수 대장'!$A$4:$A$503,">="&$B$3,'주문 접수 대장'!$A$4:$A$503,"<="&$D$3,'주문 접수 대장'!$O$4:$O$503,"<>납품완료",'주문 접수 대장'!$O$4:$O$503,"<>취소")) | H21: =IF($A21="","",COUNTIFS('주문 접수 대장'!$F$4:$F$503,$A21,'주문 접수 대장'!$A$4:$A$503,">="&$B$3,'주문 접수 대장'!$A$4:$A$503,"<="&$D$3,'주문 접수 대장'!$P$4:$P$503,"지연")) | I21: =IF($A21="","",COUNTIFS('주문 접수 대장'!$F$4:$F$503,$A21,'주문 접수 대장'!$A$4:$A$503,">="&$B$3,'주문 접수 대장'!$A$4:$A$503,"<="&$D$3,'주문 접수 대장'!$O$4:$O$503,"취소")) | J21: =IF($A21="","",IF(COUNTIFS('주문 접수 대장'!$F$4:$F$503,$A21,'주문 접수 대장'!$I$4:$I$503,"<>"&C21)>0,"단위 섞임",""))
A22: =IFERROR(INDEX('주문 접수 대장'!$F$4:$F$503,MATCH(17,'주문 접수 대장'!$S$4:$S$503,0)),"") | B22: =IF($A22="","",INDEX('주문 접수 대장'!$G$4:$G$503,MATCH($A22,'주문 접수 대장'!$F$4:$F$503,0))&"") | C22: =IF($A22="","",INDEX('주문 접수 대장'!$I$4:$I$503,MATCH($A22,'주문 접수 대장'!$F$4:$F$503,0))&"") | D22: =IF($A22="","",COUNTIFS('주문 접수 대장'!$F$4:$F$503,$A22,'주문 접수 대장'!$A$4:$A$503,">="&$B$3,'주문 접수 대장'!$A$4:$A$503,"<="&$D$3)) | E22: =IF($A22="","",SUMIFS('주문 접수 대장'!$H$4:$H$503,'주문 접수 대장'!$F$4:$F$503,$A22,'주문 접수 대장'!$A$4:$A$503,">="&$B$3,'주문 접수 대장'!$A$4:$A$503,"<="&$D$3)) | F22: =IF($A22="","",SUMIFS('주문 접수 대장'!$K$4:$K$503,'주문 접수 대장'!$F$4:$F$503,$A22,'주문 접수 대장'!$A$4:$A$503,">="&$B$3,'주문 접수 대장'!$A$4:$A$503,"<="&$D$3)) | G22: =IF($A22="","",SUMIFS('주문 접수 대장'!$H$4:$H$503,'주문 접수 대장'!$F$4:$F$503,$A22,'주문 접수 대장'!$A$4:$A$503,">="&$B$3,'주문 접수 대장'!$A$4:$A$503,"<="&$D$3,'주문 접수 대장'!$O$4:$O$503,"<>납품완료",'주문 접수 대장'!$O$4:$O$503,"<>취소")) | H22: =IF($A22="","",COUNTIFS('주문 접수 대장'!$F$4:$F$503,$A22,'주문 접수 대장'!$A$4:$A$503,">="&$B$3,'주문 접수 대장'!$A$4:$A$503,"<="&$D$3,'주문 접수 대장'!$P$4:$P$503,"지연")) | I22: =IF($A22="","",COUNTIFS('주문 접수 대장'!$F$4:$F$503,$A22,'주문 접수 대장'!$A$4:$A$503,">="&$B$3,'주문 접수 대장'!$A$4:$A$503,"<="&$D$3,'주문 접수 대장'!$O$4:$O$503,"취소")) | J22: =IF($A22="","",IF(COUNTIFS('주문 접수 대장'!$F$4:$F$503,$A22,'주문 접수 대장'!$I$4:$I$503,"<>"&C22)>0,"단위 섞임",""))
A23: =IFERROR(INDEX('주문 접수 대장'!$F$4:$F$503,MATCH(18,'주문 접수 대장'!$S$4:$S$503,0)),"") | B23: =IF($A23="","",INDEX('주문 접수 대장'!$G$4:$G$503,MATCH($A23,'주문 접수 대장'!$F$4:$F$503,0))&"") | C23: =IF($A23="","",INDEX('주문 접수 대장'!$I$4:$I$503,MATCH($A23,'주문 접수 대장'!$F$4:$F$503,0))&"") | D23: =IF($A23="","",COUNTIFS('주문 접수 대장'!$F$4:$F$503,$A23,'주문 접수 대장'!$A$4:$A$503,">="&$B$3,'주문 접수 대장'!$A$4:$A$503,"<="&$D$3)) | E23: =IF($A23="","",SUMIFS('주문 접수 대장'!$H$4:$H$503,'주문 접수 대장'!$F$4:$F$503,$A23,'주문 접수 대장'!$A$4:$A$503,">="&$B$3,'주문 접수 대장'!$A$4:$A$503,"<="&$D$3)) | F23: =IF($A23="","",SUMIFS('주문 접수 대장'!$K$4:$K$503,'주문 접수 대장'!$F$4:$F$503,$A23,'주문 접수 대장'!$A$4:$A$503,">="&$B$3,'주문 접수 대장'!$A$4:$A$503,"<="&$D$3)) | G23: =IF($A23="","",SUMIFS('주문 접수 대장'!$H$4:$H$503,'주문 접수 대장'!$F$4:$F$503,$A23,'주문 접수 대장'!$A$4:$A$503,">="&$B$3,'주문 접수 대장'!$A$4:$A$503,"<="&$D$3,'주문 접수 대장'!$O$4:$O$503,"<>납품완료",'주문 접수 대장'!$O$4:$O$503,"<>취소")) | H23: =IF($A23="","",COUNTIFS('주문 접수 대장'!$F$4:$F$503,$A23,'주문 접수 대장'!$A$4:$A$503,">="&$B$3,'주문 접수 대장'!$A$4:$A$503,"<="&$D$3,'주문 접수 대장'!$P$4:$P$503,"지연")) | I23: =IF($A23="","",COUNTIFS('주문 접수 대장'!$F$4:$F$503,$A23,'주문 접수 대장'!$A$4:$A$503,">="&$B$3,'주문 접수 대장'!$A$4:$A$503,"<="&$D$3,'주문 접수 대장'!$O$4:$O$503,"취소")) | J23: =IF($A23="","",IF(COUNTIFS('주문 접수 대장'!$F$4:$F$503,$A23,'주문 접수 대장'!$I$4:$I$503,"<>"&C23)>0,"단위 섞임",""))
A24: =IFERROR(INDEX('주문 접수 대장'!$F$4:$F$503,MATCH(19,'주문 접수 대장'!$S$4:$S$503,0)),"") | B24: =IF($A24="","",INDEX('주문 접수 대장'!$G$4:$G$503,MATCH($A24,'주문 접수 대장'!$F$4:$F$503,0))&"") | C24: =IF($A24="","",INDEX('주문 접수 대장'!$I$4:$I$503,MATCH($A24,'주문 접수 대장'!$F$4:$F$503,0))&"") | D24: =IF($A24="","",COUNTIFS('주문 접수 대장'!$F$4:$F$503,$A24,'주문 접수 대장'!$A$4:$A$503,">="&$B$3,'주문 접수 대장'!$A$4:$A$503,"<="&$D$3)) | E24: =IF($A24="","",SUMIFS('주문 접수 대장'!$H$4:$H$503,'주문 접수 대장'!$F$4:$F$503,$A24,'주문 접수 대장'!$A$4:$A$503,">="&$B$3,'주문 접수 대장'!$A$4:$A$503,"<="&$D$3)) | F24: =IF($A24="","",SUMIFS('주문 접수 대장'!$K$4:$K$503,'주문 접수 대장'!$F$4:$F$503,$A24,'주문 접수 대장'!$A$4:$A$503,">="&$B$3,'주문 접수 대장'!$A$4:$A$503,"<="&$D$3)) | G24: =IF($A24="","",SUMIFS('주문 접수 대장'!$H$4:$H$503,'주문 접수 대장'!$F$4:$F$503,$A24,'주문 접수 대장'!$A$4:$A$503,">="&$B$3,'주문 접수 대장'!$A$4:$A$503,"<="&$D$3,'주문 접수 대장'!$O$4:$O$503,"<>납품완료",'주문 접수 대장'!$O$4:$O$503,"<>취소")) | H24: =IF($A24="","",COUNTIFS('주문 접수 대장'!$F$4:$F$503,$A24,'주문 접수 대장'!$A$4:$A$503,">="&$B$3,'주문 접수 대장'!$A$4:$A$503,"<="&$D$3,'주문 접수 대장'!$P$4:$P$503,"지연")) | I24: =IF($A24="","",COUNTIFS('주문 접수 대장'!$F$4:$F$503,$A24,'주문 접수 대장'!$A$4:$A$503,">="&$B$3,'주문 접수 대장'!$A$4:$A$503,"<="&$D$3,'주문 접수 대장'!$O$4:$O$503,"취소")) | J24: =IF($A24="","",IF(COUNTIFS('주문 접수 대장'!$F$4:$F$503,$A24,'주문 접수 대장'!$I$4:$I$503,"<>"&C24)>0,"단위 섞임",""))
A25: =IFERROR(INDEX('주문 접수 대장'!$F$4:$F$503,MATCH(20,'주문 접수 대장'!$S$4:$S$503,0)),"") | B25: =IF($A25="","",INDEX('주문 접수 대장'!$G$4:$G$503,MATCH($A25,'주문 접수 대장'!$F$4:$F$503,0))&"") | C25: =IF($A25="","",INDEX('주문 접수 대장'!$I$4:$I$503,MATCH($A25,'주문 접수 대장'!$F$4:$F$503,0))&"") | D25: =IF($A25="","",COUNTIFS('주문 접수 대장'!$F$4:$F$503,$A25,'주문 접수 대장'!$A$4:$A$503,">="&$B$3,'주문 접수 대장'!$A$4:$A$503,"<="&$D$3)) | E25: =IF($A25="","",SUMIFS('주문 접수 대장'!$H$4:$H$503,'주문 접수 대장'!$F$4:$F$503,$A25,'주문 접수 대장'!$A$4:$A$503,">="&$B$3,'주문 접수 대장'!$A$4:$A$503,"<="&$D$3)) | F25: =IF($A25="","",SUMIFS('주문 접수 대장'!$K$4:$K$503,'주문 접수 대장'!$F$4:$F$503,$A25,'주문 접수 대장'!$A$4:$A$503,">="&$B$3,'주문 접수 대장'!$A$4:$A$503,"<="&$D$3)) | G25: =IF($A25="","",SUMIFS('주문 접수 대장'!$H$4:$H$503,'주문 접수 대장'!$F$4:$F$503,$A25,'주문 접수 대장'!$A$4:$A$503,">="&$B$3,'주문 접수 대장'!$A$4:$A$503,"<="&$D$3,'주문 접수 대장'!$O$4:$O$503,"<>납품완료",'주문 접수 대장'!$O$4:$O$503,"<>취소")) | H25: =IF($A25="","",COUNTIFS('주문 접수 대장'!$F$4:$F$503,$A25,'주문 접수 대장'!$A$4:$A$503,">="&$B$3,'주문 접수 대장'!$A$4:$A$503,"<="&$D$3,'주문 접수 대장'!$P$4:$P$503,"지연")) | I25: =IF($A25="","",COUNTIFS('주문 접수 대장'!$F$4:$F$503,$A25,'주문 접수 대장'!$A$4:$A$503,">="&$B$3,'주문 접수 대장'!$A$4:$A$503,"<="&$D$3,'주문 접수 대장'!$O$4:$O$503,"취소")) | J25: =IF($A25="","",IF(COUNTIFS('주문 접수 대장'!$F$4:$F$503,$A25,'주문 접수 대장'!$I$4:$I$503,"<>"&C25)>0,"단위 섞임",""))
A26: =IFERROR(INDEX('주문 접수 대장'!$F$4:$F$503,MATCH(21,'주문 접수 대장'!$S$4:$S$503,0)),"") | B26: =IF($A26="","",INDEX('주문 접수 대장'!$G$4:$G$503,MATCH($A26,'주문 접수 대장'!$F$4:$F$503,0))&"") | C26: =IF($A26="","",INDEX('주문 접수 대장'!$I$4:$I$503,MATCH($A26,'주문 접수 대장'!$F$4:$F$503,0))&"") | D26: =IF($A26="","",COUNTIFS('주문 접수 대장'!$F$4:$F$503,$A26,'주문 접수 대장'!$A$4:$A$503,">="&$B$3,'주문 접수 대장'!$A$4:$A$503,"<="&$D$3)) | E26: =IF($A26="","",SUMIFS('주문 접수 대장'!$H$4:$H$503,'주문 접수 대장'!$F$4:$F$503,$A26,'주문 접수 대장'!$A$4:$A$503,">="&$B$3,'주문 접수 대장'!$A$4:$A$503,"<="&$D$3)) | F26: =IF($A26="","",SUMIFS('주문 접수 대장'!$K$4:$K$503,'주문 접수 대장'!$F$4:$F$503,$A26,'주문 접수 대장'!$A$4:$A$503,">="&$B$3,'주문 접수 대장'!$A$4:$A$503,"<="&$D$3)) | G26: =IF($A26="","",SUMIFS('주문 접수 대장'!$H$4:$H$503,'주문 접수 대장'!$F$4:$F$503,$A26,'주문 접수 대장'!$A$4:$A$503,">="&$B$3,'주문 접수 대장'!$A$4:$A$503,"<="&$D$3,'주문 접수 대장'!$O$4:$O$503,"<>납품완료",'주문 접수 대장'!$O$4:$O$503,"<>취소")) | H26: =IF($A26="","",COUNTIFS('주문 접수 대장'!$F$4:$F$503,$A26,'주문 접수 대장'!$A$4:$A$503,">="&$B$3,'주문 접수 대장'!$A$4:$A$503,"<="&$D$3,'주문 접수 대장'!$P$4:$P$503,"지연")) | I26: =IF($A26="","",COUNTIFS('주문 접수 대장'!$F$4:$F$503,$A26,'주문 접수 대장'!$A$4:$A$503,">="&$B$3,'주문 접수 대장'!$A$4:$A$503,"<="&$D$3,'주문 접수 대장'!$O$4:$O$503,"취소")) | J26: =IF($A26="","",IF(COUNTIFS('주문 접수 대장'!$F$4:$F$503,$A26,'주문 접수 대장'!$I$4:$I$503,"<>"&C26)>0,"단위 섞임",""))
A27: =IFERROR(INDEX('주문 접수 대장'!$F$4:$F$503,MATCH(22,'주문 접수 대장'!$S$4:$S$503,0)),"") | B27: =IF($A27="","",INDEX('주문 접수 대장'!$G$4:$G$503,MATCH($A27,'주문 접수 대장'!$F$4:$F$503,0))&"") | C27: =IF($A27="","",INDEX('주문 접수 대장'!$I$4:$I$503,MATCH($A27,'주문 접수 대장'!$F$4:$F$503,0))&"") | D27: =IF($A27="","",COUNTIFS('주문 접수 대장'!$F$4:$F$503,$A27,'주문 접수 대장'!$A$4:$A$503,">="&$B$3,'주문 접수 대장'!$A$4:$A$503,"<="&$D$3)) | E27: =IF($A27="","",SUMIFS('주문 접수 대장'!$H$4:$H$503,'주문 접수 대장'!$F$4:$F$503,$A27,'주문 접수 대장'!$A$4:$A$503,">="&$B$3,'주문 접수 대장'!$A$4:$A$503,"<="&$D$3)) | F27: =IF($A27="","",SUMIFS('주문 접수 대장'!$K$4:$K$503,'주문 접수 대장'!$F$4:$F$503,$A27,'주문 접수 대장'!$A$4:$A$503,">="&$B$3,'주문 접수 대장'!$A$4:$A$503,"<="&$D$3)) | G27: =IF($A27="","",SUMIFS('주문 접수 대장'!$H$4:$H$503,'주문 접수 대장'!$F$4:$F$503,$A27,'주문 접수 대장'!$A$4:$A$503,">="&$B$3,'주문 접수 대장'!$A$4:$A$503,"<="&$D$3,'주문 접수 대장'!$O$4:$O$503,"<>납품완료",'주문 접수 대장'!$O$4:$O$503,"<>취소")) | H27: =IF($A27="","",COUNTIFS('주문 접수 대장'!$F$4:$F$503,$A27,'주문 접수 대장'!$A$4:$A$503,">="&$B$3,'주문 접수 대장'!$A$4:$A$503,"<="&$D$3,'주문 접수 대장'!$P$4:$P$503,"지연")) | I27: =IF($A27="","",COUNTIFS('주문 접수 대장'!$F$4:$F$503,$A27,'주문 접수 대장'!$A$4:$A$503,">="&$B$3,'주문 접수 대장'!$A$4:$A$503,"<="&$D$3,'주문 접수 대장'!$O$4:$O$503,"취소")) | J27: =IF($A27="","",IF(COUNTIFS('주문 접수 대장'!$F$4:$F$503,$A27,'주문 접수 대장'!$I$4:$I$503,"<>"&C27)>0,"단위 섞임",""))
A28: =IFERROR(INDEX('주문 접수 대장'!$F$4:$F$503,MATCH(23,'주문 접수 대장'!$S$4:$S$503,0)),"") | B28: =IF($A28="","",INDEX('주문 접수 대장'!$G$4:$G$503,MATCH($A28,'주문 접수 대장'!$F$4:$F$503,0))&"") | C28: =IF($A28="","",INDEX('주문 접수 대장'!$I$4:$I$503,MATCH($A28,'주문 접수 대장'!$F$4:$F$503,0))&"") | D28: =IF($A28="","",COUNTIFS('주문 접수 대장'!$F$4:$F$503,$A28,'주문 접수 대장'!$A$4:$A$503,">="&$B$3,'주문 접수 대장'!$A$4:$A$503,"<="&$D$3)) | E28: =IF($A28="","",SUMIFS('주문 접수 대장'!$H$4:$H$503,'주문 접수 대장'!$F$4:$F$503,$A28,'주문 접수 대장'!$A$4:$A$503,">="&$B$3,'주문 접수 대장'!$A$4:$A$503,"<="&$D$3)) | F28: =IF($A28="","",SUMIFS('주문 접수 대장'!$K$4:$K$503,'주문 접수 대장'!$F$4:$F$503,$A28,'주문 접수 대장'!$A$4:$A$503,">="&$B$3,'주문 접수 대장'!$A$4:$A$503,"<="&$D$3)) | G28: =IF($A28="","",SUMIFS('주문 접수 대장'!$H$4:$H$503,'주문 접수 대장'!$F$4:$F$503,$A28,'주문 접수 대장'!$A$4:$A$503,">="&$B$3,'주문 접수 대장'!$A$4:$A$503,"<="&$D$3,'주문 접수 대장'!$O$4:$O$503,"<>납품완료",'주문 접수 대장'!$O$4:$O$503,"<>취소")) | H28: =IF($A28="","",COUNTIFS('주문 접수 대장'!$F$4:$F$503,$A28,'주문 접수 대장'!$A$4:$A$503,">="&$B$3,'주문 접수 대장'!$A$4:$A$503,"<="&$D$3,'주문 접수 대장'!$P$4:$P$503,"지연")) | I28: =IF($A28="","",COUNTIFS('주문 접수 대장'!$F$4:$F$503,$A28,'주문 접수 대장'!$A$4:$A$503,">="&$B$3,'주문 접수 대장'!$A$4:$A$503,"<="&$D$3,'주문 접수 대장'!$O$4:$O$503,"취소")) | J28: =IF($A28="","",IF(COUNTIFS('주문 접수 대장'!$F$4:$F$503,$A28,'주문 접수 대장'!$I$4:$I$503,"<>"&C28)>0,"단위 섞임",""))
A29: =IFERROR(INDEX('주문 접수 대장'!$F$4:$F$503,MATCH(24,'주문 접수 대장'!$S$4:$S$503,0)),"") | B29: =IF($A29="","",INDEX('주문 접수 대장'!$G$4:$G$503,MATCH($A29,'주문 접수 대장'!$F$4:$F$503,0))&"") | C29: =IF($A29="","",INDEX('주문 접수 대장'!$I$4:$I$503,MATCH($A29,'주문 접수 대장'!$F$4:$F$503,0))&"") | D29: =IF($A29="","",COUNTIFS('주문 접수 대장'!$F$4:$F$503,$A29,'주문 접수 대장'!$A$4:$A$503,">="&$B$3,'주문 접수 대장'!$A$4:$A$503,"<="&$D$3)) | E29: =IF($A29="","",SUMIFS('주문 접수 대장'!$H$4:$H$503,'주문 접수 대장'!$F$4:$F$503,$A29,'주문 접수 대장'!$A$4:$A$503,">="&$B$3,'주문 접수 대장'!$A$4:$A$503,"<="&$D$3)) | F29: =IF($A29="","",SUMIFS('주문 접수 대장'!$K$4:$K$503,'주문 접수 대장'!$F$4:$F$503,$A29,'주문 접수 대장'!$A$4:$A$503,">="&$B$3,'주문 접수 대장'!$A$4:$A$503,"<="&$D$3)) | G29: =IF($A29="","",SUMIFS('주문 접수 대장'!$H$4:$H$503,'주문 접수 대장'!$F$4:$F$503,$A29,'주문 접수 대장'!$A$4:$A$503,">="&$B$3,'주문 접수 대장'!$A$4:$A$503,"<="&$D$3,'주문 접수 대장'!$O$4:$O$503,"<>납품완료",'주문 접수 대장'!$O$4:$O$503,"<>취소")) | H29: =IF($A29="","",COUNTIFS('주문 접수 대장'!$F$4:$F$503,$A29,'주문 접수 대장'!$A$4:$A$503,">="&$B$3,'주문 접수 대장'!$A$4:$A$503,"<="&$D$3,'주문 접수 대장'!$P$4:$P$503,"지연")) | I29: =IF($A29="","",COUNTIFS('주문 접수 대장'!$F$4:$F$503,$A29,'주문 접수 대장'!$A$4:$A$503,">="&$B$3,'주문 접수 대장'!$A$4:$A$503,"<="&$D$3,'주문 접수 대장'!$O$4:$O$503,"취소")) | J29: =IF($A29="","",IF(COUNTIFS('주문 접수 대장'!$F$4:$F$503,$A29,'주문 접수 대장'!$I$4:$I$503,"<>"&C29)>0,"단위 섞임",""))
A30: =IFERROR(INDEX('주문 접수 대장'!$F$4:$F$503,MATCH(25,'주문 접수 대장'!$S$4:$S$503,0)),"") | B30: =IF($A30="","",INDEX('주문 접수 대장'!$G$4:$G$503,MATCH($A30,'주문 접수 대장'!$F$4:$F$503,0))&"") | C30: =IF($A30="","",INDEX('주문 접수 대장'!$I$4:$I$503,MATCH($A30,'주문 접수 대장'!$F$4:$F$503,0))&"") | D30: =IF($A30="","",COUNTIFS('주문 접수 대장'!$F$4:$F$503,$A30,'주문 접수 대장'!$A$4:$A$503,">="&$B$3,'주문 접수 대장'!$A$4:$A$503,"<="&$D$3)) | E30: =IF($A30="","",SUMIFS('주문 접수 대장'!$H$4:$H$503,'주문 접수 대장'!$F$4:$F$503,$A30,'주문 접수 대장'!$A$4:$A$503,">="&$B$3,'주문 접수 대장'!$A$4:$A$503,"<="&$D$3)) | F30: =IF($A30="","",SUMIFS('주문 접수 대장'!$K$4:$K$503,'주문 접수 대장'!$F$4:$F$503,$A30,'주문 접수 대장'!$A$4:$A$503,">="&$B$3,'주문 접수 대장'!$A$4:$A$503,"<="&$D$3)) | G30: =IF($A30="","",SUMIFS('주문 접수 대장'!$H$4:$H$503,'주문 접수 대장'!$F$4:$F$503,$A30,'주문 접수 대장'!$A$4:$A$503,">="&$B$3,'주문 접수 대장'!$A$4:$A$503,"<="&$D$3,'주문 접수 대장'!$O$4:$O$503,"<>납품완료",'주문 접수 대장'!$O$4:$O$503,"<>취소")) | H30: =IF($A30="","",COUNTIFS('주문 접수 대장'!$F$4:$F$503,$A30,'주문 접수 대장'!$A$4:$A$503,">="&$B$3,'주문 접수 대장'!$A$4:$A$503,"<="&$D$3,'주문 접수 대장'!$P$4:$P$503,"지연")) | I30: =IF($A30="","",COUNTIFS('주문 접수 대장'!$F$4:$F$503,$A30,'주문 접수 대장'!$A$4:$A$503,">="&$B$3,'주문 접수 대장'!$A$4:$A$503,"<="&$D$3,'주문 접수 대장'!$O$4:$O$503,"취소")) | J30: =IF($A30="","",IF(COUNTIFS('주문 접수 대장'!$F$4:$F$503,$A30,'주문 접수 대장'!$I$4:$I$503,"<>"&C30)>0,"단위 섞임",""))
A31: =IFERROR(INDEX('주문 접수 대장'!$F$4:$F$503,MATCH(26,'주문 접수 대장'!$S$4:$S$503,0)),"") | B31: =IF($A31="","",INDEX('주문 접수 대장'!$G$4:$G$503,MATCH($A31,'주문 접수 대장'!$F$4:$F$503,0))&"") | C31: =IF($A31="","",INDEX('주문 접수 대장'!$I$4:$I$503,MATCH($A31,'주문 접수 대장'!$F$4:$F$503,0))&"") | D31: =IF($A31="","",COUNTIFS('주문 접수 대장'!$F$4:$F$503,$A31,'주문 접수 대장'!$A$4:$A$503,">="&$B$3,'주문 접수 대장'!$A$4:$A$503,"<="&$D$3)) | E31: =IF($A31="","",SUMIFS('주문 접수 대장'!$H$4:$H$503,'주문 접수 대장'!$F$4:$F$503,$A31,'주문 접수 대장'!$A$4:$A$503,">="&$B$3,'주문 접수 대장'!$A$4:$A$503,"<="&$D$3)) | F31: =IF($A31="","",SUMIFS('주문 접수 대장'!$K$4:$K$503,'주문 접수 대장'!$F$4:$F$503,$A31,'주문 접수 대장'!$A$4:$A$503,">="&$B$3,'주문 접수 대장'!$A$4:$A$503,"<="&$D$3)) | G31: =IF($A31="","",SUMIFS('주문 접수 대장'!$H$4:$H$503,'주문 접수 대장'!$F$4:$F$503,$A31,'주문 접수 대장'!$A$4:$A$503,">="&$B$3,'주문 접수 대장'!$A$4:$A$503,"<="&$D$3,'주문 접수 대장'!$O$4:$O$503,"<>납품완료",'주문 접수 대장'!$O$4:$O$503,"<>취소")) | H31: =IF($A31="","",COUNTIFS('주문 접수 대장'!$F$4:$F$503,$A31,'주문 접수 대장'!$A$4:$A$503,">="&$B$3,'주문 접수 대장'!$A$4:$A$503,"<="&$D$3,'주문 접수 대장'!$P$4:$P$503,"지연")) | I31: =IF($A31="","",COUNTIFS('주문 접수 대장'!$F$4:$F$503,$A31,'주문 접수 대장'!$A$4:$A$503,">="&$B$3,'주문 접수 대장'!$A$4:$A$503,"<="&$D$3,'주문 접수 대장'!$O$4:$O$503,"취소")) | J31: =IF($A31="","",IF(COUNTIFS('주문 접수 대장'!$F$4:$F$503,$A31,'주문 접수 대장'!$I$4:$I$503,"<>"&C31)>0,"단위 섞임",""))
A32: =IFERROR(INDEX('주문 접수 대장'!$F$4:$F$503,MATCH(27,'주문 접수 대장'!$S$4:$S$503,0)),"") | B32: =IF($A32="","",INDEX('주문 접수 대장'!$G$4:$G$503,MATCH($A32,'주문 접수 대장'!$F$4:$F$503,0))&"") | C32: =IF($A32="","",INDEX('주문 접수 대장'!$I$4:$I$503,MATCH($A32,'주문 접수 대장'!$F$4:$F$503,0))&"") | D32: =IF($A32="","",COUNTIFS('주문 접수 대장'!$F$4:$F$503,$A32,'주문 접수 대장'!$A$4:$A$503,">="&$B$3,'주문 접수 대장'!$A$4:$A$503,"<="&$D$3)) | E32: =IF($A32="","",SUMIFS('주문 접수 대장'!$H$4:$H$503,'주문 접수 대장'!$F$4:$F$503,$A32,'주문 접수 대장'!$A$4:$A$503,">="&$B$3,'주문 접수 대장'!$A$4:$A$503,"<="&$D$3)) | F32: =IF($A32="","",SUMIFS('주문 접수 대장'!$K$4:$K$503,'주문 접수 대장'!$F$4:$F$503,$A32,'주문 접수 대장'!$A$4:$A$503,">="&$B$3,'주문 접수 대장'!$A$4:$A$503,"<="&$D$3)) | G32: =IF($A32="","",SUMIFS('주문 접수 대장'!$H$4:$H$503,'주문 접수 대장'!$F$4:$F$503,$A32,'주문 접수 대장'!$A$4:$A$503,">="&$B$3,'주문 접수 대장'!$A$4:$A$503,"<="&$D$3,'주문 접수 대장'!$O$4:$O$503,"<>납품완료",'주문 접수 대장'!$O$4:$O$503,"<>취소")) | H32: =IF($A32="","",COUNTIFS('주문 접수 대장'!$F$4:$F$503,$A32,'주문 접수 대장'!$A$4:$A$503,">="&$B$3,'주문 접수 대장'!$A$4:$A$503,"<="&$D$3,'주문 접수 대장'!$P$4:$P$503,"지연")) | I32: =IF($A32="","",COUNTIFS('주문 접수 대장'!$F$4:$F$503,$A32,'주문 접수 대장'!$A$4:$A$503,">="&$B$3,'주문 접수 대장'!$A$4:$A$503,"<="&$D$3,'주문 접수 대장'!$O$4:$O$503,"취소")) | J32: =IF($A32="","",IF(COUNTIFS('주문 접수 대장'!$F$4:$F$503,$A32,'주문 접수 대장'!$I$4:$I$503,"<>"&C32)>0,"단위 섞임",""))
A33: =IFERROR(INDEX('주문 접수 대장'!$F$4:$F$503,MATCH(28,'주문 접수 대장'!$S$4:$S$503,0)),"") | B33: =IF($A33="","",INDEX('주문 접수 대장'!$G$4:$G$503,MATCH($A33,'주문 접수 대장'!$F$4:$F$503,0))&"") | C33: =IF($A33="","",INDEX('주문 접수 대장'!$I$4:$I$503,MATCH($A33,'주문 접수 대장'!$F$4:$F$503,0))&"") | D33: =IF($A33="","",COUNTIFS('주문 접수 대장'!$F$4:$F$503,$A33,'주문 접수 대장'!$A$4:$A$503,">="&$B$3,'주문 접수 대장'!$A$4:$A$503,"<="&$D$3)) | E33: =IF($A33="","",SUMIFS('주문 접수 대장'!$H$4:$H$503,'주문 접수 대장'!$F$4:$F$503,$A33,'주문 접수 대장'!$A$4:$A$503,">="&$B$3,'주문 접수 대장'!$A$4:$A$503,"<="&$D$3)) | F33: =IF($A33="","",SUMIFS('주문 접수 대장'!$K$4:$K$503,'주문 접수 대장'!$F$4:$F$503,$A33,'주문 접수 대장'!$A$4:$A$503,">="&$B$3,'주문 접수 대장'!$A$4:$A$503,"<="&$D$3)) | G33: =IF($A33="","",SUMIFS('주문 접수 대장'!$H$4:$H$503,'주문 접수 대장'!$F$4:$F$503,$A33,'주문 접수 대장'!$A$4:$A$503,">="&$B$3,'주문 접수 대장'!$A$4:$A$503,"<="&$D$3,'주문 접수 대장'!$O$4:$O$503,"<>납품완료",'주문 접수 대장'!$O$4:$O$503,"<>취소")) | H33: =IF($A33="","",COUNTIFS('주문 접수 대장'!$F$4:$F$503,$A33,'주문 접수 대장'!$A$4:$A$503,">="&$B$3,'주문 접수 대장'!$A$4:$A$503,"<="&$D$3,'주문 접수 대장'!$P$4:$P$503,"지연")) | I33: =IF($A33="","",COUNTIFS('주문 접수 대장'!$F$4:$F$503,$A33,'주문 접수 대장'!$A$4:$A$503,">="&$B$3,'주문 접수 대장'!$A$4:$A$503,"<="&$D$3,'주문 접수 대장'!$O$4:$O$503,"취소")) | J33: =IF($A33="","",IF(COUNTIFS('주문 접수 대장'!$F$4:$F$503,$A33,'주문 접수 대장'!$I$4:$I$503,"<>"&C33)>0,"단위 섞임",""))
A34: =IFERROR(INDEX('주문 접수 대장'!$F$4:$F$503,MATCH(29,'주문 접수 대장'!$S$4:$S$503,0)),"") | B34: =IF($A34="","",INDEX('주문 접수 대장'!$G$4:$G$503,MATCH($A34,'주문 접수 대장'!$F$4:$F$503,0))&"") | C34: =IF($A34="","",INDEX('주문 접수 대장'!$I$4:$I$503,MATCH($A34,'주문 접수 대장'!$F$4:$F$503,0))&"") | D34: =IF($A34="","",COUNTIFS('주문 접수 대장'!$F$4:$F$503,$A34,'주문 접수 대장'!$A$4:$A$503,">="&$B$3,'주문 접수 대장'!$A$4:$A$503,"<="&$D$3)) | E34: =IF($A34="","",SUMIFS('주문 접수 대장'!$H$4:$H$503,'주문 접수 대장'!$F$4:$F$503,$A34,'주문 접수 대장'!$A$4:$A$503,">="&$B$3,'주문 접수 대장'!$A$4:$A$503,"<="&$D$3)) | F34: =IF($A34="","",SUMIFS('주문 접수 대장'!$K$4:$K$503,'주문 접수 대장'!$F$4:$F$503,$A34,'주문 접수 대장'!$A$4:$A$503,">="&$B$3,'주문 접수 대장'!$A$4:$A$503,"<="&$D$3)) | G34: =IF($A34="","",SUMIFS('주문 접수 대장'!$H$4:$H$503,'주문 접수 대장'!$F$4:$F$503,$A34,'주문 접수 대장'!$A$4:$A$503,">="&$B$3,'주문 접수 대장'!$A$4:$A$503,"<="&$D$3,'주문 접수 대장'!$O$4:$O$503,"<>납품완료",'주문 접수 대장'!$O$4:$O$503,"<>취소")) | H34: =IF($A34="","",COUNTIFS('주문 접수 대장'!$F$4:$F$503,$A34,'주문 접수 대장'!$A$4:$A$503,">="&$B$3,'주문 접수 대장'!$A$4:$A$503,"<="&$D$3,'주문 접수 대장'!$P$4:$P$503,"지연")) | I34: =IF($A34="","",COUNTIFS('주문 접수 대장'!$F$4:$F$503,$A34,'주문 접수 대장'!$A$4:$A$503,">="&$B$3,'주문 접수 대장'!$A$4:$A$503,"<="&$D$3,'주문 접수 대장'!$O$4:$O$503,"취소")) | J34: =IF($A34="","",IF(COUNTIFS('주문 접수 대장'!$F$4:$F$503,$A34,'주문 접수 대장'!$I$4:$I$503,"<>"&C34)>0,"단위 섞임",""))
A35: =IFERROR(INDEX('주문 접수 대장'!$F$4:$F$503,MATCH(30,'주문 접수 대장'!$S$4:$S$503,0)),"") | B35: =IF($A35="","",INDEX('주문 접수 대장'!$G$4:$G$503,MATCH($A35,'주문 접수 대장'!$F$4:$F$503,0))&"") | C35: =IF($A35="","",INDEX('주문 접수 대장'!$I$4:$I$503,MATCH($A35,'주문 접수 대장'!$F$4:$F$503,0))&"") | D35: =IF($A35="","",COUNTIFS('주문 접수 대장'!$F$4:$F$503,$A35,'주문 접수 대장'!$A$4:$A$503,">="&$B$3,'주문 접수 대장'!$A$4:$A$503,"<="&$D$3)) | E35: =IF($A35="","",SUMIFS('주문 접수 대장'!$H$4:$H$503,'주문 접수 대장'!$F$4:$F$503,$A35,'주문 접수 대장'!$A$4:$A$503,">="&$B$3,'주문 접수 대장'!$A$4:$A$503,"<="&$D$3)) | F35: =IF($A35="","",SUMIFS('주문 접수 대장'!$K$4:$K$503,'주문 접수 대장'!$F$4:$F$503,$A35,'주문 접수 대장'!$A$4:$A$503,">="&$B$3,'주문 접수 대장'!$A$4:$A$503,"<="&$D$3)) | G35: =IF($A35="","",SUMIFS('주문 접수 대장'!$H$4:$H$503,'주문 접수 대장'!$F$4:$F$503,$A35,'주문 접수 대장'!$A$4:$A$503,">="&$B$3,'주문 접수 대장'!$A$4:$A$503,"<="&$D$3,'주문 접수 대장'!$O$4:$O$503,"<>납품완료",'주문 접수 대장'!$O$4:$O$503,"<>취소")) | H35: =IF($A35="","",COUNTIFS('주문 접수 대장'!$F$4:$F$503,$A35,'주문 접수 대장'!$A$4:$A$503,">="&$B$3,'주문 접수 대장'!$A$4:$A$503,"<="&$D$3,'주문 접수 대장'!$P$4:$P$503,"지연")) | I35: =IF($A35="","",COUNTIFS('주문 접수 대장'!$F$4:$F$503,$A35,'주문 접수 대장'!$A$4:$A$503,">="&$B$3,'주문 접수 대장'!$A$4:$A$503,"<="&$D$3,'주문 접수 대장'!$O$4:$O$503,"취소")) | J35: =IF($A35="","",IF(COUNTIFS('주문 접수 대장'!$F$4:$F$503,$A35,'주문 접수 대장'!$I$4:$I$503,"<>"&C35)>0,"단위 섞임",""))
A36: =IFERROR(INDEX('주문 접수 대장'!$F$4:$F$503,MATCH(31,'주문 접수 대장'!$S$4:$S$503,0)),"") | B36: =IF($A36="","",INDEX('주문 접수 대장'!$G$4:$G$503,MATCH($A36,'주문 접수 대장'!$F$4:$F$503,0))&"") | C36: =IF($A36="","",INDEX('주문 접수 대장'!$I$4:$I$503,MATCH($A36,'주문 접수 대장'!$F$4:$F$503,0))&"") | D36: =IF($A36="","",COUNTIFS('주문 접수 대장'!$F$4:$F$503,$A36,'주문 접수 대장'!$A$4:$A$503,">="&$B$3,'주문 접수 대장'!$A$4:$A$503,"<="&$D$3)) | E36: =IF($A36="","",SUMIFS('주문 접수 대장'!$H$4:$H$503,'주문 접수 대장'!$F$4:$F$503,$A36,'주문 접수 대장'!$A$4:$A$503,">="&$B$3,'주문 접수 대장'!$A$4:$A$503,"<="&$D$3)) | F36: =IF($A36="","",SUMIFS('주문 접수 대장'!$K$4:$K$503,'주문 접수 대장'!$F$4:$F$503,$A36,'주문 접수 대장'!$A$4:$A$503,">="&$B$3,'주문 접수 대장'!$A$4:$A$503,"<="&$D$3)) | G36: =IF($A36="","",SUMIFS('주문 접수 대장'!$H$4:$H$503,'주문 접수 대장'!$F$4:$F$503,$A36,'주문 접수 대장'!$A$4:$A$503,">="&$B$3,'주문 접수 대장'!$A$4:$A$503,"<="&$D$3,'주문 접수 대장'!$O$4:$O$503,"<>납품완료",'주문 접수 대장'!$O$4:$O$503,"<>취소")) | H36: =IF($A36="","",COUNTIFS('주문 접수 대장'!$F$4:$F$503,$A36,'주문 접수 대장'!$A$4:$A$503,">="&$B$3,'주문 접수 대장'!$A$4:$A$503,"<="&$D$3,'주문 접수 대장'!$P$4:$P$503,"지연")) | I36: =IF($A36="","",COUNTIFS('주문 접수 대장'!$F$4:$F$503,$A36,'주문 접수 대장'!$A$4:$A$503,">="&$B$3,'주문 접수 대장'!$A$4:$A$503,"<="&$D$3,'주문 접수 대장'!$O$4:$O$503,"취소")) | J36: =IF($A36="","",IF(COUNTIFS('주문 접수 대장'!$F$4:$F$503,$A36,'주문 접수 대장'!$I$4:$I$503,"<>"&C36)>0,"단위 섞임",""))
A37: =IFERROR(INDEX('주문 접수 대장'!$F$4:$F$503,MATCH(32,'주문 접수 대장'!$S$4:$S$503,0)),"") | B37: =IF($A37="","",INDEX('주문 접수 대장'!$G$4:$G$503,MATCH($A37,'주문 접수 대장'!$F$4:$F$503,0))&"") | C37: =IF($A37="","",INDEX('주문 접수 대장'!$I$4:$I$503,MATCH($A37,'주문 접수 대장'!$F$4:$F$503,0))&"") | D37: =IF($A37="","",COUNTIFS('주문 접수 대장'!$F$4:$F$503,$A37,'주문 접수 대장'!$A$4:$A$503,">="&$B$3,'주문 접수 대장'!$A$4:$A$503,"<="&$D$3)) | E37: =IF($A37="","",SUMIFS('주문 접수 대장'!$H$4:$H$503,'주문 접수 대장'!$F$4:$F$503,$A37,'주문 접수 대장'!$A$4:$A$503,">="&$B$3,'주문 접수 대장'!$A$4:$A$503,"<="&$D$3)) | F37: =IF($A37="","",SUMIFS('주문 접수 대장'!$K$4:$K$503,'주문 접수 대장'!$F$4:$F$503,$A37,'주문 접수 대장'!$A$4:$A$503,">="&$B$3,'주문 접수 대장'!$A$4:$A$503,"<="&$D$3)) | G37: =IF($A37="","",SUMIFS('주문 접수 대장'!$H$4:$H$503,'주문 접수 대장'!$F$4:$F$503,$A37,'주문 접수 대장'!$A$4:$A$503,">="&$B$3,'주문 접수 대장'!$A$4:$A$503,"<="&$D$3,'주문 접수 대장'!$O$4:$O$503,"<>납품완료",'주문 접수 대장'!$O$4:$O$503,"<>취소")) | H37: =IF($A37="","",COUNTIFS('주문 접수 대장'!$F$4:$F$503,$A37,'주문 접수 대장'!$A$4:$A$503,">="&$B$3,'주문 접수 대장'!$A$4:$A$503,"<="&$D$3,'주문 접수 대장'!$P$4:$P$503,"지연")) | I37: =IF($A37="","",COUNTIFS('주문 접수 대장'!$F$4:$F$503,$A37,'주문 접수 대장'!$A$4:$A$503,">="&$B$3,'주문 접수 대장'!$A$4:$A$503,"<="&$D$3,'주문 접수 대장'!$O$4:$O$503,"취소")) | J37: =IF($A37="","",IF(COUNTIFS('주문 접수 대장'!$F$4:$F$503,$A37,'주문 접수 대장'!$I$4:$I$503,"<>"&C37)>0,"단위 섞임",""))
A38: =IFERROR(INDEX('주문 접수 대장'!$F$4:$F$503,MATCH(33,'주문 접수 대장'!$S$4:$S$503,0)),"") | B38: =IF($A38="","",INDEX('주문 접수 대장'!$G$4:$G$503,MATCH($A38,'주문 접수 대장'!$F$4:$F$503,0))&"") | C38: =IF($A38="","",INDEX('주문 접수 대장'!$I$4:$I$503,MATCH($A38,'주문 접수 대장'!$F$4:$F$503,0))&"") | D38: =IF($A38="","",COUNTIFS('주문 접수 대장'!$F$4:$F$503,$A38,'주문 접수 대장'!$A$4:$A$503,">="&$B$3,'주문 접수 대장'!$A$4:$A$503,"<="&$D$3)) | E38: =IF($A38="","",SUMIFS('주문 접수 대장'!$H$4:$H$503,'주문 접수 대장'!$F$4:$F$503,$A38,'주문 접수 대장'!$A$4:$A$503,">="&$B$3,'주문 접수 대장'!$A$4:$A$503,"<="&$D$3)) | F38: =IF($A38="","",SUMIFS('주문 접수 대장'!$K$4:$K$503,'주문 접수 대장'!$F$4:$F$503,$A38,'주문 접수 대장'!$A$4:$A$503,">="&$B$3,'주문 접수 대장'!$A$4:$A$503,"<="&$D$3)) | G38: =IF($A38="","",SUMIFS('주문 접수 대장'!$H$4:$H$503,'주문 접수 대장'!$F$4:$F$503,$A38,'주문 접수 대장'!$A$4:$A$503,">="&$B$3,'주문 접수 대장'!$A$4:$A$503,"<="&$D$3,'주문 접수 대장'!$O$4:$O$503,"<>납품완료",'주문 접수 대장'!$O$4:$O$503,"<>취소")) | H38: =IF($A38="","",COUNTIFS('주문 접수 대장'!$F$4:$F$503,$A38,'주문 접수 대장'!$A$4:$A$503,">="&$B$3,'주문 접수 대장'!$A$4:$A$503,"<="&$D$3,'주문 접수 대장'!$P$4:$P$503,"지연")) | I38: =IF($A38="","",COUNTIFS('주문 접수 대장'!$F$4:$F$503,$A38,'주문 접수 대장'!$A$4:$A$503,">="&$B$3,'주문 접수 대장'!$A$4:$A$503,"<="&$D$3,'주문 접수 대장'!$O$4:$O$503,"취소")) | J38: =IF($A38="","",IF(COUNTIFS('주문 접수 대장'!$F$4:$F$503,$A38,'주문 접수 대장'!$I$4:$I$503,"<>"&C38)>0,"단위 섞임",""))
A39: =IFERROR(INDEX('주문 접수 대장'!$F$4:$F$503,MATCH(34,'주문 접수 대장'!$S$4:$S$503,0)),"") | B39: =IF($A39="","",INDEX('주문 접수 대장'!$G$4:$G$503,MATCH($A39,'주문 접수 대장'!$F$4:$F$503,0))&"") | C39: =IF($A39="","",INDEX('주문 접수 대장'!$I$4:$I$503,MATCH($A39,'주문 접수 대장'!$F$4:$F$503,0))&"") | D39: =IF($A39="","",COUNTIFS('주문 접수 대장'!$F$4:$F$503,$A39,'주문 접수 대장'!$A$4:$A$503,">="&$B$3,'주문 접수 대장'!$A$4:$A$503,"<="&$D$3)) | E39: =IF($A39="","",SUMIFS('주문 접수 대장'!$H$4:$H$503,'주문 접수 대장'!$F$4:$F$503,$A39,'주문 접수 대장'!$A$4:$A$503,">="&$B$3,'주문 접수 대장'!$A$4:$A$503,"<="&$D$3)) | F39: =IF($A39="","",SUMIFS('주문 접수 대장'!$K$4:$K$503,'주문 접수 대장'!$F$4:$F$503,$A39,'주문 접수 대장'!$A$4:$A$503,">="&$B$3,'주문 접수 대장'!$A$4:$A$503,"<="&$D$3)) | G39: =IF($A39="","",SUMIFS('주문 접수 대장'!$H$4:$H$503,'주문 접수 대장'!$F$4:$F$503,$A39,'주문 접수 대장'!$A$4:$A$503,">="&$B$3,'주문 접수 대장'!$A$4:$A$503,"<="&$D$3,'주문 접수 대장'!$O$4:$O$503,"<>납품완료",'주문 접수 대장'!$O$4:$O$503,"<>취소")) | H39: =IF($A39="","",COUNTIFS('주문 접수 대장'!$F$4:$F$503,$A39,'주문 접수 대장'!$A$4:$A$503,">="&$B$3,'주문 접수 대장'!$A$4:$A$503,"<="&$D$3,'주문 접수 대장'!$P$4:$P$503,"지연")) | I39: =IF($A39="","",COUNTIFS('주문 접수 대장'!$F$4:$F$503,$A39,'주문 접수 대장'!$A$4:$A$503,">="&$B$3,'주문 접수 대장'!$A$4:$A$503,"<="&$D$3,'주문 접수 대장'!$O$4:$O$503,"취소")) | J39: =IF($A39="","",IF(COUNTIFS('주문 접수 대장'!$F$4:$F$503,$A39,'주문 접수 대장'!$I$4:$I$503,"<>"&C39)>0,"단위 섞임",""))
A40: =IFERROR(INDEX('주문 접수 대장'!$F$4:$F$503,MATCH(35,'주문 접수 대장'!$S$4:$S$503,0)),"") | B40: =IF($A40="","",INDEX('주문 접수 대장'!$G$4:$G$503,MATCH($A40,'주문 접수 대장'!$F$4:$F$503,0))&"") | C40: =IF($A40="","",INDEX('주문 접수 대장'!$I$4:$I$503,MATCH($A40,'주문 접수 대장'!$F$4:$F$503,0))&"") | D40: =IF($A40="","",COUNTIFS('주문 접수 대장'!$F$4:$F$503,$A40,'주문 접수 대장'!$A$4:$A$503,">="&$B$3,'주문 접수 대장'!$A$4:$A$503,"<="&$D$3)) | E40: =IF($A40="","",SUMIFS('주문 접수 대장'!$H$4:$H$503,'주문 접수 대장'!$F$4:$F$503,$A40,'주문 접수 대장'!$A$4:$A$503,">="&$B$3,'주문 접수 대장'!$A$4:$A$503,"<="&$D$3)) | F40: =IF($A40="","",SUMIFS('주문 접수 대장'!$K$4:$K$503,'주문 접수 대장'!$F$4:$F$503,$A40,'주문 접수 대장'!$A$4:$A$503,">="&$B$3,'주문 접수 대장'!$A$4:$A$503,"<="&$D$3)) | G40: =IF($A40="","",SUMIFS('주문 접수 대장'!$H$4:$H$503,'주문 접수 대장'!$F$4:$F$503,$A40,'주문 접수 대장'!$A$4:$A$503,">="&$B$3,'주문 접수 대장'!$A$4:$A$503,"<="&$D$3,'주문 접수 대장'!$O$4:$O$503,"<>납품완료",'주문 접수 대장'!$O$4:$O$503,"<>취소")) | H40: =IF($A40="","",COUNTIFS('주문 접수 대장'!$F$4:$F$503,$A40,'주문 접수 대장'!$A$4:$A$503,">="&$B$3,'주문 접수 대장'!$A$4:$A$503,"<="&$D$3,'주문 접수 대장'!$P$4:$P$503,"지연")) | I40: =IF($A40="","",COUNTIFS('주문 접수 대장'!$F$4:$F$503,$A40,'주문 접수 대장'!$A$4:$A$503,">="&$B$3,'주문 접수 대장'!$A$4:$A$503,"<="&$D$3,'주문 접수 대장'!$O$4:$O$503,"취소")) | J40: =IF($A40="","",IF(COUNTIFS('주문 접수 대장'!$F$4:$F$503,$A40,'주문 접수 대장'!$I$4:$I$503,"<>"&C40)>0,"단위 섞임",""))
A41: =IFERROR(INDEX('주문 접수 대장'!$F$4:$F$503,MATCH(36,'주문 접수 대장'!$S$4:$S$503,0)),"") | B41: =IF($A41="","",INDEX('주문 접수 대장'!$G$4:$G$503,MATCH($A41,'주문 접수 대장'!$F$4:$F$503,0))&"") | C41: =IF($A41="","",INDEX('주문 접수 대장'!$I$4:$I$503,MATCH($A41,'주문 접수 대장'!$F$4:$F$503,0))&"") | D41: =IF($A41="","",COUNTIFS('주문 접수 대장'!$F$4:$F$503,$A41,'주문 접수 대장'!$A$4:$A$503,">="&$B$3,'주문 접수 대장'!$A$4:$A$503,"<="&$D$3)) | E41: =IF($A41="","",SUMIFS('주문 접수 대장'!$H$4:$H$503,'주문 접수 대장'!$F$4:$F$503,$A41,'주문 접수 대장'!$A$4:$A$503,">="&$B$3,'주문 접수 대장'!$A$4:$A$503,"<="&$D$3)) | F41: =IF($A41="","",SUMIFS('주문 접수 대장'!$K$4:$K$503,'주문 접수 대장'!$F$4:$F$503,$A41,'주문 접수 대장'!$A$4:$A$503,">="&$B$3,'주문 접수 대장'!$A$4:$A$503,"<="&$D$3)) | G41: =IF($A41="","",SUMIFS('주문 접수 대장'!$H$4:$H$503,'주문 접수 대장'!$F$4:$F$503,$A41,'주문 접수 대장'!$A$4:$A$503,">="&$B$3,'주문 접수 대장'!$A$4:$A$503,"<="&$D$3,'주문 접수 대장'!$O$4:$O$503,"<>납품완료",'주문 접수 대장'!$O$4:$O$503,"<>취소")) | H41: =IF($A41="","",COUNTIFS('주문 접수 대장'!$F$4:$F$503,$A41,'주문 접수 대장'!$A$4:$A$503,">="&$B$3,'주문 접수 대장'!$A$4:$A$503,"<="&$D$3,'주문 접수 대장'!$P$4:$P$503,"지연")) | I41: =IF($A41="","",COUNTIFS('주문 접수 대장'!$F$4:$F$503,$A41,'주문 접수 대장'!$A$4:$A$503,">="&$B$3,'주문 접수 대장'!$A$4:$A$503,"<="&$D$3,'주문 접수 대장'!$O$4:$O$503,"취소")) | J41: =IF($A41="","",IF(COUNTIFS('주문 접수 대장'!$F$4:$F$503,$A41,'주문 접수 대장'!$I$4:$I$503,"<>"&C41)>0,"단위 섞임",""))
A42: =IFERROR(INDEX('주문 접수 대장'!$F$4:$F$503,MATCH(37,'주문 접수 대장'!$S$4:$S$503,0)),"") | B42: =IF($A42="","",INDEX('주문 접수 대장'!$G$4:$G$503,MATCH($A42,'주문 접수 대장'!$F$4:$F$503,0))&"") | C42: =IF($A42="","",INDEX('주문 접수 대장'!$I$4:$I$503,MATCH($A42,'주문 접수 대장'!$F$4:$F$503,0))&"") | D42: =IF($A42="","",COUNTIFS('주문 접수 대장'!$F$4:$F$503,$A42,'주문 접수 대장'!$A$4:$A$503,">="&$B$3,'주문 접수 대장'!$A$4:$A$503,"<="&$D$3)) | E42: =IF($A42="","",SUMIFS('주문 접수 대장'!$H$4:$H$503,'주문 접수 대장'!$F$4:$F$503,$A42,'주문 접수 대장'!$A$4:$A$503,">="&$B$3,'주문 접수 대장'!$A$4:$A$503,"<="&$D$3)) | F42: =IF($A42="","",SUMIFS('주문 접수 대장'!$K$4:$K$503,'주문 접수 대장'!$F$4:$F$503,$A42,'주문 접수 대장'!$A$4:$A$503,">="&$B$3,'주문 접수 대장'!$A$4:$A$503,"<="&$D$3)) | G42: =IF($A42="","",SUMIFS('주문 접수 대장'!$H$4:$H$503,'주문 접수 대장'!$F$4:$F$503,$A42,'주문 접수 대장'!$A$4:$A$503,">="&$B$3,'주문 접수 대장'!$A$4:$A$503,"<="&$D$3,'주문 접수 대장'!$O$4:$O$503,"<>납품완료",'주문 접수 대장'!$O$4:$O$503,"<>취소")) | H42: =IF($A42="","",COUNTIFS('주문 접수 대장'!$F$4:$F$503,$A42,'주문 접수 대장'!$A$4:$A$503,">="&$B$3,'주문 접수 대장'!$A$4:$A$503,"<="&$D$3,'주문 접수 대장'!$P$4:$P$503,"지연")) | I42: =IF($A42="","",COUNTIFS('주문 접수 대장'!$F$4:$F$503,$A42,'주문 접수 대장'!$A$4:$A$503,">="&$B$3,'주문 접수 대장'!$A$4:$A$503,"<="&$D$3,'주문 접수 대장'!$O$4:$O$503,"취소")) | J42: =IF($A42="","",IF(COUNTIFS('주문 접수 대장'!$F$4:$F$503,$A42,'주문 접수 대장'!$I$4:$I$503,"<>"&C42)>0,"단위 섞임",""))
A43: =IFERROR(INDEX('주문 접수 대장'!$F$4:$F$503,MATCH(38,'주문 접수 대장'!$S$4:$S$503,0)),"") | B43: =IF($A43="","",INDEX('주문 접수 대장'!$G$4:$G$503,MATCH($A43,'주문 접수 대장'!$F$4:$F$503,0))&"") | C43: =IF($A43="","",INDEX('주문 접수 대장'!$I$4:$I$503,MATCH($A43,'주문 접수 대장'!$F$4:$F$503,0))&"") | D43: =IF($A43="","",COUNTIFS('주문 접수 대장'!$F$4:$F$503,$A43,'주문 접수 대장'!$A$4:$A$503,">="&$B$3,'주문 접수 대장'!$A$4:$A$503,"<="&$D$3)) | E43: =IF($A43="","",SUMIFS('주문 접수 대장'!$H$4:$H$503,'주문 접수 대장'!$F$4:$F$503,$A43,'주문 접수 대장'!$A$4:$A$503,">="&$B$3,'주문 접수 대장'!$A$4:$A$503,"<="&$D$3)) | F43: =IF($A43="","",SUMIFS('주문 접수 대장'!$K$4:$K$503,'주문 접수 대장'!$F$4:$F$503,$A43,'주문 접수 대장'!$A$4:$A$503,">="&$B$3,'주문 접수 대장'!$A$4:$A$503,"<="&$D$3)) | G43: =IF($A43="","",SUMIFS('주문 접수 대장'!$H$4:$H$503,'주문 접수 대장'!$F$4:$F$503,$A43,'주문 접수 대장'!$A$4:$A$503,">="&$B$3,'주문 접수 대장'!$A$4:$A$503,"<="&$D$3,'주문 접수 대장'!$O$4:$O$503,"<>납품완료",'주문 접수 대장'!$O$4:$O$503,"<>취소")) | H43: =IF($A43="","",COUNTIFS('주문 접수 대장'!$F$4:$F$503,$A43,'주문 접수 대장'!$A$4:$A$503,">="&$B$3,'주문 접수 대장'!$A$4:$A$503,"<="&$D$3,'주문 접수 대장'!$P$4:$P$503,"지연")) | I43: =IF($A43="","",COUNTIFS('주문 접수 대장'!$F$4:$F$503,$A43,'주문 접수 대장'!$A$4:$A$503,">="&$B$3,'주문 접수 대장'!$A$4:$A$503,"<="&$D$3,'주문 접수 대장'!$O$4:$O$503,"취소")) | J43: =IF($A43="","",IF(COUNTIFS('주문 접수 대장'!$F$4:$F$503,$A43,'주문 접수 대장'!$I$4:$I$503,"<>"&C43)>0,"단위 섞임",""))
A44: =IFERROR(INDEX('주문 접수 대장'!$F$4:$F$503,MATCH(39,'주문 접수 대장'!$S$4:$S$503,0)),"") | B44: =IF($A44="","",INDEX('주문 접수 대장'!$G$4:$G$503,MATCH($A44,'주문 접수 대장'!$F$4:$F$503,0))&"") | C44: =IF($A44="","",INDEX('주문 접수 대장'!$I$4:$I$503,MATCH($A44,'주문 접수 대장'!$F$4:$F$503,0))&"") | D44: =IF($A44="","",COUNTIFS('주문 접수 대장'!$F$4:$F$503,$A44,'주문 접수 대장'!$A$4:$A$503,">="&$B$3,'주문 접수 대장'!$A$4:$A$503,"<="&$D$3)) | E44: =IF($A44="","",SUMIFS('주문 접수 대장'!$H$4:$H$503,'주문 접수 대장'!$F$4:$F$503,$A44,'주문 접수 대장'!$A$4:$A$503,">="&$B$3,'주문 접수 대장'!$A$4:$A$503,"<="&$D$3)) | F44: =IF($A44="","",SUMIFS('주문 접수 대장'!$K$4:$K$503,'주문 접수 대장'!$F$4:$F$503,$A44,'주문 접수 대장'!$A$4:$A$503,">="&$B$3,'주문 접수 대장'!$A$4:$A$503,"<="&$D$3)) | G44: =IF($A44="","",SUMIFS('주문 접수 대장'!$H$4:$H$503,'주문 접수 대장'!$F$4:$F$503,$A44,'주문 접수 대장'!$A$4:$A$503,">="&$B$3,'주문 접수 대장'!$A$4:$A$503,"<="&$D$3,'주문 접수 대장'!$O$4:$O$503,"<>납품완료",'주문 접수 대장'!$O$4:$O$503,"<>취소")) | H44: =IF($A44="","",COUNTIFS('주문 접수 대장'!$F$4:$F$503,$A44,'주문 접수 대장'!$A$4:$A$503,">="&$B$3,'주문 접수 대장'!$A$4:$A$503,"<="&$D$3,'주문 접수 대장'!$P$4:$P$503,"지연")) | I44: =IF($A44="","",COUNTIFS('주문 접수 대장'!$F$4:$F$503,$A44,'주문 접수 대장'!$A$4:$A$503,">="&$B$3,'주문 접수 대장'!$A$4:$A$503,"<="&$D$3,'주문 접수 대장'!$O$4:$O$503,"취소")) | J44: =IF($A44="","",IF(COUNTIFS('주문 접수 대장'!$F$4:$F$503,$A44,'주문 접수 대장'!$I$4:$I$503,"<>"&C44)>0,"단위 섞임",""))
A45: =IFERROR(INDEX('주문 접수 대장'!$F$4:$F$503,MATCH(40,'주문 접수 대장'!$S$4:$S$503,0)),"") | B45: =IF($A45="","",INDEX('주문 접수 대장'!$G$4:$G$503,MATCH($A45,'주문 접수 대장'!$F$4:$F$503,0))&"") | C45: =IF($A45="","",INDEX('주문 접수 대장'!$I$4:$I$503,MATCH($A45,'주문 접수 대장'!$F$4:$F$503,0))&"") | D45: =IF($A45="","",COUNTIFS('주문 접수 대장'!$F$4:$F$503,$A45,'주문 접수 대장'!$A$4:$A$503,">="&$B$3,'주문 접수 대장'!$A$4:$A$503,"<="&$D$3)) | E45: =IF($A45="","",SUMIFS('주문 접수 대장'!$H$4:$H$503,'주문 접수 대장'!$F$4:$F$503,$A45,'주문 접수 대장'!$A$4:$A$503,">="&$B$3,'주문 접수 대장'!$A$4:$A$503,"<="&$D$3)) | F45: =IF($A45="","",SUMIFS('주문 접수 대장'!$K$4:$K$503,'주문 접수 대장'!$F$4:$F$503,$A45,'주문 접수 대장'!$A$4:$A$503,">="&$B$3,'주문 접수 대장'!$A$4:$A$503,"<="&$D$3)) | G45: =IF($A45="","",SUMIFS('주문 접수 대장'!$H$4:$H$503,'주문 접수 대장'!$F$4:$F$503,$A45,'주문 접수 대장'!$A$4:$A$503,">="&$B$3,'주문 접수 대장'!$A$4:$A$503,"<="&$D$3,'주문 접수 대장'!$O$4:$O$503,"<>납품완료",'주문 접수 대장'!$O$4:$O$503,"<>취소")) | H45: =IF($A45="","",COUNTIFS('주문 접수 대장'!$F$4:$F$503,$A45,'주문 접수 대장'!$A$4:$A$503,">="&$B$3,'주문 접수 대장'!$A$4:$A$503,"<="&$D$3,'주문 접수 대장'!$P$4:$P$503,"지연")) | I45: =IF($A45="","",COUNTIFS('주문 접수 대장'!$F$4:$F$503,$A45,'주문 접수 대장'!$A$4:$A$503,">="&$B$3,'주문 접수 대장'!$A$4:$A$503,"<="&$D$3,'주문 접수 대장'!$O$4:$O$503,"취소")) | J45: =IF($A45="","",IF(COUNTIFS('주문 접수 대장'!$F$4:$F$503,$A45,'주문 접수 대장'!$I$4:$I$503,"<>"&C45)>0,"단위 섞임",""))
A46: =IFERROR(INDEX('주문 접수 대장'!$F$4:$F$503,MATCH(41,'주문 접수 대장'!$S$4:$S$503,0)),"") | B46: =IF($A46="","",INDEX('주문 접수 대장'!$G$4:$G$503,MATCH($A46,'주문 접수 대장'!$F$4:$F$503,0))&"") | C46: =IF($A46="","",INDEX('주문 접수 대장'!$I$4:$I$503,MATCH($A46,'주문 접수 대장'!$F$4:$F$503,0))&"") | D46: =IF($A46="","",COUNTIFS('주문 접수 대장'!$F$4:$F$503,$A46,'주문 접수 대장'!$A$4:$A$503,">="&$B$3,'주문 접수 대장'!$A$4:$A$503,"<="&$D$3)) | E46: =IF($A46="","",SUMIFS('주문 접수 대장'!$H$4:$H$503,'주문 접수 대장'!$F$4:$F$503,$A46,'주문 접수 대장'!$A$4:$A$503,">="&$B$3,'주문 접수 대장'!$A$4:$A$503,"<="&$D$3)) | F46: =IF($A46="","",SUMIFS('주문 접수 대장'!$K$4:$K$503,'주문 접수 대장'!$F$4:$F$503,$A46,'주문 접수 대장'!$A$4:$A$503,">="&$B$3,'주문 접수 대장'!$A$4:$A$503,"<="&$D$3)) | G46: =IF($A46="","",SUMIFS('주문 접수 대장'!$H$4:$H$503,'주문 접수 대장'!$F$4:$F$503,$A46,'주문 접수 대장'!$A$4:$A$503,">="&$B$3,'주문 접수 대장'!$A$4:$A$503,"<="&$D$3,'주문 접수 대장'!$O$4:$O$503,"<>납품완료",'주문 접수 대장'!$O$4:$O$503,"<>취소")) | H46: =IF($A46="","",COUNTIFS('주문 접수 대장'!$F$4:$F$503,$A46,'주문 접수 대장'!$A$4:$A$503,">="&$B$3,'주문 접수 대장'!$A$4:$A$503,"<="&$D$3,'주문 접수 대장'!$P$4:$P$503,"지연")) | I46: =IF($A46="","",COUNTIFS('주문 접수 대장'!$F$4:$F$503,$A46,'주문 접수 대장'!$A$4:$A$503,">="&$B$3,'주문 접수 대장'!$A$4:$A$503,"<="&$D$3,'주문 접수 대장'!$O$4:$O$503,"취소")) | J46: =IF($A46="","",IF(COUNTIFS('주문 접수 대장'!$F$4:$F$503,$A46,'주문 접수 대장'!$I$4:$I$503,"<>"&C46)>0,"단위 섞임",""))
A47: =IFERROR(INDEX('주문 접수 대장'!$F$4:$F$503,MATCH(42,'주문 접수 대장'!$S$4:$S$503,0)),"") | B47: =IF($A47="","",INDEX('주문 접수 대장'!$G$4:$G$503,MATCH($A47,'주문 접수 대장'!$F$4:$F$503,0))&"") | C47: =IF($A47="","",INDEX('주문 접수 대장'!$I$4:$I$503,MATCH($A47,'주문 접수 대장'!$F$4:$F$503,0))&"") | D47: =IF($A47="","",COUNTIFS('주문 접수 대장'!$F$4:$F$503,$A47,'주문 접수 대장'!$A$4:$A$503,">="&$B$3,'주문 접수 대장'!$A$4:$A$503,"<="&$D$3)) | E47: =IF($A47="","",SUMIFS('주문 접수 대장'!$H$4:$H$503,'주문 접수 대장'!$F$4:$F$503,$A47,'주문 접수 대장'!$A$4:$A$503,">="&$B$3,'주문 접수 대장'!$A$4:$A$503,"<="&$D$3)) | F47: =IF($A47="","",SUMIFS('주문 접수 대장'!$K$4:$K$503,'주문 접수 대장'!$F$4:$F$503,$A47,'주문 접수 대장'!$A$4:$A$503,">="&$B$3,'주문 접수 대장'!$A$4:$A$503,"<="&$D$3)) | G47: =IF($A47="","",SUMIFS('주문 접수 대장'!$H$4:$H$503,'주문 접수 대장'!$F$4:$F$503,$A47,'주문 접수 대장'!$A$4:$A$503,">="&$B$3,'주문 접수 대장'!$A$4:$A$503,"<="&$D$3,'주문 접수 대장'!$O$4:$O$503,"<>납품완료",'주문 접수 대장'!$O$4:$O$503,"<>취소")) | H47: =IF($A47="","",COUNTIFS('주문 접수 대장'!$F$4:$F$503,$A47,'주문 접수 대장'!$A$4:$A$503,">="&$B$3,'주문 접수 대장'!$A$4:$A$503,"<="&$D$3,'주문 접수 대장'!$P$4:$P$503,"지연")) | I47: =IF($A47="","",COUNTIFS('주문 접수 대장'!$F$4:$F$503,$A47,'주문 접수 대장'!$A$4:$A$503,">="&$B$3,'주문 접수 대장'!$A$4:$A$503,"<="&$D$3,'주문 접수 대장'!$O$4:$O$503,"취소")) | J47: =IF($A47="","",IF(COUNTIFS('주문 접수 대장'!$F$4:$F$503,$A47,'주문 접수 대장'!$I$4:$I$503,"<>"&C47)>0,"단위 섞임",""))
A48: =IFERROR(INDEX('주문 접수 대장'!$F$4:$F$503,MATCH(43,'주문 접수 대장'!$S$4:$S$503,0)),"") | B48: =IF($A48="","",INDEX('주문 접수 대장'!$G$4:$G$503,MATCH($A48,'주문 접수 대장'!$F$4:$F$503,0))&"") | C48: =IF($A48="","",INDEX('주문 접수 대장'!$I$4:$I$503,MATCH($A48,'주문 접수 대장'!$F$4:$F$503,0))&"") | D48: =IF($A48="","",COUNTIFS('주문 접수 대장'!$F$4:$F$503,$A48,'주문 접수 대장'!$A$4:$A$503,">="&$B$3,'주문 접수 대장'!$A$4:$A$503,"<="&$D$3)) | E48: =IF($A48="","",SUMIFS('주문 접수 대장'!$H$4:$H$503,'주문 접수 대장'!$F$4:$F$503,$A48,'주문 접수 대장'!$A$4:$A$503,">="&$B$3,'주문 접수 대장'!$A$4:$A$503,"<="&$D$3)) | F48: =IF($A48="","",SUMIFS('주문 접수 대장'!$K$4:$K$503,'주문 접수 대장'!$F$4:$F$503,$A48,'주문 접수 대장'!$A$4:$A$503,">="&$B$3,'주문 접수 대장'!$A$4:$A$503,"<="&$D$3)) | G48: =IF($A48="","",SUMIFS('주문 접수 대장'!$H$4:$H$503,'주문 접수 대장'!$F$4:$F$503,$A48,'주문 접수 대장'!$A$4:$A$503,">="&$B$3,'주문 접수 대장'!$A$4:$A$503,"<="&$D$3,'주문 접수 대장'!$O$4:$O$503,"<>납품완료",'주문 접수 대장'!$O$4:$O$503,"<>취소")) | H48: =IF($A48="","",COUNTIFS('주문 접수 대장'!$F$4:$F$503,$A48,'주문 접수 대장'!$A$4:$A$503,">="&$B$3,'주문 접수 대장'!$A$4:$A$503,"<="&$D$3,'주문 접수 대장'!$P$4:$P$503,"지연")) | I48: =IF($A48="","",COUNTIFS('주문 접수 대장'!$F$4:$F$503,$A48,'주문 접수 대장'!$A$4:$A$503,">="&$B$3,'주문 접수 대장'!$A$4:$A$503,"<="&$D$3,'주문 접수 대장'!$O$4:$O$503,"취소")) | J48: =IF($A48="","",IF(COUNTIFS('주문 접수 대장'!$F$4:$F$503,$A48,'주문 접수 대장'!$I$4:$I$503,"<>"&C48)>0,"단위 섞임",""))
A49: =IFERROR(INDEX('주문 접수 대장'!$F$4:$F$503,MATCH(44,'주문 접수 대장'!$S$4:$S$503,0)),"") | B49: =IF($A49="","",INDEX('주문 접수 대장'!$G$4:$G$503,MATCH($A49,'주문 접수 대장'!$F$4:$F$503,0))&"") | C49: =IF($A49="","",INDEX('주문 접수 대장'!$I$4:$I$503,MATCH($A49,'주문 접수 대장'!$F$4:$F$503,0))&"") | D49: =IF($A49="","",COUNTIFS('주문 접수 대장'!$F$4:$F$503,$A49,'주문 접수 대장'!$A$4:$A$503,">="&$B$3,'주문 접수 대장'!$A$4:$A$503,"<="&$D$3)) | E49: =IF($A49="","",SUMIFS('주문 접수 대장'!$H$4:$H$503,'주문 접수 대장'!$F$4:$F$503,$A49,'주문 접수 대장'!$A$4:$A$503,">="&$B$3,'주문 접수 대장'!$A$4:$A$503,"<="&$D$3)) | F49: =IF($A49="","",SUMIFS('주문 접수 대장'!$K$4:$K$503,'주문 접수 대장'!$F$4:$F$503,$A49,'주문 접수 대장'!$A$4:$A$503,">="&$B$3,'주문 접수 대장'!$A$4:$A$503,"<="&$D$3)) | G49: =IF($A49="","",SUMIFS('주문 접수 대장'!$H$4:$H$503,'주문 접수 대장'!$F$4:$F$503,$A49,'주문 접수 대장'!$A$4:$A$503,">="&$B$3,'주문 접수 대장'!$A$4:$A$503,"<="&$D$3,'주문 접수 대장'!$O$4:$O$503,"<>납품완료",'주문 접수 대장'!$O$4:$O$503,"<>취소")) | H49: =IF($A49="","",COUNTIFS('주문 접수 대장'!$F$4:$F$503,$A49,'주문 접수 대장'!$A$4:$A$503,">="&$B$3,'주문 접수 대장'!$A$4:$A$503,"<="&$D$3,'주문 접수 대장'!$P$4:$P$503,"지연")) | I49: =IF($A49="","",COUNTIFS('주문 접수 대장'!$F$4:$F$503,$A49,'주문 접수 대장'!$A$4:$A$503,">="&$B$3,'주문 접수 대장'!$A$4:$A$503,"<="&$D$3,'주문 접수 대장'!$O$4:$O$503,"취소")) | J49: =IF($A49="","",IF(COUNTIFS('주문 접수 대장'!$F$4:$F$503,$A49,'주문 접수 대장'!$I$4:$I$503,"<>"&C49)>0,"단위 섞임",""))
A50: =IFERROR(INDEX('주문 접수 대장'!$F$4:$F$503,MATCH(45,'주문 접수 대장'!$S$4:$S$503,0)),"") | B50: =IF($A50="","",INDEX('주문 접수 대장'!$G$4:$G$503,MATCH($A50,'주문 접수 대장'!$F$4:$F$503,0))&"") | C50: =IF($A50="","",INDEX('주문 접수 대장'!$I$4:$I$503,MATCH($A50,'주문 접수 대장'!$F$4:$F$503,0))&"") | D50: =IF($A50="","",COUNTIFS('주문 접수 대장'!$F$4:$F$503,$A50,'주문 접수 대장'!$A$4:$A$503,">="&$B$3,'주문 접수 대장'!$A$4:$A$503,"<="&$D$3)) | E50: =IF($A50="","",SUMIFS('주문 접수 대장'!$H$4:$H$503,'주문 접수 대장'!$F$4:$F$503,$A50,'주문 접수 대장'!$A$4:$A$503,">="&$B$3,'주문 접수 대장'!$A$4:$A$503,"<="&$D$3)) | F50: =IF($A50="","",SUMIFS('주문 접수 대장'!$K$4:$K$503,'주문 접수 대장'!$F$4:$F$503,$A50,'주문 접수 대장'!$A$4:$A$503,">="&$B$3,'주문 접수 대장'!$A$4:$A$503,"<="&$D$3)) | G50: =IF($A50="","",SUMIFS('주문 접수 대장'!$H$4:$H$503,'주문 접수 대장'!$F$4:$F$503,$A50,'주문 접수 대장'!$A$4:$A$503,">="&$B$3,'주문 접수 대장'!$A$4:$A$503,"<="&$D$3,'주문 접수 대장'!$O$4:$O$503,"<>납품완료",'주문 접수 대장'!$O$4:$O$503,"<>취소")) | H50: =IF($A50="","",COUNTIFS('주문 접수 대장'!$F$4:$F$503,$A50,'주문 접수 대장'!$A$4:$A$503,">="&$B$3,'주문 접수 대장'!$A$4:$A$503,"<="&$D$3,'주문 접수 대장'!$P$4:$P$503,"지연")) | I50: =IF($A50="","",COUNTIFS('주문 접수 대장'!$F$4:$F$503,$A50,'주문 접수 대장'!$A$4:$A$503,">="&$B$3,'주문 접수 대장'!$A$4:$A$503,"<="&$D$3,'주문 접수 대장'!$O$4:$O$503,"취소")) | J50: =IF($A50="","",IF(COUNTIFS('주문 접수 대장'!$F$4:$F$503,$A50,'주문 접수 대장'!$I$4:$I$503,"<>"&C50)>0,"단위 섞임",""))
A51: =IFERROR(INDEX('주문 접수 대장'!$F$4:$F$503,MATCH(46,'주문 접수 대장'!$S$4:$S$503,0)),"") | B51: =IF($A51="","",INDEX('주문 접수 대장'!$G$4:$G$503,MATCH($A51,'주문 접수 대장'!$F$4:$F$503,0))&"") | C51: =IF($A51="","",INDEX('주문 접수 대장'!$I$4:$I$503,MATCH($A51,'주문 접수 대장'!$F$4:$F$503,0))&"") | D51: =IF($A51="","",COUNTIFS('주문 접수 대장'!$F$4:$F$503,$A51,'주문 접수 대장'!$A$4:$A$503,">="&$B$3,'주문 접수 대장'!$A$4:$A$503,"<="&$D$3)) | E51: =IF($A51="","",SUMIFS('주문 접수 대장'!$H$4:$H$503,'주문 접수 대장'!$F$4:$F$503,$A51,'주문 접수 대장'!$A$4:$A$503,">="&$B$3,'주문 접수 대장'!$A$4:$A$503,"<="&$D$3)) | F51: =IF($A51="","",SUMIFS('주문 접수 대장'!$K$4:$K$503,'주문 접수 대장'!$F$4:$F$503,$A51,'주문 접수 대장'!$A$4:$A$503,">="&$B$3,'주문 접수 대장'!$A$4:$A$503,"<="&$D$3)) | G51: =IF($A51="","",SUMIFS('주문 접수 대장'!$H$4:$H$503,'주문 접수 대장'!$F$4:$F$503,$A51,'주문 접수 대장'!$A$4:$A$503,">="&$B$3,'주문 접수 대장'!$A$4:$A$503,"<="&$D$3,'주문 접수 대장'!$O$4:$O$503,"<>납품완료",'주문 접수 대장'!$O$4:$O$503,"<>취소")) | H51: =IF($A51="","",COUNTIFS('주문 접수 대장'!$F$4:$F$503,$A51,'주문 접수 대장'!$A$4:$A$503,">="&$B$3,'주문 접수 대장'!$A$4:$A$503,"<="&$D$3,'주문 접수 대장'!$P$4:$P$503,"지연")) | I51: =IF($A51="","",COUNTIFS('주문 접수 대장'!$F$4:$F$503,$A51,'주문 접수 대장'!$A$4:$A$503,">="&$B$3,'주문 접수 대장'!$A$4:$A$503,"<="&$D$3,'주문 접수 대장'!$O$4:$O$503,"취소")) | J51: =IF($A51="","",IF(COUNTIFS('주문 접수 대장'!$F$4:$F$503,$A51,'주문 접수 대장'!$I$4:$I$503,"<>"&C51)>0,"단위 섞임",""))
A52: =IFERROR(INDEX('주문 접수 대장'!$F$4:$F$503,MATCH(47,'주문 접수 대장'!$S$4:$S$503,0)),"") | B52: =IF($A52="","",INDEX('주문 접수 대장'!$G$4:$G$503,MATCH($A52,'주문 접수 대장'!$F$4:$F$503,0))&"") | C52: =IF($A52="","",INDEX('주문 접수 대장'!$I$4:$I$503,MATCH($A52,'주문 접수 대장'!$F$4:$F$503,0))&"") | D52: =IF($A52="","",COUNTIFS('주문 접수 대장'!$F$4:$F$503,$A52,'주문 접수 대장'!$A$4:$A$503,">="&$B$3,'주문 접수 대장'!$A$4:$A$503,"<="&$D$3)) | E52: =IF($A52="","",SUMIFS('주문 접수 대장'!$H$4:$H$503,'주문 접수 대장'!$F$4:$F$503,$A52,'주문 접수 대장'!$A$4:$A$503,">="&$B$3,'주문 접수 대장'!$A$4:$A$503,"<="&$D$3)) | F52: =IF($A52="","",SUMIFS('주문 접수 대장'!$K$4:$K$503,'주문 접수 대장'!$F$4:$F$503,$A52,'주문 접수 대장'!$A$4:$A$503,">="&$B$3,'주문 접수 대장'!$A$4:$A$503,"<="&$D$3)) | G52: =IF($A52="","",SUMIFS('주문 접수 대장'!$H$4:$H$503,'주문 접수 대장'!$F$4:$F$503,$A52,'주문 접수 대장'!$A$4:$A$503,">="&$B$3,'주문 접수 대장'!$A$4:$A$503,"<="&$D$3,'주문 접수 대장'!$O$4:$O$503,"<>납품완료",'주문 접수 대장'!$O$4:$O$503,"<>취소")) | H52: =IF($A52="","",COUNTIFS('주문 접수 대장'!$F$4:$F$503,$A52,'주문 접수 대장'!$A$4:$A$503,">="&$B$3,'주문 접수 대장'!$A$4:$A$503,"<="&$D$3,'주문 접수 대장'!$P$4:$P$503,"지연")) | I52: =IF($A52="","",COUNTIFS('주문 접수 대장'!$F$4:$F$503,$A52,'주문 접수 대장'!$A$4:$A$503,">="&$B$3,'주문 접수 대장'!$A$4:$A$503,"<="&$D$3,'주문 접수 대장'!$O$4:$O$503,"취소")) | J52: =IF($A52="","",IF(COUNTIFS('주문 접수 대장'!$F$4:$F$503,$A52,'주문 접수 대장'!$I$4:$I$503,"<>"&C52)>0,"단위 섞임",""))
A53: =IFERROR(INDEX('주문 접수 대장'!$F$4:$F$503,MATCH(48,'주문 접수 대장'!$S$4:$S$503,0)),"") | B53: =IF($A53="","",INDEX('주문 접수 대장'!$G$4:$G$503,MATCH($A53,'주문 접수 대장'!$F$4:$F$503,0))&"") | C53: =IF($A53="","",INDEX('주문 접수 대장'!$I$4:$I$503,MATCH($A53,'주문 접수 대장'!$F$4:$F$503,0))&"") | D53: =IF($A53="","",COUNTIFS('주문 접수 대장'!$F$4:$F$503,$A53,'주문 접수 대장'!$A$4:$A$503,">="&$B$3,'주문 접수 대장'!$A$4:$A$503,"<="&$D$3)) | E53: =IF($A53="","",SUMIFS('주문 접수 대장'!$H$4:$H$503,'주문 접수 대장'!$F$4:$F$503,$A53,'주문 접수 대장'!$A$4:$A$503,">="&$B$3,'주문 접수 대장'!$A$4:$A$503,"<="&$D$3)) | F53: =IF($A53="","",SUMIFS('주문 접수 대장'!$K$4:$K$503,'주문 접수 대장'!$F$4:$F$503,$A53,'주문 접수 대장'!$A$4:$A$503,">="&$B$3,'주문 접수 대장'!$A$4:$A$503,"<="&$D$3)) | G53: =IF($A53="","",SUMIFS('주문 접수 대장'!$H$4:$H$503,'주문 접수 대장'!$F$4:$F$503,$A53,'주문 접수 대장'!$A$4:$A$503,">="&$B$3,'주문 접수 대장'!$A$4:$A$503,"<="&$D$3,'주문 접수 대장'!$O$4:$O$503,"<>납품완료",'주문 접수 대장'!$O$4:$O$503,"<>취소")) | H53: =IF($A53="","",COUNTIFS('주문 접수 대장'!$F$4:$F$503,$A53,'주문 접수 대장'!$A$4:$A$503,">="&$B$3,'주문 접수 대장'!$A$4:$A$503,"<="&$D$3,'주문 접수 대장'!$P$4:$P$503,"지연")) | I53: =IF($A53="","",COUNTIFS('주문 접수 대장'!$F$4:$F$503,$A53,'주문 접수 대장'!$A$4:$A$503,">="&$B$3,'주문 접수 대장'!$A$4:$A$503,"<="&$D$3,'주문 접수 대장'!$O$4:$O$503,"취소")) | J53: =IF($A53="","",IF(COUNTIFS('주문 접수 대장'!$F$4:$F$503,$A53,'주문 접수 대장'!$I$4:$I$503,"<>"&C53)>0,"단위 섞임",""))
A54: =IFERROR(INDEX('주문 접수 대장'!$F$4:$F$503,MATCH(49,'주문 접수 대장'!$S$4:$S$503,0)),"") | B54: =IF($A54="","",INDEX('주문 접수 대장'!$G$4:$G$503,MATCH($A54,'주문 접수 대장'!$F$4:$F$503,0))&"") | C54: =IF($A54="","",INDEX('주문 접수 대장'!$I$4:$I$503,MATCH($A54,'주문 접수 대장'!$F$4:$F$503,0))&"") | D54: =IF($A54="","",COUNTIFS('주문 접수 대장'!$F$4:$F$503,$A54,'주문 접수 대장'!$A$4:$A$503,">="&$B$3,'주문 접수 대장'!$A$4:$A$503,"<="&$D$3)) | E54: =IF($A54="","",SUMIFS('주문 접수 대장'!$H$4:$H$503,'주문 접수 대장'!$F$4:$F$503,$A54,'주문 접수 대장'!$A$4:$A$503,">="&$B$3,'주문 접수 대장'!$A$4:$A$503,"<="&$D$3)) | F54: =IF($A54="","",SUMIFS('주문 접수 대장'!$K$4:$K$503,'주문 접수 대장'!$F$4:$F$503,$A54,'주문 접수 대장'!$A$4:$A$503,">="&$B$3,'주문 접수 대장'!$A$4:$A$503,"<="&$D$3)) | G54: =IF($A54="","",SUMIFS('주문 접수 대장'!$H$4:$H$503,'주문 접수 대장'!$F$4:$F$503,$A54,'주문 접수 대장'!$A$4:$A$503,">="&$B$3,'주문 접수 대장'!$A$4:$A$503,"<="&$D$3,'주문 접수 대장'!$O$4:$O$503,"<>납품완료",'주문 접수 대장'!$O$4:$O$503,"<>취소")) | H54: =IF($A54="","",COUNTIFS('주문 접수 대장'!$F$4:$F$503,$A54,'주문 접수 대장'!$A$4:$A$503,">="&$B$3,'주문 접수 대장'!$A$4:$A$503,"<="&$D$3,'주문 접수 대장'!$P$4:$P$503,"지연")) | I54: =IF($A54="","",COUNTIFS('주문 접수 대장'!$F$4:$F$503,$A54,'주문 접수 대장'!$A$4:$A$503,">="&$B$3,'주문 접수 대장'!$A$4:$A$503,"<="&$D$3,'주문 접수 대장'!$O$4:$O$503,"취소")) | J54: =IF($A54="","",IF(COUNTIFS('주문 접수 대장'!$F$4:$F$503,$A54,'주문 접수 대장'!$I$4:$I$503,"<>"&C54)>0,"단위 섞임",""))
A55: =IFERROR(INDEX('주문 접수 대장'!$F$4:$F$503,MATCH(50,'주문 접수 대장'!$S$4:$S$503,0)),"") | B55: =IF($A55="","",INDEX('주문 접수 대장'!$G$4:$G$503,MATCH($A55,'주문 접수 대장'!$F$4:$F$503,0))&"") | C55: =IF($A55="","",INDEX('주문 접수 대장'!$I$4:$I$503,MATCH($A55,'주문 접수 대장'!$F$4:$F$503,0))&"") | D55: =IF($A55="","",COUNTIFS('주문 접수 대장'!$F$4:$F$503,$A55,'주문 접수 대장'!$A$4:$A$503,">="&$B$3,'주문 접수 대장'!$A$4:$A$503,"<="&$D$3)) | E55: =IF($A55="","",SUMIFS('주문 접수 대장'!$H$4:$H$503,'주문 접수 대장'!$F$4:$F$503,$A55,'주문 접수 대장'!$A$4:$A$503,">="&$B$3,'주문 접수 대장'!$A$4:$A$503,"<="&$D$3)) | F55: =IF($A55="","",SUMIFS('주문 접수 대장'!$K$4:$K$503,'주문 접수 대장'!$F$4:$F$503,$A55,'주문 접수 대장'!$A$4:$A$503,">="&$B$3,'주문 접수 대장'!$A$4:$A$503,"<="&$D$3)) | G55: =IF($A55="","",SUMIFS('주문 접수 대장'!$H$4:$H$503,'주문 접수 대장'!$F$4:$F$503,$A55,'주문 접수 대장'!$A$4:$A$503,">="&$B$3,'주문 접수 대장'!$A$4:$A$503,"<="&$D$3,'주문 접수 대장'!$O$4:$O$503,"<>납품완료",'주문 접수 대장'!$O$4:$O$503,"<>취소")) | H55: =IF($A55="","",COUNTIFS('주문 접수 대장'!$F$4:$F$503,$A55,'주문 접수 대장'!$A$4:$A$503,">="&$B$3,'주문 접수 대장'!$A$4:$A$503,"<="&$D$3,'주문 접수 대장'!$P$4:$P$503,"지연")) | I55: =IF($A55="","",COUNTIFS('주문 접수 대장'!$F$4:$F$503,$A55,'주문 접수 대장'!$A$4:$A$503,">="&$B$3,'주문 접수 대장'!$A$4:$A$503,"<="&$D$3,'주문 접수 대장'!$O$4:$O$503,"취소")) | J55: =IF($A55="","",IF(COUNTIFS('주문 접수 대장'!$F$4:$F$503,$A55,'주문 접수 대장'!$I$4:$I$503,"<>"&C55)>0,"단위 섞임",""))
A56: =IFERROR(INDEX('주문 접수 대장'!$F$4:$F$503,MATCH(51,'주문 접수 대장'!$S$4:$S$503,0)),"") | B56: =IF($A56="","",INDEX('주문 접수 대장'!$G$4:$G$503,MATCH($A56,'주문 접수 대장'!$F$4:$F$503,0))&"") | C56: =IF($A56="","",INDEX('주문 접수 대장'!$I$4:$I$503,MATCH($A56,'주문 접수 대장'!$F$4:$F$503,0))&"") | D56: =IF($A56="","",COUNTIFS('주문 접수 대장'!$F$4:$F$503,$A56,'주문 접수 대장'!$A$4:$A$503,">="&$B$3,'주문 접수 대장'!$A$4:$A$503,"<="&$D$3)) | E56: =IF($A56="","",SUMIFS('주문 접수 대장'!$H$4:$H$503,'주문 접수 대장'!$F$4:$F$503,$A56,'주문 접수 대장'!$A$4:$A$503,">="&$B$3,'주문 접수 대장'!$A$4:$A$503,"<="&$D$3)) | F56: =IF($A56="","",SUMIFS('주문 접수 대장'!$K$4:$K$503,'주문 접수 대장'!$F$4:$F$503,$A56,'주문 접수 대장'!$A$4:$A$503,">="&$B$3,'주문 접수 대장'!$A$4:$A$503,"<="&$D$3)) | G56: =IF($A56="","",SUMIFS('주문 접수 대장'!$H$4:$H$503,'주문 접수 대장'!$F$4:$F$503,$A56,'주문 접수 대장'!$A$4:$A$503,">="&$B$3,'주문 접수 대장'!$A$4:$A$503,"<="&$D$3,'주문 접수 대장'!$O$4:$O$503,"<>납품완료",'주문 접수 대장'!$O$4:$O$503,"<>취소")) | H56: =IF($A56="","",COUNTIFS('주문 접수 대장'!$F$4:$F$503,$A56,'주문 접수 대장'!$A$4:$A$503,">="&$B$3,'주문 접수 대장'!$A$4:$A$503,"<="&$D$3,'주문 접수 대장'!$P$4:$P$503,"지연")) | I56: =IF($A56="","",COUNTIFS('주문 접수 대장'!$F$4:$F$503,$A56,'주문 접수 대장'!$A$4:$A$503,">="&$B$3,'주문 접수 대장'!$A$4:$A$503,"<="&$D$3,'주문 접수 대장'!$O$4:$O$503,"취소")) | J56: =IF($A56="","",IF(COUNTIFS('주문 접수 대장'!$F$4:$F$503,$A56,'주문 접수 대장'!$I$4:$I$503,"<>"&C56)>0,"단위 섞임",""))
A57: =IFERROR(INDEX('주문 접수 대장'!$F$4:$F$503,MATCH(52,'주문 접수 대장'!$S$4:$S$503,0)),"") | B57: =IF($A57="","",INDEX('주문 접수 대장'!$G$4:$G$503,MATCH($A57,'주문 접수 대장'!$F$4:$F$503,0))&"") | C57: =IF($A57="","",INDEX('주문 접수 대장'!$I$4:$I$503,MATCH($A57,'주문 접수 대장'!$F$4:$F$503,0))&"") | D57: =IF($A57="","",COUNTIFS('주문 접수 대장'!$F$4:$F$503,$A57,'주문 접수 대장'!$A$4:$A$503,">="&$B$3,'주문 접수 대장'!$A$4:$A$503,"<="&$D$3)) | E57: =IF($A57="","",SUMIFS('주문 접수 대장'!$H$4:$H$503,'주문 접수 대장'!$F$4:$F$503,$A57,'주문 접수 대장'!$A$4:$A$503,">="&$B$3,'주문 접수 대장'!$A$4:$A$503,"<="&$D$3)) | F57: =IF($A57="","",SUMIFS('주문 접수 대장'!$K$4:$K$503,'주문 접수 대장'!$F$4:$F$503,$A57,'주문 접수 대장'!$A$4:$A$503,">="&$B$3,'주문 접수 대장'!$A$4:$A$503,"<="&$D$3)) | G57: =IF($A57="","",SUMIFS('주문 접수 대장'!$H$4:$H$503,'주문 접수 대장'!$F$4:$F$503,$A57,'주문 접수 대장'!$A$4:$A$503,">="&$B$3,'주문 접수 대장'!$A$4:$A$503,"<="&$D$3,'주문 접수 대장'!$O$4:$O$503,"<>납품완료",'주문 접수 대장'!$O$4:$O$503,"<>취소")) | H57: =IF($A57="","",COUNTIFS('주문 접수 대장'!$F$4:$F$503,$A57,'주문 접수 대장'!$A$4:$A$503,">="&$B$3,'주문 접수 대장'!$A$4:$A$503,"<="&$D$3,'주문 접수 대장'!$P$4:$P$503,"지연")) | I57: =IF($A57="","",COUNTIFS('주문 접수 대장'!$F$4:$F$503,$A57,'주문 접수 대장'!$A$4:$A$503,">="&$B$3,'주문 접수 대장'!$A$4:$A$503,"<="&$D$3,'주문 접수 대장'!$O$4:$O$503,"취소")) | J57: =IF($A57="","",IF(COUNTIFS('주문 접수 대장'!$F$4:$F$503,$A57,'주문 접수 대장'!$I$4:$I$503,"<>"&C57)>0,"단위 섞임",""))
A58: =IFERROR(INDEX('주문 접수 대장'!$F$4:$F$503,MATCH(53,'주문 접수 대장'!$S$4:$S$503,0)),"") | B58: =IF($A58="","",INDEX('주문 접수 대장'!$G$4:$G$503,MATCH($A58,'주문 접수 대장'!$F$4:$F$503,0))&"") | C58: =IF($A58="","",INDEX('주문 접수 대장'!$I$4:$I$503,MATCH($A58,'주문 접수 대장'!$F$4:$F$503,0))&"") | D58: =IF($A58="","",COUNTIFS('주문 접수 대장'!$F$4:$F$503,$A58,'주문 접수 대장'!$A$4:$A$503,">="&$B$3,'주문 접수 대장'!$A$4:$A$503,"<="&$D$3)) | E58: =IF($A58="","",SUMIFS('주문 접수 대장'!$H$4:$H$503,'주문 접수 대장'!$F$4:$F$503,$A58,'주문 접수 대장'!$A$4:$A$503,">="&$B$3,'주문 접수 대장'!$A$4:$A$503,"<="&$D$3)) | F58: =IF($A58="","",SUMIFS('주문 접수 대장'!$K$4:$K$503,'주문 접수 대장'!$F$4:$F$503,$A58,'주문 접수 대장'!$A$4:$A$503,">="&$B$3,'주문 접수 대장'!$A$4:$A$503,"<="&$D$3)) | G58: =IF($A58="","",SUMIFS('주문 접수 대장'!$H$4:$H$503,'주문 접수 대장'!$F$4:$F$503,$A58,'주문 접수 대장'!$A$4:$A$503,">="&$B$3,'주문 접수 대장'!$A$4:$A$503,"<="&$D$3,'주문 접수 대장'!$O$4:$O$503,"<>납품완료",'주문 접수 대장'!$O$4:$O$503,"<>취소")) | H58: =IF($A58="","",COUNTIFS('주문 접수 대장'!$F$4:$F$503,$A58,'주문 접수 대장'!$A$4:$A$503,">="&$B$3,'주문 접수 대장'!$A$4:$A$503,"<="&$D$3,'주문 접수 대장'!$P$4:$P$503,"지연")) | I58: =IF($A58="","",COUNTIFS('주문 접수 대장'!$F$4:$F$503,$A58,'주문 접수 대장'!$A$4:$A$503,">="&$B$3,'주문 접수 대장'!$A$4:$A$503,"<="&$D$3,'주문 접수 대장'!$O$4:$O$503,"취소")) | J58: =IF($A58="","",IF(COUNTIFS('주문 접수 대장'!$F$4:$F$503,$A58,'주문 접수 대장'!$I$4:$I$503,"<>"&C58)>0,"단위 섞임",""))
A59: =IFERROR(INDEX('주문 접수 대장'!$F$4:$F$503,MATCH(54,'주문 접수 대장'!$S$4:$S$503,0)),"") | B59: =IF($A59="","",INDEX('주문 접수 대장'!$G$4:$G$503,MATCH($A59,'주문 접수 대장'!$F$4:$F$503,0))&"") | C59: =IF($A59="","",INDEX('주문 접수 대장'!$I$4:$I$503,MATCH($A59,'주문 접수 대장'!$F$4:$F$503,0))&"") | D59: =IF($A59="","",COUNTIFS('주문 접수 대장'!$F$4:$F$503,$A59,'주문 접수 대장'!$A$4:$A$503,">="&$B$3,'주문 접수 대장'!$A$4:$A$503,"<="&$D$3)) | E59: =IF($A59="","",SUMIFS('주문 접수 대장'!$H$4:$H$503,'주문 접수 대장'!$F$4:$F$503,$A59,'주문 접수 대장'!$A$4:$A$503,">="&$B$3,'주문 접수 대장'!$A$4:$A$503,"<="&$D$3)) | F59: =IF($A59="","",SUMIFS('주문 접수 대장'!$K$4:$K$503,'주문 접수 대장'!$F$4:$F$503,$A59,'주문 접수 대장'!$A$4:$A$503,">="&$B$3,'주문 접수 대장'!$A$4:$A$503,"<="&$D$3)) | G59: =IF($A59="","",SUMIFS('주문 접수 대장'!$H$4:$H$503,'주문 접수 대장'!$F$4:$F$503,$A59,'주문 접수 대장'!$A$4:$A$503,">="&$B$3,'주문 접수 대장'!$A$4:$A$503,"<="&$D$3,'주문 접수 대장'!$O$4:$O$503,"<>납품완료",'주문 접수 대장'!$O$4:$O$503,"<>취소")) | H59: =IF($A59="","",COUNTIFS('주문 접수 대장'!$F$4:$F$503,$A59,'주문 접수 대장'!$A$4:$A$503,">="&$B$3,'주문 접수 대장'!$A$4:$A$503,"<="&$D$3,'주문 접수 대장'!$P$4:$P$503,"지연")) | I59: =IF($A59="","",COUNTIFS('주문 접수 대장'!$F$4:$F$503,$A59,'주문 접수 대장'!$A$4:$A$503,">="&$B$3,'주문 접수 대장'!$A$4:$A$503,"<="&$D$3,'주문 접수 대장'!$O$4:$O$503,"취소")) | J59: =IF($A59="","",IF(COUNTIFS('주문 접수 대장'!$F$4:$F$503,$A59,'주문 접수 대장'!$I$4:$I$503,"<>"&C59)>0,"단위 섞임",""))
A60: =IFERROR(INDEX('주문 접수 대장'!$F$4:$F$503,MATCH(55,'주문 접수 대장'!$S$4:$S$503,0)),"") | B60: =IF($A60="","",INDEX('주문 접수 대장'!$G$4:$G$503,MATCH($A60,'주문 접수 대장'!$F$4:$F$503,0))&"") | C60: =IF($A60="","",INDEX('주문 접수 대장'!$I$4:$I$503,MATCH($A60,'주문 접수 대장'!$F$4:$F$503,0))&"") | D60: =IF($A60="","",COUNTIFS('주문 접수 대장'!$F$4:$F$503,$A60,'주문 접수 대장'!$A$4:$A$503,">="&$B$3,'주문 접수 대장'!$A$4:$A$503,"<="&$D$3)) | E60: =IF($A60="","",SUMIFS('주문 접수 대장'!$H$4:$H$503,'주문 접수 대장'!$F$4:$F$503,$A60,'주문 접수 대장'!$A$4:$A$503,">="&$B$3,'주문 접수 대장'!$A$4:$A$503,"<="&$D$3)) | F60: =IF($A60="","",SUMIFS('주문 접수 대장'!$K$4:$K$503,'주문 접수 대장'!$F$4:$F$503,$A60,'주문 접수 대장'!$A$4:$A$503,">="&$B$3,'주문 접수 대장'!$A$4:$A$503,"<="&$D$3)) | G60: =IF($A60="","",SUMIFS('주문 접수 대장'!$H$4:$H$503,'주문 접수 대장'!$F$4:$F$503,$A60,'주문 접수 대장'!$A$4:$A$503,">="&$B$3,'주문 접수 대장'!$A$4:$A$503,"<="&$D$3,'주문 접수 대장'!$O$4:$O$503,"<>납품완료",'주문 접수 대장'!$O$4:$O$503,"<>취소")) | H60: =IF($A60="","",COUNTIFS('주문 접수 대장'!$F$4:$F$503,$A60,'주문 접수 대장'!$A$4:$A$503,">="&$B$3,'주문 접수 대장'!$A$4:$A$503,"<="&$D$3,'주문 접수 대장'!$P$4:$P$503,"지연")) | I60: =IF($A60="","",COUNTIFS('주문 접수 대장'!$F$4:$F$503,$A60,'주문 접수 대장'!$A$4:$A$503,">="&$B$3,'주문 접수 대장'!$A$4:$A$503,"<="&$D$3,'주문 접수 대장'!$O$4:$O$503,"취소")) | J60: =IF($A60="","",IF(COUNTIFS('주문 접수 대장'!$F$4:$F$503,$A60,'주문 접수 대장'!$I$4:$I$503,"<>"&C60)>0,"단위 섞임",""))
A61: =IFERROR(INDEX('주문 접수 대장'!$F$4:$F$503,MATCH(56,'주문 접수 대장'!$S$4:$S$503,0)),"") | B61: =IF($A61="","",INDEX('주문 접수 대장'!$G$4:$G$503,MATCH($A61,'주문 접수 대장'!$F$4:$F$503,0))&"") | C61: =IF($A61="","",INDEX('주문 접수 대장'!$I$4:$I$503,MATCH($A61,'주문 접수 대장'!$F$4:$F$503,0))&"") | D61: =IF($A61="","",COUNTIFS('주문 접수 대장'!$F$4:$F$503,$A61,'주문 접수 대장'!$A$4:$A$503,">="&$B$3,'주문 접수 대장'!$A$4:$A$503,"<="&$D$3)) | E61: =IF($A61="","",SUMIFS('주문 접수 대장'!$H$4:$H$503,'주문 접수 대장'!$F$4:$F$503,$A61,'주문 접수 대장'!$A$4:$A$503,">="&$B$3,'주문 접수 대장'!$A$4:$A$503,"<="&$D$3)) | F61: =IF($A61="","",SUMIFS('주문 접수 대장'!$K$4:$K$503,'주문 접수 대장'!$F$4:$F$503,$A61,'주문 접수 대장'!$A$4:$A$503,">="&$B$3,'주문 접수 대장'!$A$4:$A$503,"<="&$D$3)) | G61: =IF($A61="","",SUMIFS('주문 접수 대장'!$H$4:$H$503,'주문 접수 대장'!$F$4:$F$503,$A61,'주문 접수 대장'!$A$4:$A$503,">="&$B$3,'주문 접수 대장'!$A$4:$A$503,"<="&$D$3,'주문 접수 대장'!$O$4:$O$503,"<>납품완료",'주문 접수 대장'!$O$4:$O$503,"<>취소")) | H61: =IF($A61="","",COUNTIFS('주문 접수 대장'!$F$4:$F$503,$A61,'주문 접수 대장'!$A$4:$A$503,">="&$B$3,'주문 접수 대장'!$A$4:$A$503,"<="&$D$3,'주문 접수 대장'!$P$4:$P$503,"지연")) | I61: =IF($A61="","",COUNTIFS('주문 접수 대장'!$F$4:$F$503,$A61,'주문 접수 대장'!$A$4:$A$503,">="&$B$3,'주문 접수 대장'!$A$4:$A$503,"<="&$D$3,'주문 접수 대장'!$O$4:$O$503,"취소")) | J61: =IF($A61="","",IF(COUNTIFS('주문 접수 대장'!$F$4:$F$503,$A61,'주문 접수 대장'!$I$4:$I$503,"<>"&C61)>0,"단위 섞임",""))
A62: =IFERROR(INDEX('주문 접수 대장'!$F$4:$F$503,MATCH(57,'주문 접수 대장'!$S$4:$S$503,0)),"") | B62: =IF($A62="","",INDEX('주문 접수 대장'!$G$4:$G$503,MATCH($A62,'주문 접수 대장'!$F$4:$F$503,0))&"") | C62: =IF($A62="","",INDEX('주문 접수 대장'!$I$4:$I$503,MATCH($A62,'주문 접수 대장'!$F$4:$F$503,0))&"") | D62: =IF($A62="","",COUNTIFS('주문 접수 대장'!$F$4:$F$503,$A62,'주문 접수 대장'!$A$4:$A$503,">="&$B$3,'주문 접수 대장'!$A$4:$A$503,"<="&$D$3)) | E62: =IF($A62="","",SUMIFS('주문 접수 대장'!$H$4:$H$503,'주문 접수 대장'!$F$4:$F$503,$A62,'주문 접수 대장'!$A$4:$A$503,">="&$B$3,'주문 접수 대장'!$A$4:$A$503,"<="&$D$3)) | F62: =IF($A62="","",SUMIFS('주문 접수 대장'!$K$4:$K$503,'주문 접수 대장'!$F$4:$F$503,$A62,'주문 접수 대장'!$A$4:$A$503,">="&$B$3,'주문 접수 대장'!$A$4:$A$503,"<="&$D$3)) | G62: =IF($A62="","",SUMIFS('주문 접수 대장'!$H$4:$H$503,'주문 접수 대장'!$F$4:$F$503,$A62,'주문 접수 대장'!$A$4:$A$503,">="&$B$3,'주문 접수 대장'!$A$4:$A$503,"<="&$D$3,'주문 접수 대장'!$O$4:$O$503,"<>납품완료",'주문 접수 대장'!$O$4:$O$503,"<>취소")) | H62: =IF($A62="","",COUNTIFS('주문 접수 대장'!$F$4:$F$503,$A62,'주문 접수 대장'!$A$4:$A$503,">="&$B$3,'주문 접수 대장'!$A$4:$A$503,"<="&$D$3,'주문 접수 대장'!$P$4:$P$503,"지연")) | I62: =IF($A62="","",COUNTIFS('주문 접수 대장'!$F$4:$F$503,$A62,'주문 접수 대장'!$A$4:$A$503,">="&$B$3,'주문 접수 대장'!$A$4:$A$503,"<="&$D$3,'주문 접수 대장'!$O$4:$O$503,"취소")) | J62: =IF($A62="","",IF(COUNTIFS('주문 접수 대장'!$F$4:$F$503,$A62,'주문 접수 대장'!$I$4:$I$503,"<>"&C62)>0,"단위 섞임",""))
A63: =IFERROR(INDEX('주문 접수 대장'!$F$4:$F$503,MATCH(58,'주문 접수 대장'!$S$4:$S$503,0)),"") | B63: =IF($A63="","",INDEX('주문 접수 대장'!$G$4:$G$503,MATCH($A63,'주문 접수 대장'!$F$4:$F$503,0))&"") | C63: =IF($A63="","",INDEX('주문 접수 대장'!$I$4:$I$503,MATCH($A63,'주문 접수 대장'!$F$4:$F$503,0))&"") | D63: =IF($A63="","",COUNTIFS('주문 접수 대장'!$F$4:$F$503,$A63,'주문 접수 대장'!$A$4:$A$503,">="&$B$3,'주문 접수 대장'!$A$4:$A$503,"<="&$D$3)) | E63: =IF($A63="","",SUMIFS('주문 접수 대장'!$H$4:$H$503,'주문 접수 대장'!$F$4:$F$503,$A63,'주문 접수 대장'!$A$4:$A$503,">="&$B$3,'주문 접수 대장'!$A$4:$A$503,"<="&$D$3)) | F63: =IF($A63="","",SUMIFS('주문 접수 대장'!$K$4:$K$503,'주문 접수 대장'!$F$4:$F$503,$A63,'주문 접수 대장'!$A$4:$A$503,">="&$B$3,'주문 접수 대장'!$A$4:$A$503,"<="&$D$3)) | G63: =IF($A63="","",SUMIFS('주문 접수 대장'!$H$4:$H$503,'주문 접수 대장'!$F$4:$F$503,$A63,'주문 접수 대장'!$A$4:$A$503,">="&$B$3,'주문 접수 대장'!$A$4:$A$503,"<="&$D$3,'주문 접수 대장'!$O$4:$O$503,"<>납품완료",'주문 접수 대장'!$O$4:$O$503,"<>취소")) | H63: =IF($A63="","",COUNTIFS('주문 접수 대장'!$F$4:$F$503,$A63,'주문 접수 대장'!$A$4:$A$503,">="&$B$3,'주문 접수 대장'!$A$4:$A$503,"<="&$D$3,'주문 접수 대장'!$P$4:$P$503,"지연")) | I63: =IF($A63="","",COUNTIFS('주문 접수 대장'!$F$4:$F$503,$A63,'주문 접수 대장'!$A$4:$A$503,">="&$B$3,'주문 접수 대장'!$A$4:$A$503,"<="&$D$3,'주문 접수 대장'!$O$4:$O$503,"취소")) | J63: =IF($A63="","",IF(COUNTIFS('주문 접수 대장'!$F$4:$F$503,$A63,'주문 접수 대장'!$I$4:$I$503,"<>"&C63)>0,"단위 섞임",""))
A64: =IFERROR(INDEX('주문 접수 대장'!$F$4:$F$503,MATCH(59,'주문 접수 대장'!$S$4:$S$503,0)),"") | B64: =IF($A64="","",INDEX('주문 접수 대장'!$G$4:$G$503,MATCH($A64,'주문 접수 대장'!$F$4:$F$503,0))&"") | C64: =IF($A64="","",INDEX('주문 접수 대장'!$I$4:$I$503,MATCH($A64,'주문 접수 대장'!$F$4:$F$503,0))&"") | D64: =IF($A64="","",COUNTIFS('주문 접수 대장'!$F$4:$F$503,$A64,'주문 접수 대장'!$A$4:$A$503,">="&$B$3,'주문 접수 대장'!$A$4:$A$503,"<="&$D$3)) | E64: =IF($A64="","",SUMIFS('주문 접수 대장'!$H$4:$H$503,'주문 접수 대장'!$F$4:$F$503,$A64,'주문 접수 대장'!$A$4:$A$503,">="&$B$3,'주문 접수 대장'!$A$4:$A$503,"<="&$D$3)) | F64: =IF($A64="","",SUMIFS('주문 접수 대장'!$K$4:$K$503,'주문 접수 대장'!$F$4:$F$503,$A64,'주문 접수 대장'!$A$4:$A$503,">="&$B$3,'주문 접수 대장'!$A$4:$A$503,"<="&$D$3)) | G64: =IF($A64="","",SUMIFS('주문 접수 대장'!$H$4:$H$503,'주문 접수 대장'!$F$4:$F$503,$A64,'주문 접수 대장'!$A$4:$A$503,">="&$B$3,'주문 접수 대장'!$A$4:$A$503,"<="&$D$3,'주문 접수 대장'!$O$4:$O$503,"<>납품완료",'주문 접수 대장'!$O$4:$O$503,"<>취소")) | H64: =IF($A64="","",COUNTIFS('주문 접수 대장'!$F$4:$F$503,$A64,'주문 접수 대장'!$A$4:$A$503,">="&$B$3,'주문 접수 대장'!$A$4:$A$503,"<="&$D$3,'주문 접수 대장'!$P$4:$P$503,"지연")) | I64: =IF($A64="","",COUNTIFS('주문 접수 대장'!$F$4:$F$503,$A64,'주문 접수 대장'!$A$4:$A$503,">="&$B$3,'주문 접수 대장'!$A$4:$A$503,"<="&$D$3,'주문 접수 대장'!$O$4:$O$503,"취소")) | J64: =IF($A64="","",IF(COUNTIFS('주문 접수 대장'!$F$4:$F$503,$A64,'주문 접수 대장'!$I$4:$I$503,"<>"&C64)>0,"단위 섞임",""))
A65: =IFERROR(INDEX('주문 접수 대장'!$F$4:$F$503,MATCH(60,'주문 접수 대장'!$S$4:$S$503,0)),"") | B65: =IF($A65="","",INDEX('주문 접수 대장'!$G$4:$G$503,MATCH($A65,'주문 접수 대장'!$F$4:$F$503,0))&"") | C65: =IF($A65="","",INDEX('주문 접수 대장'!$I$4:$I$503,MATCH($A65,'주문 접수 대장'!$F$4:$F$503,0))&"") | D65: =IF($A65="","",COUNTIFS('주문 접수 대장'!$F$4:$F$503,$A65,'주문 접수 대장'!$A$4:$A$503,">="&$B$3,'주문 접수 대장'!$A$4:$A$503,"<="&$D$3)) | E65: =IF($A65="","",SUMIFS('주문 접수 대장'!$H$4:$H$503,'주문 접수 대장'!$F$4:$F$503,$A65,'주문 접수 대장'!$A$4:$A$503,">="&$B$3,'주문 접수 대장'!$A$4:$A$503,"<="&$D$3)) | F65: =IF($A65="","",SUMIFS('주문 접수 대장'!$K$4:$K$503,'주문 접수 대장'!$F$4:$F$503,$A65,'주문 접수 대장'!$A$4:$A$503,">="&$B$3,'주문 접수 대장'!$A$4:$A$503,"<="&$D$3)) | G65: =IF($A65="","",SUMIFS('주문 접수 대장'!$H$4:$H$503,'주문 접수 대장'!$F$4:$F$503,$A65,'주문 접수 대장'!$A$4:$A$503,">="&$B$3,'주문 접수 대장'!$A$4:$A$503,"<="&$D$3,'주문 접수 대장'!$O$4:$O$503,"<>납품완료",'주문 접수 대장'!$O$4:$O$503,"<>취소")) | H65: =IF($A65="","",COUNTIFS('주문 접수 대장'!$F$4:$F$503,$A65,'주문 접수 대장'!$A$4:$A$503,">="&$B$3,'주문 접수 대장'!$A$4:$A$503,"<="&$D$3,'주문 접수 대장'!$P$4:$P$503,"지연")) | I65: =IF($A65="","",COUNTIFS('주문 접수 대장'!$F$4:$F$503,$A65,'주문 접수 대장'!$A$4:$A$503,">="&$B$3,'주문 접수 대장'!$A$4:$A$503,"<="&$D$3,'주문 접수 대장'!$O$4:$O$503,"취소")) | J65: =IF($A65="","",IF(COUNTIFS('주문 접수 대장'!$F$4:$F$503,$A65,'주문 접수 대장'!$I$4:$I$503,"<>"&C65)>0,"단위 섞임",""))
A66: =IFERROR(INDEX('주문 접수 대장'!$F$4:$F$503,MATCH(61,'주문 접수 대장'!$S$4:$S$503,0)),"") | B66: =IF($A66="","",INDEX('주문 접수 대장'!$G$4:$G$503,MATCH($A66,'주문 접수 대장'!$F$4:$F$503,0))&"") | C66: =IF($A66="","",INDEX('주문 접수 대장'!$I$4:$I$503,MATCH($A66,'주문 접수 대장'!$F$4:$F$503,0))&"") | D66: =IF($A66="","",COUNTIFS('주문 접수 대장'!$F$4:$F$503,$A66,'주문 접수 대장'!$A$4:$A$503,">="&$B$3,'주문 접수 대장'!$A$4:$A$503,"<="&$D$3)) | E66: =IF($A66="","",SUMIFS('주문 접수 대장'!$H$4:$H$503,'주문 접수 대장'!$F$4:$F$503,$A66,'주문 접수 대장'!$A$4:$A$503,">="&$B$3,'주문 접수 대장'!$A$4:$A$503,"<="&$D$3)) | F66: =IF($A66="","",SUMIFS('주문 접수 대장'!$K$4:$K$503,'주문 접수 대장'!$F$4:$F$503,$A66,'주문 접수 대장'!$A$4:$A$503,">="&$B$3,'주문 접수 대장'!$A$4:$A$503,"<="&$D$3)) | G66: =IF($A66="","",SUMIFS('주문 접수 대장'!$H$4:$H$503,'주문 접수 대장'!$F$4:$F$503,$A66,'주문 접수 대장'!$A$4:$A$503,">="&$B$3,'주문 접수 대장'!$A$4:$A$503,"<="&$D$3,'주문 접수 대장'!$O$4:$O$503,"<>납품완료",'주문 접수 대장'!$O$4:$O$503,"<>취소")) | H66: =IF($A66="","",COUNTIFS('주문 접수 대장'!$F$4:$F$503,$A66,'주문 접수 대장'!$A$4:$A$503,">="&$B$3,'주문 접수 대장'!$A$4:$A$503,"<="&$D$3,'주문 접수 대장'!$P$4:$P$503,"지연")) | I66: =IF($A66="","",COUNTIFS('주문 접수 대장'!$F$4:$F$503,$A66,'주문 접수 대장'!$A$4:$A$503,">="&$B$3,'주문 접수 대장'!$A$4:$A$503,"<="&$D$3,'주문 접수 대장'!$O$4:$O$503,"취소")) | J66: =IF($A66="","",IF(COUNTIFS('주문 접수 대장'!$F$4:$F$503,$A66,'주문 접수 대장'!$I$4:$I$503,"<>"&C66)>0,"단위 섞임",""))
A67: =IFERROR(INDEX('주문 접수 대장'!$F$4:$F$503,MATCH(62,'주문 접수 대장'!$S$4:$S$503,0)),"") | B67: =IF($A67="","",INDEX('주문 접수 대장'!$G$4:$G$503,MATCH($A67,'주문 접수 대장'!$F$4:$F$503,0))&"") | C67: =IF($A67="","",INDEX('주문 접수 대장'!$I$4:$I$503,MATCH($A67,'주문 접수 대장'!$F$4:$F$503,0))&"") | D67: =IF($A67="","",COUNTIFS('주문 접수 대장'!$F$4:$F$503,$A67,'주문 접수 대장'!$A$4:$A$503,">="&$B$3,'주문 접수 대장'!$A$4:$A$503,"<="&$D$3)) | E67: =IF($A67="","",SUMIFS('주문 접수 대장'!$H$4:$H$503,'주문 접수 대장'!$F$4:$F$503,$A67,'주문 접수 대장'!$A$4:$A$503,">="&$B$3,'주문 접수 대장'!$A$4:$A$503,"<="&$D$3)) | F67: =IF($A67="","",SUMIFS('주문 접수 대장'!$K$4:$K$503,'주문 접수 대장'!$F$4:$F$503,$A67,'주문 접수 대장'!$A$4:$A$503,">="&$B$3,'주문 접수 대장'!$A$4:$A$503,"<="&$D$3)) | G67: =IF($A67="","",SUMIFS('주문 접수 대장'!$H$4:$H$503,'주문 접수 대장'!$F$4:$F$503,$A67,'주문 접수 대장'!$A$4:$A$503,">="&$B$3,'주문 접수 대장'!$A$4:$A$503,"<="&$D$3,'주문 접수 대장'!$O$4:$O$503,"<>납품완료",'주문 접수 대장'!$O$4:$O$503,"<>취소")) | H67: =IF($A67="","",COUNTIFS('주문 접수 대장'!$F$4:$F$503,$A67,'주문 접수 대장'!$A$4:$A$503,">="&$B$3,'주문 접수 대장'!$A$4:$A$503,"<="&$D$3,'주문 접수 대장'!$P$4:$P$503,"지연")) | I67: =IF($A67="","",COUNTIFS('주문 접수 대장'!$F$4:$F$503,$A67,'주문 접수 대장'!$A$4:$A$503,">="&$B$3,'주문 접수 대장'!$A$4:$A$503,"<="&$D$3,'주문 접수 대장'!$O$4:$O$503,"취소")) | J67: =IF($A67="","",IF(COUNTIFS('주문 접수 대장'!$F$4:$F$503,$A67,'주문 접수 대장'!$I$4:$I$503,"<>"&C67)>0,"단위 섞임",""))
A68: =IFERROR(INDEX('주문 접수 대장'!$F$4:$F$503,MATCH(63,'주문 접수 대장'!$S$4:$S$503,0)),"") | B68: =IF($A68="","",INDEX('주문 접수 대장'!$G$4:$G$503,MATCH($A68,'주문 접수 대장'!$F$4:$F$503,0))&"") | C68: =IF($A68="","",INDEX('주문 접수 대장'!$I$4:$I$503,MATCH($A68,'주문 접수 대장'!$F$4:$F$503,0))&"") | D68: =IF($A68="","",COUNTIFS('주문 접수 대장'!$F$4:$F$503,$A68,'주문 접수 대장'!$A$4:$A$503,">="&$B$3,'주문 접수 대장'!$A$4:$A$503,"<="&$D$3)) | E68: =IF($A68="","",SUMIFS('주문 접수 대장'!$H$4:$H$503,'주문 접수 대장'!$F$4:$F$503,$A68,'주문 접수 대장'!$A$4:$A$503,">="&$B$3,'주문 접수 대장'!$A$4:$A$503,"<="&$D$3)) | F68: =IF($A68="","",SUMIFS('주문 접수 대장'!$K$4:$K$503,'주문 접수 대장'!$F$4:$F$503,$A68,'주문 접수 대장'!$A$4:$A$503,">="&$B$3,'주문 접수 대장'!$A$4:$A$503,"<="&$D$3)) | G68: =IF($A68="","",SUMIFS('주문 접수 대장'!$H$4:$H$503,'주문 접수 대장'!$F$4:$F$503,$A68,'주문 접수 대장'!$A$4:$A$503,">="&$B$3,'주문 접수 대장'!$A$4:$A$503,"<="&$D$3,'주문 접수 대장'!$O$4:$O$503,"<>납품완료",'주문 접수 대장'!$O$4:$O$503,"<>취소")) | H68: =IF($A68="","",COUNTIFS('주문 접수 대장'!$F$4:$F$503,$A68,'주문 접수 대장'!$A$4:$A$503,">="&$B$3,'주문 접수 대장'!$A$4:$A$503,"<="&$D$3,'주문 접수 대장'!$P$4:$P$503,"지연")) | I68: =IF($A68="","",COUNTIFS('주문 접수 대장'!$F$4:$F$503,$A68,'주문 접수 대장'!$A$4:$A$503,">="&$B$3,'주문 접수 대장'!$A$4:$A$503,"<="&$D$3,'주문 접수 대장'!$O$4:$O$503,"취소")) | J68: =IF($A68="","",IF(COUNTIFS('주문 접수 대장'!$F$4:$F$503,$A68,'주문 접수 대장'!$I$4:$I$503,"<>"&C68)>0,"단위 섞임",""))
A69: =IFERROR(INDEX('주문 접수 대장'!$F$4:$F$503,MATCH(64,'주문 접수 대장'!$S$4:$S$503,0)),"") | B69: =IF($A69="","",INDEX('주문 접수 대장'!$G$4:$G$503,MATCH($A69,'주문 접수 대장'!$F$4:$F$503,0))&"") | C69: =IF($A69="","",INDEX('주문 접수 대장'!$I$4:$I$503,MATCH($A69,'주문 접수 대장'!$F$4:$F$503,0))&"") | D69: =IF($A69="","",COUNTIFS('주문 접수 대장'!$F$4:$F$503,$A69,'주문 접수 대장'!$A$4:$A$503,">="&$B$3,'주문 접수 대장'!$A$4:$A$503,"<="&$D$3)) | E69: =IF($A69="","",SUMIFS('주문 접수 대장'!$H$4:$H$503,'주문 접수 대장'!$F$4:$F$503,$A69,'주문 접수 대장'!$A$4:$A$503,">="&$B$3,'주문 접수 대장'!$A$4:$A$503,"<="&$D$3)) | F69: =IF($A69="","",SUMIFS('주문 접수 대장'!$K$4:$K$503,'주문 접수 대장'!$F$4:$F$503,$A69,'주문 접수 대장'!$A$4:$A$503,">="&$B$3,'주문 접수 대장'!$A$4:$A$503,"<="&$D$3)) | G69: =IF($A69="","",SUMIFS('주문 접수 대장'!$H$4:$H$503,'주문 접수 대장'!$F$4:$F$503,$A69,'주문 접수 대장'!$A$4:$A$503,">="&$B$3,'주문 접수 대장'!$A$4:$A$503,"<="&$D$3,'주문 접수 대장'!$O$4:$O$503,"<>납품완료",'주문 접수 대장'!$O$4:$O$503,"<>취소")) | H69: =IF($A69="","",COUNTIFS('주문 접수 대장'!$F$4:$F$503,$A69,'주문 접수 대장'!$A$4:$A$503,">="&$B$3,'주문 접수 대장'!$A$4:$A$503,"<="&$D$3,'주문 접수 대장'!$P$4:$P$503,"지연")) | I69: =IF($A69="","",COUNTIFS('주문 접수 대장'!$F$4:$F$503,$A69,'주문 접수 대장'!$A$4:$A$503,">="&$B$3,'주문 접수 대장'!$A$4:$A$503,"<="&$D$3,'주문 접수 대장'!$O$4:$O$503,"취소")) | J69: =IF($A69="","",IF(COUNTIFS('주문 접수 대장'!$F$4:$F$503,$A69,'주문 접수 대장'!$I$4:$I$503,"<>"&C69)>0,"단위 섞임",""))
A70: =IFERROR(INDEX('주문 접수 대장'!$F$4:$F$503,MATCH(65,'주문 접수 대장'!$S$4:$S$503,0)),"") | B70: =IF($A70="","",INDEX('주문 접수 대장'!$G$4:$G$503,MATCH($A70,'주문 접수 대장'!$F$4:$F$503,0))&"") | C70: =IF($A70="","",INDEX('주문 접수 대장'!$I$4:$I$503,MATCH($A70,'주문 접수 대장'!$F$4:$F$503,0))&"") | D70: =IF($A70="","",COUNTIFS('주문 접수 대장'!$F$4:$F$503,$A70,'주문 접수 대장'!$A$4:$A$503,">="&$B$3,'주문 접수 대장'!$A$4:$A$503,"<="&$D$3)) | E70: =IF($A70="","",SUMIFS('주문 접수 대장'!$H$4:$H$503,'주문 접수 대장'!$F$4:$F$503,$A70,'주문 접수 대장'!$A$4:$A$503,">="&$B$3,'주문 접수 대장'!$A$4:$A$503,"<="&$D$3)) | F70: =IF($A70="","",SUMIFS('주문 접수 대장'!$K$4:$K$503,'주문 접수 대장'!$F$4:$F$503,$A70,'주문 접수 대장'!$A$4:$A$503,">="&$B$3,'주문 접수 대장'!$A$4:$A$503,"<="&$D$3)) | G70: =IF($A70="","",SUMIFS('주문 접수 대장'!$H$4:$H$503,'주문 접수 대장'!$F$4:$F$503,$A70,'주문 접수 대장'!$A$4:$A$503,">="&$B$3,'주문 접수 대장'!$A$4:$A$503,"<="&$D$3,'주문 접수 대장'!$O$4:$O$503,"<>납품완료",'주문 접수 대장'!$O$4:$O$503,"<>취소")) | H70: =IF($A70="","",COUNTIFS('주문 접수 대장'!$F$4:$F$503,$A70,'주문 접수 대장'!$A$4:$A$503,">="&$B$3,'주문 접수 대장'!$A$4:$A$503,"<="&$D$3,'주문 접수 대장'!$P$4:$P$503,"지연")) | I70: =IF($A70="","",COUNTIFS('주문 접수 대장'!$F$4:$F$503,$A70,'주문 접수 대장'!$A$4:$A$503,">="&$B$3,'주문 접수 대장'!$A$4:$A$503,"<="&$D$3,'주문 접수 대장'!$O$4:$O$503,"취소")) | J70: =IF($A70="","",IF(COUNTIFS('주문 접수 대장'!$F$4:$F$503,$A70,'주문 접수 대장'!$I$4:$I$503,"<>"&C70)>0,"단위 섞임",""))
A71: =IFERROR(INDEX('주문 접수 대장'!$F$4:$F$503,MATCH(66,'주문 접수 대장'!$S$4:$S$503,0)),"") | B71: =IF($A71="","",INDEX('주문 접수 대장'!$G$4:$G$503,MATCH($A71,'주문 접수 대장'!$F$4:$F$503,0))&"") | C71: =IF($A71="","",INDEX('주문 접수 대장'!$I$4:$I$503,MATCH($A71,'주문 접수 대장'!$F$4:$F$503,0))&"") | D71: =IF($A71="","",COUNTIFS('주문 접수 대장'!$F$4:$F$503,$A71,'주문 접수 대장'!$A$4:$A$503,">="&$B$3,'주문 접수 대장'!$A$4:$A$503,"<="&$D$3)) | E71: =IF($A71="","",SUMIFS('주문 접수 대장'!$H$4:$H$503,'주문 접수 대장'!$F$4:$F$503,$A71,'주문 접수 대장'!$A$4:$A$503,">="&$B$3,'주문 접수 대장'!$A$4:$A$503,"<="&$D$3)) | F71: =IF($A71="","",SUMIFS('주문 접수 대장'!$K$4:$K$503,'주문 접수 대장'!$F$4:$F$503,$A71,'주문 접수 대장'!$A$4:$A$503,">="&$B$3,'주문 접수 대장'!$A$4:$A$503,"<="&$D$3)) | G71: =IF($A71="","",SUMIFS('주문 접수 대장'!$H$4:$H$503,'주문 접수 대장'!$F$4:$F$503,$A71,'주문 접수 대장'!$A$4:$A$503,">="&$B$3,'주문 접수 대장'!$A$4:$A$503,"<="&$D$3,'주문 접수 대장'!$O$4:$O$503,"<>납품완료",'주문 접수 대장'!$O$4:$O$503,"<>취소")) | H71: =IF($A71="","",COUNTIFS('주문 접수 대장'!$F$4:$F$503,$A71,'주문 접수 대장'!$A$4:$A$503,">="&$B$3,'주문 접수 대장'!$A$4:$A$503,"<="&$D$3,'주문 접수 대장'!$P$4:$P$503,"지연")) | I71: =IF($A71="","",COUNTIFS('주문 접수 대장'!$F$4:$F$503,$A71,'주문 접수 대장'!$A$4:$A$503,">="&$B$3,'주문 접수 대장'!$A$4:$A$503,"<="&$D$3,'주문 접수 대장'!$O$4:$O$503,"취소")) | J71: =IF($A71="","",IF(COUNTIFS('주문 접수 대장'!$F$4:$F$503,$A71,'주문 접수 대장'!$I$4:$I$503,"<>"&C71)>0,"단위 섞임",""))
A72: =IFERROR(INDEX('주문 접수 대장'!$F$4:$F$503,MATCH(67,'주문 접수 대장'!$S$4:$S$503,0)),"") | B72: =IF($A72="","",INDEX('주문 접수 대장'!$G$4:$G$503,MATCH($A72,'주문 접수 대장'!$F$4:$F$503,0))&"") | C72: =IF($A72="","",INDEX('주문 접수 대장'!$I$4:$I$503,MATCH($A72,'주문 접수 대장'!$F$4:$F$503,0))&"") | D72: =IF($A72="","",COUNTIFS('주문 접수 대장'!$F$4:$F$503,$A72,'주문 접수 대장'!$A$4:$A$503,">="&$B$3,'주문 접수 대장'!$A$4:$A$503,"<="&$D$3)) | E72: =IF($A72="","",SUMIFS('주문 접수 대장'!$H$4:$H$503,'주문 접수 대장'!$F$4:$F$503,$A72,'주문 접수 대장'!$A$4:$A$503,">="&$B$3,'주문 접수 대장'!$A$4:$A$503,"<="&$D$3)) | F72: =IF($A72="","",SUMIFS('주문 접수 대장'!$K$4:$K$503,'주문 접수 대장'!$F$4:$F$503,$A72,'주문 접수 대장'!$A$4:$A$503,">="&$B$3,'주문 접수 대장'!$A$4:$A$503,"<="&$D$3)) | G72: =IF($A72="","",SUMIFS('주문 접수 대장'!$H$4:$H$503,'주문 접수 대장'!$F$4:$F$503,$A72,'주문 접수 대장'!$A$4:$A$503,">="&$B$3,'주문 접수 대장'!$A$4:$A$503,"<="&$D$3,'주문 접수 대장'!$O$4:$O$503,"<>납품완료",'주문 접수 대장'!$O$4:$O$503,"<>취소")) | H72: =IF($A72="","",COUNTIFS('주문 접수 대장'!$F$4:$F$503,$A72,'주문 접수 대장'!$A$4:$A$503,">="&$B$3,'주문 접수 대장'!$A$4:$A$503,"<="&$D$3,'주문 접수 대장'!$P$4:$P$503,"지연")) | I72: =IF($A72="","",COUNTIFS('주문 접수 대장'!$F$4:$F$503,$A72,'주문 접수 대장'!$A$4:$A$503,">="&$B$3,'주문 접수 대장'!$A$4:$A$503,"<="&$D$3,'주문 접수 대장'!$O$4:$O$503,"취소")) | J72: =IF($A72="","",IF(COUNTIFS('주문 접수 대장'!$F$4:$F$503,$A72,'주문 접수 대장'!$I$4:$I$503,"<>"&C72)>0,"단위 섞임",""))
A73: =IFERROR(INDEX('주문 접수 대장'!$F$4:$F$503,MATCH(68,'주문 접수 대장'!$S$4:$S$503,0)),"") | B73: =IF($A73="","",INDEX('주문 접수 대장'!$G$4:$G$503,MATCH($A73,'주문 접수 대장'!$F$4:$F$503,0))&"") | C73: =IF($A73="","",INDEX('주문 접수 대장'!$I$4:$I$503,MATCH($A73,'주문 접수 대장'!$F$4:$F$503,0))&"") | D73: =IF($A73="","",COUNTIFS('주문 접수 대장'!$F$4:$F$503,$A73,'주문 접수 대장'!$A$4:$A$503,">="&$B$3,'주문 접수 대장'!$A$4:$A$503,"<="&$D$3)) | E73: =IF($A73="","",SUMIFS('주문 접수 대장'!$H$4:$H$503,'주문 접수 대장'!$F$4:$F$503,$A73,'주문 접수 대장'!$A$4:$A$503,">="&$B$3,'주문 접수 대장'!$A$4:$A$503,"<="&$D$3)) | F73: =IF($A73="","",SUMIFS('주문 접수 대장'!$K$4:$K$503,'주문 접수 대장'!$F$4:$F$503,$A73,'주문 접수 대장'!$A$4:$A$503,">="&$B$3,'주문 접수 대장'!$A$4:$A$503,"<="&$D$3)) | G73: =IF($A73="","",SUMIFS('주문 접수 대장'!$H$4:$H$503,'주문 접수 대장'!$F$4:$F$503,$A73,'주문 접수 대장'!$A$4:$A$503,">="&$B$3,'주문 접수 대장'!$A$4:$A$503,"<="&$D$3,'주문 접수 대장'!$O$4:$O$503,"<>납품완료",'주문 접수 대장'!$O$4:$O$503,"<>취소")) | H73: =IF($A73="","",COUNTIFS('주문 접수 대장'!$F$4:$F$503,$A73,'주문 접수 대장'!$A$4:$A$503,">="&$B$3,'주문 접수 대장'!$A$4:$A$503,"<="&$D$3,'주문 접수 대장'!$P$4:$P$503,"지연")) | I73: =IF($A73="","",COUNTIFS('주문 접수 대장'!$F$4:$F$503,$A73,'주문 접수 대장'!$A$4:$A$503,">="&$B$3,'주문 접수 대장'!$A$4:$A$503,"<="&$D$3,'주문 접수 대장'!$O$4:$O$503,"취소")) | J73: =IF($A73="","",IF(COUNTIFS('주문 접수 대장'!$F$4:$F$503,$A73,'주문 접수 대장'!$I$4:$I$503,"<>"&C73)>0,"단위 섞임",""))
A74: =IFERROR(INDEX('주문 접수 대장'!$F$4:$F$503,MATCH(69,'주문 접수 대장'!$S$4:$S$503,0)),"") | B74: =IF($A74="","",INDEX('주문 접수 대장'!$G$4:$G$503,MATCH($A74,'주문 접수 대장'!$F$4:$F$503,0))&"") | C74: =IF($A74="","",INDEX('주문 접수 대장'!$I$4:$I$503,MATCH($A74,'주문 접수 대장'!$F$4:$F$503,0))&"") | D74: =IF($A74="","",COUNTIFS('주문 접수 대장'!$F$4:$F$503,$A74,'주문 접수 대장'!$A$4:$A$503,">="&$B$3,'주문 접수 대장'!$A$4:$A$503,"<="&$D$3)) | E74: =IF($A74="","",SUMIFS('주문 접수 대장'!$H$4:$H$503,'주문 접수 대장'!$F$4:$F$503,$A74,'주문 접수 대장'!$A$4:$A$503,">="&$B$3,'주문 접수 대장'!$A$4:$A$503,"<="&$D$3)) | F74: =IF($A74="","",SUMIFS('주문 접수 대장'!$K$4:$K$503,'주문 접수 대장'!$F$4:$F$503,$A74,'주문 접수 대장'!$A$4:$A$503,">="&$B$3,'주문 접수 대장'!$A$4:$A$503,"<="&$D$3)) | G74: =IF($A74="","",SUMIFS('주문 접수 대장'!$H$4:$H$503,'주문 접수 대장'!$F$4:$F$503,$A74,'주문 접수 대장'!$A$4:$A$503,">="&$B$3,'주문 접수 대장'!$A$4:$A$503,"<="&$D$3,'주문 접수 대장'!$O$4:$O$503,"<>납품완료",'주문 접수 대장'!$O$4:$O$503,"<>취소")) | H74: =IF($A74="","",COUNTIFS('주문 접수 대장'!$F$4:$F$503,$A74,'주문 접수 대장'!$A$4:$A$503,">="&$B$3,'주문 접수 대장'!$A$4:$A$503,"<="&$D$3,'주문 접수 대장'!$P$4:$P$503,"지연")) | I74: =IF($A74="","",COUNTIFS('주문 접수 대장'!$F$4:$F$503,$A74,'주문 접수 대장'!$A$4:$A$503,">="&$B$3,'주문 접수 대장'!$A$4:$A$503,"<="&$D$3,'주문 접수 대장'!$O$4:$O$503,"취소")) | J74: =IF($A74="","",IF(COUNTIFS('주문 접수 대장'!$F$4:$F$503,$A74,'주문 접수 대장'!$I$4:$I$503,"<>"&C74)>0,"단위 섞임",""))
A75: =IFERROR(INDEX('주문 접수 대장'!$F$4:$F$503,MATCH(70,'주문 접수 대장'!$S$4:$S$503,0)),"") | B75: =IF($A75="","",INDEX('주문 접수 대장'!$G$4:$G$503,MATCH($A75,'주문 접수 대장'!$F$4:$F$503,0))&"") | C75: =IF($A75="","",INDEX('주문 접수 대장'!$I$4:$I$503,MATCH($A75,'주문 접수 대장'!$F$4:$F$503,0))&"") | D75: =IF($A75="","",COUNTIFS('주문 접수 대장'!$F$4:$F$503,$A75,'주문 접수 대장'!$A$4:$A$503,">="&$B$3,'주문 접수 대장'!$A$4:$A$503,"<="&$D$3)) | E75: =IF($A75="","",SUMIFS('주문 접수 대장'!$H$4:$H$503,'주문 접수 대장'!$F$4:$F$503,$A75,'주문 접수 대장'!$A$4:$A$503,">="&$B$3,'주문 접수 대장'!$A$4:$A$503,"<="&$D$3)) | F75: =IF($A75="","",SUMIFS('주문 접수 대장'!$K$4:$K$503,'주문 접수 대장'!$F$4:$F$503,$A75,'주문 접수 대장'!$A$4:$A$503,">="&$B$3,'주문 접수 대장'!$A$4:$A$503,"<="&$D$3)) | G75: =IF($A75="","",SUMIFS('주문 접수 대장'!$H$4:$H$503,'주문 접수 대장'!$F$4:$F$503,$A75,'주문 접수 대장'!$A$4:$A$503,">="&$B$3,'주문 접수 대장'!$A$4:$A$503,"<="&$D$3,'주문 접수 대장'!$O$4:$O$503,"<>납품완료",'주문 접수 대장'!$O$4:$O$503,"<>취소")) | H75: =IF($A75="","",COUNTIFS('주문 접수 대장'!$F$4:$F$503,$A75,'주문 접수 대장'!$A$4:$A$503,">="&$B$3,'주문 접수 대장'!$A$4:$A$503,"<="&$D$3,'주문 접수 대장'!$P$4:$P$503,"지연")) | I75: =IF($A75="","",COUNTIFS('주문 접수 대장'!$F$4:$F$503,$A75,'주문 접수 대장'!$A$4:$A$503,">="&$B$3,'주문 접수 대장'!$A$4:$A$503,"<="&$D$3,'주문 접수 대장'!$O$4:$O$503,"취소")) | J75: =IF($A75="","",IF(COUNTIFS('주문 접수 대장'!$F$4:$F$503,$A75,'주문 접수 대장'!$I$4:$I$503,"<>"&C75)>0,"단위 섞임",""))
A76: =IFERROR(INDEX('주문 접수 대장'!$F$4:$F$503,MATCH(71,'주문 접수 대장'!$S$4:$S$503,0)),"") | B76: =IF($A76="","",INDEX('주문 접수 대장'!$G$4:$G$503,MATCH($A76,'주문 접수 대장'!$F$4:$F$503,0))&"") | C76: =IF($A76="","",INDEX('주문 접수 대장'!$I$4:$I$503,MATCH($A76,'주문 접수 대장'!$F$4:$F$503,0))&"") | D76: =IF($A76="","",COUNTIFS('주문 접수 대장'!$F$4:$F$503,$A76,'주문 접수 대장'!$A$4:$A$503,">="&$B$3,'주문 접수 대장'!$A$4:$A$503,"<="&$D$3)) | E76: =IF($A76="","",SUMIFS('주문 접수 대장'!$H$4:$H$503,'주문 접수 대장'!$F$4:$F$503,$A76,'주문 접수 대장'!$A$4:$A$503,">="&$B$3,'주문 접수 대장'!$A$4:$A$503,"<="&$D$3)) | F76: =IF($A76="","",SUMIFS('주문 접수 대장'!$K$4:$K$503,'주문 접수 대장'!$F$4:$F$503,$A76,'주문 접수 대장'!$A$4:$A$503,">="&$B$3,'주문 접수 대장'!$A$4:$A$503,"<="&$D$3)) | G76: =IF($A76="","",SUMIFS('주문 접수 대장'!$H$4:$H$503,'주문 접수 대장'!$F$4:$F$503,$A76,'주문 접수 대장'!$A$4:$A$503,">="&$B$3,'주문 접수 대장'!$A$4:$A$503,"<="&$D$3,'주문 접수 대장'!$O$4:$O$503,"<>납품완료",'주문 접수 대장'!$O$4:$O$503,"<>취소")) | H76: =IF($A76="","",COUNTIFS('주문 접수 대장'!$F$4:$F$503,$A76,'주문 접수 대장'!$A$4:$A$503,">="&$B$3,'주문 접수 대장'!$A$4:$A$503,"<="&$D$3,'주문 접수 대장'!$P$4:$P$503,"지연")) | I76: =IF($A76="","",COUNTIFS('주문 접수 대장'!$F$4:$F$503,$A76,'주문 접수 대장'!$A$4:$A$503,">="&$B$3,'주문 접수 대장'!$A$4:$A$503,"<="&$D$3,'주문 접수 대장'!$O$4:$O$503,"취소")) | J76: =IF($A76="","",IF(COUNTIFS('주문 접수 대장'!$F$4:$F$503,$A76,'주문 접수 대장'!$I$4:$I$503,"<>"&C76)>0,"단위 섞임",""))
A77: =IFERROR(INDEX('주문 접수 대장'!$F$4:$F$503,MATCH(72,'주문 접수 대장'!$S$4:$S$503,0)),"") | B77: =IF($A77="","",INDEX('주문 접수 대장'!$G$4:$G$503,MATCH($A77,'주문 접수 대장'!$F$4:$F$503,0))&"") | C77: =IF($A77="","",INDEX('주문 접수 대장'!$I$4:$I$503,MATCH($A77,'주문 접수 대장'!$F$4:$F$503,0))&"") | D77: =IF($A77="","",COUNTIFS('주문 접수 대장'!$F$4:$F$503,$A77,'주문 접수 대장'!$A$4:$A$503,">="&$B$3,'주문 접수 대장'!$A$4:$A$503,"<="&$D$3)) | E77: =IF($A77="","",SUMIFS('주문 접수 대장'!$H$4:$H$503,'주문 접수 대장'!$F$4:$F$503,$A77,'주문 접수 대장'!$A$4:$A$503,">="&$B$3,'주문 접수 대장'!$A$4:$A$503,"<="&$D$3)) | F77: =IF($A77="","",SUMIFS('주문 접수 대장'!$K$4:$K$503,'주문 접수 대장'!$F$4:$F$503,$A77,'주문 접수 대장'!$A$4:$A$503,">="&$B$3,'주문 접수 대장'!$A$4:$A$503,"<="&$D$3)) | G77: =IF($A77="","",SUMIFS('주문 접수 대장'!$H$4:$H$503,'주문 접수 대장'!$F$4:$F$503,$A77,'주문 접수 대장'!$A$4:$A$503,">="&$B$3,'주문 접수 대장'!$A$4:$A$503,"<="&$D$3,'주문 접수 대장'!$O$4:$O$503,"<>납품완료",'주문 접수 대장'!$O$4:$O$503,"<>취소")) | H77: =IF($A77="","",COUNTIFS('주문 접수 대장'!$F$4:$F$503,$A77,'주문 접수 대장'!$A$4:$A$503,">="&$B$3,'주문 접수 대장'!$A$4:$A$503,"<="&$D$3,'주문 접수 대장'!$P$4:$P$503,"지연")) | I77: =IF($A77="","",COUNTIFS('주문 접수 대장'!$F$4:$F$503,$A77,'주문 접수 대장'!$A$4:$A$503,">="&$B$3,'주문 접수 대장'!$A$4:$A$503,"<="&$D$3,'주문 접수 대장'!$O$4:$O$503,"취소")) | J77: =IF($A77="","",IF(COUNTIFS('주문 접수 대장'!$F$4:$F$503,$A77,'주문 접수 대장'!$I$4:$I$503,"<>"&C77)>0,"단위 섞임",""))
A78: =IFERROR(INDEX('주문 접수 대장'!$F$4:$F$503,MATCH(73,'주문 접수 대장'!$S$4:$S$503,0)),"") | B78: =IF($A78="","",INDEX('주문 접수 대장'!$G$4:$G$503,MATCH($A78,'주문 접수 대장'!$F$4:$F$503,0))&"") | C78: =IF($A78="","",INDEX('주문 접수 대장'!$I$4:$I$503,MATCH($A78,'주문 접수 대장'!$F$4:$F$503,0))&"") | D78: =IF($A78="","",COUNTIFS('주문 접수 대장'!$F$4:$F$503,$A78,'주문 접수 대장'!$A$4:$A$503,">="&$B$3,'주문 접수 대장'!$A$4:$A$503,"<="&$D$3)) | E78: =IF($A78="","",SUMIFS('주문 접수 대장'!$H$4:$H$503,'주문 접수 대장'!$F$4:$F$503,$A78,'주문 접수 대장'!$A$4:$A$503,">="&$B$3,'주문 접수 대장'!$A$4:$A$503,"<="&$D$3)) | F78: =IF($A78="","",SUMIFS('주문 접수 대장'!$K$4:$K$503,'주문 접수 대장'!$F$4:$F$503,$A78,'주문 접수 대장'!$A$4:$A$503,">="&$B$3,'주문 접수 대장'!$A$4:$A$503,"<="&$D$3)) | G78: =IF($A78="","",SUMIFS('주문 접수 대장'!$H$4:$H$503,'주문 접수 대장'!$F$4:$F$503,$A78,'주문 접수 대장'!$A$4:$A$503,">="&$B$3,'주문 접수 대장'!$A$4:$A$503,"<="&$D$3,'주문 접수 대장'!$O$4:$O$503,"<>납품완료",'주문 접수 대장'!$O$4:$O$503,"<>취소")) | H78: =IF($A78="","",COUNTIFS('주문 접수 대장'!$F$4:$F$503,$A78,'주문 접수 대장'!$A$4:$A$503,">="&$B$3,'주문 접수 대장'!$A$4:$A$503,"<="&$D$3,'주문 접수 대장'!$P$4:$P$503,"지연")) | I78: =IF($A78="","",COUNTIFS('주문 접수 대장'!$F$4:$F$503,$A78,'주문 접수 대장'!$A$4:$A$503,">="&$B$3,'주문 접수 대장'!$A$4:$A$503,"<="&$D$3,'주문 접수 대장'!$O$4:$O$503,"취소")) | J78: =IF($A78="","",IF(COUNTIFS('주문 접수 대장'!$F$4:$F$503,$A78,'주문 접수 대장'!$I$4:$I$503,"<>"&C78)>0,"단위 섞임",""))
A79: =IFERROR(INDEX('주문 접수 대장'!$F$4:$F$503,MATCH(74,'주문 접수 대장'!$S$4:$S$503,0)),"") | B79: =IF($A79="","",INDEX('주문 접수 대장'!$G$4:$G$503,MATCH($A79,'주문 접수 대장'!$F$4:$F$503,0))&"") | C79: =IF($A79="","",INDEX('주문 접수 대장'!$I$4:$I$503,MATCH($A79,'주문 접수 대장'!$F$4:$F$503,0))&"") | D79: =IF($A79="","",COUNTIFS('주문 접수 대장'!$F$4:$F$503,$A79,'주문 접수 대장'!$A$4:$A$503,">="&$B$3,'주문 접수 대장'!$A$4:$A$503,"<="&$D$3)) | E79: =IF($A79="","",SUMIFS('주문 접수 대장'!$H$4:$H$503,'주문 접수 대장'!$F$4:$F$503,$A79,'주문 접수 대장'!$A$4:$A$503,">="&$B$3,'주문 접수 대장'!$A$4:$A$503,"<="&$D$3)) | F79: =IF($A79="","",SUMIFS('주문 접수 대장'!$K$4:$K$503,'주문 접수 대장'!$F$4:$F$503,$A79,'주문 접수 대장'!$A$4:$A$503,">="&$B$3,'주문 접수 대장'!$A$4:$A$503,"<="&$D$3)) | G79: =IF($A79="","",SUMIFS('주문 접수 대장'!$H$4:$H$503,'주문 접수 대장'!$F$4:$F$503,$A79,'주문 접수 대장'!$A$4:$A$503,">="&$B$3,'주문 접수 대장'!$A$4:$A$503,"<="&$D$3,'주문 접수 대장'!$O$4:$O$503,"<>납품완료",'주문 접수 대장'!$O$4:$O$503,"<>취소")) | H79: =IF($A79="","",COUNTIFS('주문 접수 대장'!$F$4:$F$503,$A79,'주문 접수 대장'!$A$4:$A$503,">="&$B$3,'주문 접수 대장'!$A$4:$A$503,"<="&$D$3,'주문 접수 대장'!$P$4:$P$503,"지연")) | I79: =IF($A79="","",COUNTIFS('주문 접수 대장'!$F$4:$F$503,$A79,'주문 접수 대장'!$A$4:$A$503,">="&$B$3,'주문 접수 대장'!$A$4:$A$503,"<="&$D$3,'주문 접수 대장'!$O$4:$O$503,"취소")) | J79: =IF($A79="","",IF(COUNTIFS('주문 접수 대장'!$F$4:$F$503,$A79,'주문 접수 대장'!$I$4:$I$503,"<>"&C79)>0,"단위 섞임",""))
A80: =IFERROR(INDEX('주문 접수 대장'!$F$4:$F$503,MATCH(75,'주문 접수 대장'!$S$4:$S$503,0)),"") | B80: =IF($A80="","",INDEX('주문 접수 대장'!$G$4:$G$503,MATCH($A80,'주문 접수 대장'!$F$4:$F$503,0))&"") | C80: =IF($A80="","",INDEX('주문 접수 대장'!$I$4:$I$503,MATCH($A80,'주문 접수 대장'!$F$4:$F$503,0))&"") | D80: =IF($A80="","",COUNTIFS('주문 접수 대장'!$F$4:$F$503,$A80,'주문 접수 대장'!$A$4:$A$503,">="&$B$3,'주문 접수 대장'!$A$4:$A$503,"<="&$D$3)) | E80: =IF($A80="","",SUMIFS('주문 접수 대장'!$H$4:$H$503,'주문 접수 대장'!$F$4:$F$503,$A80,'주문 접수 대장'!$A$4:$A$503,">="&$B$3,'주문 접수 대장'!$A$4:$A$503,"<="&$D$3)) | F80: =IF($A80="","",SUMIFS('주문 접수 대장'!$K$4:$K$503,'주문 접수 대장'!$F$4:$F$503,$A80,'주문 접수 대장'!$A$4:$A$503,">="&$B$3,'주문 접수 대장'!$A$4:$A$503,"<="&$D$3)) | G80: =IF($A80="","",SUMIFS('주문 접수 대장'!$H$4:$H$503,'주문 접수 대장'!$F$4:$F$503,$A80,'주문 접수 대장'!$A$4:$A$503,">="&$B$3,'주문 접수 대장'!$A$4:$A$503,"<="&$D$3,'주문 접수 대장'!$O$4:$O$503,"<>납품완료",'주문 접수 대장'!$O$4:$O$503,"<>취소")) | H80: =IF($A80="","",COUNTIFS('주문 접수 대장'!$F$4:$F$503,$A80,'주문 접수 대장'!$A$4:$A$503,">="&$B$3,'주문 접수 대장'!$A$4:$A$503,"<="&$D$3,'주문 접수 대장'!$P$4:$P$503,"지연")) | I80: =IF($A80="","",COUNTIFS('주문 접수 대장'!$F$4:$F$503,$A80,'주문 접수 대장'!$A$4:$A$503,">="&$B$3,'주문 접수 대장'!$A$4:$A$503,"<="&$D$3,'주문 접수 대장'!$O$4:$O$503,"취소")) | J80: =IF($A80="","",IF(COUNTIFS('주문 접수 대장'!$F$4:$F$503,$A80,'주문 접수 대장'!$I$4:$I$503,"<>"&C80)>0,"단위 섞임",""))
A81: =IFERROR(INDEX('주문 접수 대장'!$F$4:$F$503,MATCH(76,'주문 접수 대장'!$S$4:$S$503,0)),"") | B81: =IF($A81="","",INDEX('주문 접수 대장'!$G$4:$G$503,MATCH($A81,'주문 접수 대장'!$F$4:$F$503,0))&"") | C81: =IF($A81="","",INDEX('주문 접수 대장'!$I$4:$I$503,MATCH($A81,'주문 접수 대장'!$F$4:$F$503,0))&"") | D81: =IF($A81="","",COUNTIFS('주문 접수 대장'!$F$4:$F$503,$A81,'주문 접수 대장'!$A$4:$A$503,">="&$B$3,'주문 접수 대장'!$A$4:$A$503,"<="&$D$3)) | E81: =IF($A81="","",SUMIFS('주문 접수 대장'!$H$4:$H$503,'주문 접수 대장'!$F$4:$F$503,$A81,'주문 접수 대장'!$A$4:$A$503,">="&$B$3,'주문 접수 대장'!$A$4:$A$503,"<="&$D$3)) | F81: =IF($A81="","",SUMIFS('주문 접수 대장'!$K$4:$K$503,'주문 접수 대장'!$F$4:$F$503,$A81,'주문 접수 대장'!$A$4:$A$503,">="&$B$3,'주문 접수 대장'!$A$4:$A$503,"<="&$D$3)) | G81: =IF($A81="","",SUMIFS('주문 접수 대장'!$H$4:$H$503,'주문 접수 대장'!$F$4:$F$503,$A81,'주문 접수 대장'!$A$4:$A$503,">="&$B$3,'주문 접수 대장'!$A$4:$A$503,"<="&$D$3,'주문 접수 대장'!$O$4:$O$503,"<>납품완료",'주문 접수 대장'!$O$4:$O$503,"<>취소")) | H81: =IF($A81="","",COUNTIFS('주문 접수 대장'!$F$4:$F$503,$A81,'주문 접수 대장'!$A$4:$A$503,">="&$B$3,'주문 접수 대장'!$A$4:$A$503,"<="&$D$3,'주문 접수 대장'!$P$4:$P$503,"지연")) | I81: =IF($A81="","",COUNTIFS('주문 접수 대장'!$F$4:$F$503,$A81,'주문 접수 대장'!$A$4:$A$503,">="&$B$3,'주문 접수 대장'!$A$4:$A$503,"<="&$D$3,'주문 접수 대장'!$O$4:$O$503,"취소")) | J81: =IF($A81="","",IF(COUNTIFS('주문 접수 대장'!$F$4:$F$503,$A81,'주문 접수 대장'!$I$4:$I$503,"<>"&C81)>0,"단위 섞임",""))
A82: =IFERROR(INDEX('주문 접수 대장'!$F$4:$F$503,MATCH(77,'주문 접수 대장'!$S$4:$S$503,0)),"") | B82: =IF($A82="","",INDEX('주문 접수 대장'!$G$4:$G$503,MATCH($A82,'주문 접수 대장'!$F$4:$F$503,0))&"") | C82: =IF($A82="","",INDEX('주문 접수 대장'!$I$4:$I$503,MATCH($A82,'주문 접수 대장'!$F$4:$F$503,0))&"") | D82: =IF($A82="","",COUNTIFS('주문 접수 대장'!$F$4:$F$503,$A82,'주문 접수 대장'!$A$4:$A$503,">="&$B$3,'주문 접수 대장'!$A$4:$A$503,"<="&$D$3)) | E82: =IF($A82="","",SUMIFS('주문 접수 대장'!$H$4:$H$503,'주문 접수 대장'!$F$4:$F$503,$A82,'주문 접수 대장'!$A$4:$A$503,">="&$B$3,'주문 접수 대장'!$A$4:$A$503,"<="&$D$3)) | F82: =IF($A82="","",SUMIFS('주문 접수 대장'!$K$4:$K$503,'주문 접수 대장'!$F$4:$F$503,$A82,'주문 접수 대장'!$A$4:$A$503,">="&$B$3,'주문 접수 대장'!$A$4:$A$503,"<="&$D$3)) | G82: =IF($A82="","",SUMIFS('주문 접수 대장'!$H$4:$H$503,'주문 접수 대장'!$F$4:$F$503,$A82,'주문 접수 대장'!$A$4:$A$503,">="&$B$3,'주문 접수 대장'!$A$4:$A$503,"<="&$D$3,'주문 접수 대장'!$O$4:$O$503,"<>납품완료",'주문 접수 대장'!$O$4:$O$503,"<>취소")) | H82: =IF($A82="","",COUNTIFS('주문 접수 대장'!$F$4:$F$503,$A82,'주문 접수 대장'!$A$4:$A$503,">="&$B$3,'주문 접수 대장'!$A$4:$A$503,"<="&$D$3,'주문 접수 대장'!$P$4:$P$503,"지연")) | I82: =IF($A82="","",COUNTIFS('주문 접수 대장'!$F$4:$F$503,$A82,'주문 접수 대장'!$A$4:$A$503,">="&$B$3,'주문 접수 대장'!$A$4:$A$503,"<="&$D$3,'주문 접수 대장'!$O$4:$O$503,"취소")) | J82: =IF($A82="","",IF(COUNTIFS('주문 접수 대장'!$F$4:$F$503,$A82,'주문 접수 대장'!$I$4:$I$503,"<>"&C82)>0,"단위 섞임",""))
A83: =IFERROR(INDEX('주문 접수 대장'!$F$4:$F$503,MATCH(78,'주문 접수 대장'!$S$4:$S$503,0)),"") | B83: =IF($A83="","",INDEX('주문 접수 대장'!$G$4:$G$503,MATCH($A83,'주문 접수 대장'!$F$4:$F$503,0))&"") | C83: =IF($A83="","",INDEX('주문 접수 대장'!$I$4:$I$503,MATCH($A83,'주문 접수 대장'!$F$4:$F$503,0))&"") | D83: =IF($A83="","",COUNTIFS('주문 접수 대장'!$F$4:$F$503,$A83,'주문 접수 대장'!$A$4:$A$503,">="&$B$3,'주문 접수 대장'!$A$4:$A$503,"<="&$D$3)) | E83: =IF($A83="","",SUMIFS('주문 접수 대장'!$H$4:$H$503,'주문 접수 대장'!$F$4:$F$503,$A83,'주문 접수 대장'!$A$4:$A$503,">="&$B$3,'주문 접수 대장'!$A$4:$A$503,"<="&$D$3)) | F83: =IF($A83="","",SUMIFS('주문 접수 대장'!$K$4:$K$503,'주문 접수 대장'!$F$4:$F$503,$A83,'주문 접수 대장'!$A$4:$A$503,">="&$B$3,'주문 접수 대장'!$A$4:$A$503,"<="&$D$3)) | G83: =IF($A83="","",SUMIFS('주문 접수 대장'!$H$4:$H$503,'주문 접수 대장'!$F$4:$F$503,$A83,'주문 접수 대장'!$A$4:$A$503,">="&$B$3,'주문 접수 대장'!$A$4:$A$503,"<="&$D$3,'주문 접수 대장'!$O$4:$O$503,"<>납품완료",'주문 접수 대장'!$O$4:$O$503,"<>취소")) | H83: =IF($A83="","",COUNTIFS('주문 접수 대장'!$F$4:$F$503,$A83,'주문 접수 대장'!$A$4:$A$503,">="&$B$3,'주문 접수 대장'!$A$4:$A$503,"<="&$D$3,'주문 접수 대장'!$P$4:$P$503,"지연")) | I83: =IF($A83="","",COUNTIFS('주문 접수 대장'!$F$4:$F$503,$A83,'주문 접수 대장'!$A$4:$A$503,">="&$B$3,'주문 접수 대장'!$A$4:$A$503,"<="&$D$3,'주문 접수 대장'!$O$4:$O$503,"취소")) | J83: =IF($A83="","",IF(COUNTIFS('주문 접수 대장'!$F$4:$F$503,$A83,'주문 접수 대장'!$I$4:$I$503,"<>"&C83)>0,"단위 섞임",""))
A84: =IFERROR(INDEX('주문 접수 대장'!$F$4:$F$503,MATCH(79,'주문 접수 대장'!$S$4:$S$503,0)),"") | B84: =IF($A84="","",INDEX('주문 접수 대장'!$G$4:$G$503,MATCH($A84,'주문 접수 대장'!$F$4:$F$503,0))&"") | C84: =IF($A84="","",INDEX('주문 접수 대장'!$I$4:$I$503,MATCH($A84,'주문 접수 대장'!$F$4:$F$503,0))&"") | D84: =IF($A84="","",COUNTIFS('주문 접수 대장'!$F$4:$F$503,$A84,'주문 접수 대장'!$A$4:$A$503,">="&$B$3,'주문 접수 대장'!$A$4:$A$503,"<="&$D$3)) | E84: =IF($A84="","",SUMIFS('주문 접수 대장'!$H$4:$H$503,'주문 접수 대장'!$F$4:$F$503,$A84,'주문 접수 대장'!$A$4:$A$503,">="&$B$3,'주문 접수 대장'!$A$4:$A$503,"<="&$D$3)) | F84: =IF($A84="","",SUMIFS('주문 접수 대장'!$K$4:$K$503,'주문 접수 대장'!$F$4:$F$503,$A84,'주문 접수 대장'!$A$4:$A$503,">="&$B$3,'주문 접수 대장'!$A$4:$A$503,"<="&$D$3)) | G84: =IF($A84="","",SUMIFS('주문 접수 대장'!$H$4:$H$503,'주문 접수 대장'!$F$4:$F$503,$A84,'주문 접수 대장'!$A$4:$A$503,">="&$B$3,'주문 접수 대장'!$A$4:$A$503,"<="&$D$3,'주문 접수 대장'!$O$4:$O$503,"<>납품완료",'주문 접수 대장'!$O$4:$O$503,"<>취소")) | H84: =IF($A84="","",COUNTIFS('주문 접수 대장'!$F$4:$F$503,$A84,'주문 접수 대장'!$A$4:$A$503,">="&$B$3,'주문 접수 대장'!$A$4:$A$503,"<="&$D$3,'주문 접수 대장'!$P$4:$P$503,"지연")) | I84: =IF($A84="","",COUNTIFS('주문 접수 대장'!$F$4:$F$503,$A84,'주문 접수 대장'!$A$4:$A$503,">="&$B$3,'주문 접수 대장'!$A$4:$A$503,"<="&$D$3,'주문 접수 대장'!$O$4:$O$503,"취소")) | J84: =IF($A84="","",IF(COUNTIFS('주문 접수 대장'!$F$4:$F$503,$A84,'주문 접수 대장'!$I$4:$I$503,"<>"&C84)>0,"단위 섞임",""))
A85: =IFERROR(INDEX('주문 접수 대장'!$F$4:$F$503,MATCH(80,'주문 접수 대장'!$S$4:$S$503,0)),"") | B85: =IF($A85="","",INDEX('주문 접수 대장'!$G$4:$G$503,MATCH($A85,'주문 접수 대장'!$F$4:$F$503,0))&"") | C85: =IF($A85="","",INDEX('주문 접수 대장'!$I$4:$I$503,MATCH($A85,'주문 접수 대장'!$F$4:$F$503,0))&"") | D85: =IF($A85="","",COUNTIFS('주문 접수 대장'!$F$4:$F$503,$A85,'주문 접수 대장'!$A$4:$A$503,">="&$B$3,'주문 접수 대장'!$A$4:$A$503,"<="&$D$3)) | E85: =IF($A85="","",SUMIFS('주문 접수 대장'!$H$4:$H$503,'주문 접수 대장'!$F$4:$F$503,$A85,'주문 접수 대장'!$A$4:$A$503,">="&$B$3,'주문 접수 대장'!$A$4:$A$503,"<="&$D$3)) | F85: =IF($A85="","",SUMIFS('주문 접수 대장'!$K$4:$K$503,'주문 접수 대장'!$F$4:$F$503,$A85,'주문 접수 대장'!$A$4:$A$503,">="&$B$3,'주문 접수 대장'!$A$4:$A$503,"<="&$D$3)) | G85: =IF($A85="","",SUMIFS('주문 접수 대장'!$H$4:$H$503,'주문 접수 대장'!$F$4:$F$503,$A85,'주문 접수 대장'!$A$4:$A$503,">="&$B$3,'주문 접수 대장'!$A$4:$A$503,"<="&$D$3,'주문 접수 대장'!$O$4:$O$503,"<>납품완료",'주문 접수 대장'!$O$4:$O$503,"<>취소")) | H85: =IF($A85="","",COUNTIFS('주문 접수 대장'!$F$4:$F$503,$A85,'주문 접수 대장'!$A$4:$A$503,">="&$B$3,'주문 접수 대장'!$A$4:$A$503,"<="&$D$3,'주문 접수 대장'!$P$4:$P$503,"지연")) | I85: =IF($A85="","",COUNTIFS('주문 접수 대장'!$F$4:$F$503,$A85,'주문 접수 대장'!$A$4:$A$503,">="&$B$3,'주문 접수 대장'!$A$4:$A$503,"<="&$D$3,'주문 접수 대장'!$O$4:$O$503,"취소")) | J85: =IF($A85="","",IF(COUNTIFS('주문 접수 대장'!$F$4:$F$503,$A85,'주문 접수 대장'!$I$4:$I$503,"<>"&C85)>0,"단위 섞임",""))
A86: =IFERROR(INDEX('주문 접수 대장'!$F$4:$F$503,MATCH(81,'주문 접수 대장'!$S$4:$S$503,0)),"") | B86: =IF($A86="","",INDEX('주문 접수 대장'!$G$4:$G$503,MATCH($A86,'주문 접수 대장'!$F$4:$F$503,0))&"") | C86: =IF($A86="","",INDEX('주문 접수 대장'!$I$4:$I$503,MATCH($A86,'주문 접수 대장'!$F$4:$F$503,0))&"") | D86: =IF($A86="","",COUNTIFS('주문 접수 대장'!$F$4:$F$503,$A86,'주문 접수 대장'!$A$4:$A$503,">="&$B$3,'주문 접수 대장'!$A$4:$A$503,"<="&$D$3)) | E86: =IF($A86="","",SUMIFS('주문 접수 대장'!$H$4:$H$503,'주문 접수 대장'!$F$4:$F$503,$A86,'주문 접수 대장'!$A$4:$A$503,">="&$B$3,'주문 접수 대장'!$A$4:$A$503,"<="&$D$3)) | F86: =IF($A86="","",SUMIFS('주문 접수 대장'!$K$4:$K$503,'주문 접수 대장'!$F$4:$F$503,$A86,'주문 접수 대장'!$A$4:$A$503,">="&$B$3,'주문 접수 대장'!$A$4:$A$503,"<="&$D$3)) | G86: =IF($A86="","",SUMIFS('주문 접수 대장'!$H$4:$H$503,'주문 접수 대장'!$F$4:$F$503,$A86,'주문 접수 대장'!$A$4:$A$503,">="&$B$3,'주문 접수 대장'!$A$4:$A$503,"<="&$D$3,'주문 접수 대장'!$O$4:$O$503,"<>납품완료",'주문 접수 대장'!$O$4:$O$503,"<>취소")) | H86: =IF($A86="","",COUNTIFS('주문 접수 대장'!$F$4:$F$503,$A86,'주문 접수 대장'!$A$4:$A$503,">="&$B$3,'주문 접수 대장'!$A$4:$A$503,"<="&$D$3,'주문 접수 대장'!$P$4:$P$503,"지연")) | I86: =IF($A86="","",COUNTIFS('주문 접수 대장'!$F$4:$F$503,$A86,'주문 접수 대장'!$A$4:$A$503,">="&$B$3,'주문 접수 대장'!$A$4:$A$503,"<="&$D$3,'주문 접수 대장'!$O$4:$O$503,"취소")) | J86: =IF($A86="","",IF(COUNTIFS('주문 접수 대장'!$F$4:$F$503,$A86,'주문 접수 대장'!$I$4:$I$503,"<>"&C86)>0,"단위 섞임",""))
A87: =IFERROR(INDEX('주문 접수 대장'!$F$4:$F$503,MATCH(82,'주문 접수 대장'!$S$4:$S$503,0)),"") | B87: =IF($A87="","",INDEX('주문 접수 대장'!$G$4:$G$503,MATCH($A87,'주문 접수 대장'!$F$4:$F$503,0))&"") | C87: =IF($A87="","",INDEX('주문 접수 대장'!$I$4:$I$503,MATCH($A87,'주문 접수 대장'!$F$4:$F$503,0))&"") | D87: =IF($A87="","",COUNTIFS('주문 접수 대장'!$F$4:$F$503,$A87,'주문 접수 대장'!$A$4:$A$503,">="&$B$3,'주문 접수 대장'!$A$4:$A$503,"<="&$D$3)) | E87: =IF($A87="","",SUMIFS('주문 접수 대장'!$H$4:$H$503,'주문 접수 대장'!$F$4:$F$503,$A87,'주문 접수 대장'!$A$4:$A$503,">="&$B$3,'주문 접수 대장'!$A$4:$A$503,"<="&$D$3)) | F87: =IF($A87="","",SUMIFS('주문 접수 대장'!$K$4:$K$503,'주문 접수 대장'!$F$4:$F$503,$A87,'주문 접수 대장'!$A$4:$A$503,">="&$B$3,'주문 접수 대장'!$A$4:$A$503,"<="&$D$3)) | G87: =IF($A87="","",SUMIFS('주문 접수 대장'!$H$4:$H$503,'주문 접수 대장'!$F$4:$F$503,$A87,'주문 접수 대장'!$A$4:$A$503,">="&$B$3,'주문 접수 대장'!$A$4:$A$503,"<="&$D$3,'주문 접수 대장'!$O$4:$O$503,"<>납품완료",'주문 접수 대장'!$O$4:$O$503,"<>취소")) | H87: =IF($A87="","",COUNTIFS('주문 접수 대장'!$F$4:$F$503,$A87,'주문 접수 대장'!$A$4:$A$503,">="&$B$3,'주문 접수 대장'!$A$4:$A$503,"<="&$D$3,'주문 접수 대장'!$P$4:$P$503,"지연")) | I87: =IF($A87="","",COUNTIFS('주문 접수 대장'!$F$4:$F$503,$A87,'주문 접수 대장'!$A$4:$A$503,">="&$B$3,'주문 접수 대장'!$A$4:$A$503,"<="&$D$3,'주문 접수 대장'!$O$4:$O$503,"취소")) | J87: =IF($A87="","",IF(COUNTIFS('주문 접수 대장'!$F$4:$F$503,$A87,'주문 접수 대장'!$I$4:$I$503,"<>"&C87)>0,"단위 섞임",""))
A88: =IFERROR(INDEX('주문 접수 대장'!$F$4:$F$503,MATCH(83,'주문 접수 대장'!$S$4:$S$503,0)),"") | B88: =IF($A88="","",INDEX('주문 접수 대장'!$G$4:$G$503,MATCH($A88,'주문 접수 대장'!$F$4:$F$503,0))&"") | C88: =IF($A88="","",INDEX('주문 접수 대장'!$I$4:$I$503,MATCH($A88,'주문 접수 대장'!$F$4:$F$503,0))&"") | D88: =IF($A88="","",COUNTIFS('주문 접수 대장'!$F$4:$F$503,$A88,'주문 접수 대장'!$A$4:$A$503,">="&$B$3,'주문 접수 대장'!$A$4:$A$503,"<="&$D$3)) | E88: =IF($A88="","",SUMIFS('주문 접수 대장'!$H$4:$H$503,'주문 접수 대장'!$F$4:$F$503,$A88,'주문 접수 대장'!$A$4:$A$503,">="&$B$3,'주문 접수 대장'!$A$4:$A$503,"<="&$D$3)) | F88: =IF($A88="","",SUMIFS('주문 접수 대장'!$K$4:$K$503,'주문 접수 대장'!$F$4:$F$503,$A88,'주문 접수 대장'!$A$4:$A$503,">="&$B$3,'주문 접수 대장'!$A$4:$A$503,"<="&$D$3)) | G88: =IF($A88="","",SUMIFS('주문 접수 대장'!$H$4:$H$503,'주문 접수 대장'!$F$4:$F$503,$A88,'주문 접수 대장'!$A$4:$A$503,">="&$B$3,'주문 접수 대장'!$A$4:$A$503,"<="&$D$3,'주문 접수 대장'!$O$4:$O$503,"<>납품완료",'주문 접수 대장'!$O$4:$O$503,"<>취소")) | H88: =IF($A88="","",COUNTIFS('주문 접수 대장'!$F$4:$F$503,$A88,'주문 접수 대장'!$A$4:$A$503,">="&$B$3,'주문 접수 대장'!$A$4:$A$503,"<="&$D$3,'주문 접수 대장'!$P$4:$P$503,"지연")) | I88: =IF($A88="","",COUNTIFS('주문 접수 대장'!$F$4:$F$503,$A88,'주문 접수 대장'!$A$4:$A$503,">="&$B$3,'주문 접수 대장'!$A$4:$A$503,"<="&$D$3,'주문 접수 대장'!$O$4:$O$503,"취소")) | J88: =IF($A88="","",IF(COUNTIFS('주문 접수 대장'!$F$4:$F$503,$A88,'주문 접수 대장'!$I$4:$I$503,"<>"&C88)>0,"단위 섞임",""))
A89: =IFERROR(INDEX('주문 접수 대장'!$F$4:$F$503,MATCH(84,'주문 접수 대장'!$S$4:$S$503,0)),"") | B89: =IF($A89="","",INDEX('주문 접수 대장'!$G$4:$G$503,MATCH($A89,'주문 접수 대장'!$F$4:$F$503,0))&"") | C89: =IF($A89="","",INDEX('주문 접수 대장'!$I$4:$I$503,MATCH($A89,'주문 접수 대장'!$F$4:$F$503,0))&"") | D89: =IF($A89="","",COUNTIFS('주문 접수 대장'!$F$4:$F$503,$A89,'주문 접수 대장'!$A$4:$A$503,">="&$B$3,'주문 접수 대장'!$A$4:$A$503,"<="&$D$3)) | E89: =IF($A89="","",SUMIFS('주문 접수 대장'!$H$4:$H$503,'주문 접수 대장'!$F$4:$F$503,$A89,'주문 접수 대장'!$A$4:$A$503,">="&$B$3,'주문 접수 대장'!$A$4:$A$503,"<="&$D$3)) | F89: =IF($A89="","",SUMIFS('주문 접수 대장'!$K$4:$K$503,'주문 접수 대장'!$F$4:$F$503,$A89,'주문 접수 대장'!$A$4:$A$503,">="&$B$3,'주문 접수 대장'!$A$4:$A$503,"<="&$D$3)) | G89: =IF($A89="","",SUMIFS('주문 접수 대장'!$H$4:$H$503,'주문 접수 대장'!$F$4:$F$503,$A89,'주문 접수 대장'!$A$4:$A$503,">="&$B$3,'주문 접수 대장'!$A$4:$A$503,"<="&$D$3,'주문 접수 대장'!$O$4:$O$503,"<>납품완료",'주문 접수 대장'!$O$4:$O$503,"<>취소")) | H89: =IF($A89="","",COUNTIFS('주문 접수 대장'!$F$4:$F$503,$A89,'주문 접수 대장'!$A$4:$A$503,">="&$B$3,'주문 접수 대장'!$A$4:$A$503,"<="&$D$3,'주문 접수 대장'!$P$4:$P$503,"지연")) | I89: =IF($A89="","",COUNTIFS('주문 접수 대장'!$F$4:$F$503,$A89,'주문 접수 대장'!$A$4:$A$503,">="&$B$3,'주문 접수 대장'!$A$4:$A$503,"<="&$D$3,'주문 접수 대장'!$O$4:$O$503,"취소")) | J89: =IF($A89="","",IF(COUNTIFS('주문 접수 대장'!$F$4:$F$503,$A89,'주문 접수 대장'!$I$4:$I$503,"<>"&C89)>0,"단위 섞임",""))
A90: =IFERROR(INDEX('주문 접수 대장'!$F$4:$F$503,MATCH(85,'주문 접수 대장'!$S$4:$S$503,0)),"") | B90: =IF($A90="","",INDEX('주문 접수 대장'!$G$4:$G$503,MATCH($A90,'주문 접수 대장'!$F$4:$F$503,0))&"") | C90: =IF($A90="","",INDEX('주문 접수 대장'!$I$4:$I$503,MATCH($A90,'주문 접수 대장'!$F$4:$F$503,0))&"") | D90: =IF($A90="","",COUNTIFS('주문 접수 대장'!$F$4:$F$503,$A90,'주문 접수 대장'!$A$4:$A$503,">="&$B$3,'주문 접수 대장'!$A$4:$A$503,"<="&$D$3)) | E90: =IF($A90="","",SUMIFS('주문 접수 대장'!$H$4:$H$503,'주문 접수 대장'!$F$4:$F$503,$A90,'주문 접수 대장'!$A$4:$A$503,">="&$B$3,'주문 접수 대장'!$A$4:$A$503,"<="&$D$3)) | F90: =IF($A90="","",SUMIFS('주문 접수 대장'!$K$4:$K$503,'주문 접수 대장'!$F$4:$F$503,$A90,'주문 접수 대장'!$A$4:$A$503,">="&$B$3,'주문 접수 대장'!$A$4:$A$503,"<="&$D$3)) | G90: =IF($A90="","",SUMIFS('주문 접수 대장'!$H$4:$H$503,'주문 접수 대장'!$F$4:$F$503,$A90,'주문 접수 대장'!$A$4:$A$503,">="&$B$3,'주문 접수 대장'!$A$4:$A$503,"<="&$D$3,'주문 접수 대장'!$O$4:$O$503,"<>납품완료",'주문 접수 대장'!$O$4:$O$503,"<>취소")) | H90: =IF($A90="","",COUNTIFS('주문 접수 대장'!$F$4:$F$503,$A90,'주문 접수 대장'!$A$4:$A$503,">="&$B$3,'주문 접수 대장'!$A$4:$A$503,"<="&$D$3,'주문 접수 대장'!$P$4:$P$503,"지연")) | I90: =IF($A90="","",COUNTIFS('주문 접수 대장'!$F$4:$F$503,$A90,'주문 접수 대장'!$A$4:$A$503,">="&$B$3,'주문 접수 대장'!$A$4:$A$503,"<="&$D$3,'주문 접수 대장'!$O$4:$O$503,"취소")) | J90: =IF($A90="","",IF(COUNTIFS('주문 접수 대장'!$F$4:$F$503,$A90,'주문 접수 대장'!$I$4:$I$503,"<>"&C90)>0,"단위 섞임",""))
A91: =IFERROR(INDEX('주문 접수 대장'!$F$4:$F$503,MATCH(86,'주문 접수 대장'!$S$4:$S$503,0)),"") | B91: =IF($A91="","",INDEX('주문 접수 대장'!$G$4:$G$503,MATCH($A91,'주문 접수 대장'!$F$4:$F$503,0))&"") | C91: =IF($A91="","",INDEX('주문 접수 대장'!$I$4:$I$503,MATCH($A91,'주문 접수 대장'!$F$4:$F$503,0))&"") | D91: =IF($A91="","",COUNTIFS('주문 접수 대장'!$F$4:$F$503,$A91,'주문 접수 대장'!$A$4:$A$503,">="&$B$3,'주문 접수 대장'!$A$4:$A$503,"<="&$D$3)) | E91: =IF($A91="","",SUMIFS('주문 접수 대장'!$H$4:$H$503,'주문 접수 대장'!$F$4:$F$503,$A91,'주문 접수 대장'!$A$4:$A$503,">="&$B$3,'주문 접수 대장'!$A$4:$A$503,"<="&$D$3)) | F91: =IF($A91="","",SUMIFS('주문 접수 대장'!$K$4:$K$503,'주문 접수 대장'!$F$4:$F$503,$A91,'주문 접수 대장'!$A$4:$A$503,">="&$B$3,'주문 접수 대장'!$A$4:$A$503,"<="&$D$3)) | G91: =IF($A91="","",SUMIFS('주문 접수 대장'!$H$4:$H$503,'주문 접수 대장'!$F$4:$F$503,$A91,'주문 접수 대장'!$A$4:$A$503,">="&$B$3,'주문 접수 대장'!$A$4:$A$503,"<="&$D$3,'주문 접수 대장'!$O$4:$O$503,"<>납품완료",'주문 접수 대장'!$O$4:$O$503,"<>취소")) | H91: =IF($A91="","",COUNTIFS('주문 접수 대장'!$F$4:$F$503,$A91,'주문 접수 대장'!$A$4:$A$503,">="&$B$3,'주문 접수 대장'!$A$4:$A$503,"<="&$D$3,'주문 접수 대장'!$P$4:$P$503,"지연")) | I91: =IF($A91="","",COUNTIFS('주문 접수 대장'!$F$4:$F$503,$A91,'주문 접수 대장'!$A$4:$A$503,">="&$B$3,'주문 접수 대장'!$A$4:$A$503,"<="&$D$3,'주문 접수 대장'!$O$4:$O$503,"취소")) | J91: =IF($A91="","",IF(COUNTIFS('주문 접수 대장'!$F$4:$F$503,$A91,'주문 접수 대장'!$I$4:$I$503,"<>"&C91)>0,"단위 섞임",""))
A92: =IFERROR(INDEX('주문 접수 대장'!$F$4:$F$503,MATCH(87,'주문 접수 대장'!$S$4:$S$503,0)),"") | B92: =IF($A92="","",INDEX('주문 접수 대장'!$G$4:$G$503,MATCH($A92,'주문 접수 대장'!$F$4:$F$503,0))&"") | C92: =IF($A92="","",INDEX('주문 접수 대장'!$I$4:$I$503,MATCH($A92,'주문 접수 대장'!$F$4:$F$503,0))&"") | D92: =IF($A92="","",COUNTIFS('주문 접수 대장'!$F$4:$F$503,$A92,'주문 접수 대장'!$A$4:$A$503,">="&$B$3,'주문 접수 대장'!$A$4:$A$503,"<="&$D$3)) | E92: =IF($A92="","",SUMIFS('주문 접수 대장'!$H$4:$H$503,'주문 접수 대장'!$F$4:$F$503,$A92,'주문 접수 대장'!$A$4:$A$503,">="&$B$3,'주문 접수 대장'!$A$4:$A$503,"<="&$D$3)) | F92: =IF($A92="","",SUMIFS('주문 접수 대장'!$K$4:$K$503,'주문 접수 대장'!$F$4:$F$503,$A92,'주문 접수 대장'!$A$4:$A$503,">="&$B$3,'주문 접수 대장'!$A$4:$A$503,"<="&$D$3)) | G92: =IF($A92="","",SUMIFS('주문 접수 대장'!$H$4:$H$503,'주문 접수 대장'!$F$4:$F$503,$A92,'주문 접수 대장'!$A$4:$A$503,">="&$B$3,'주문 접수 대장'!$A$4:$A$503,"<="&$D$3,'주문 접수 대장'!$O$4:$O$503,"<>납품완료",'주문 접수 대장'!$O$4:$O$503,"<>취소")) | H92: =IF($A92="","",COUNTIFS('주문 접수 대장'!$F$4:$F$503,$A92,'주문 접수 대장'!$A$4:$A$503,">="&$B$3,'주문 접수 대장'!$A$4:$A$503,"<="&$D$3,'주문 접수 대장'!$P$4:$P$503,"지연")) | I92: =IF($A92="","",COUNTIFS('주문 접수 대장'!$F$4:$F$503,$A92,'주문 접수 대장'!$A$4:$A$503,">="&$B$3,'주문 접수 대장'!$A$4:$A$503,"<="&$D$3,'주문 접수 대장'!$O$4:$O$503,"취소")) | J92: =IF($A92="","",IF(COUNTIFS('주문 접수 대장'!$F$4:$F$503,$A92,'주문 접수 대장'!$I$4:$I$503,"<>"&C92)>0,"단위 섞임",""))
A93: =IFERROR(INDEX('주문 접수 대장'!$F$4:$F$503,MATCH(88,'주문 접수 대장'!$S$4:$S$503,0)),"") | B93: =IF($A93="","",INDEX('주문 접수 대장'!$G$4:$G$503,MATCH($A93,'주문 접수 대장'!$F$4:$F$503,0))&"") | C93: =IF($A93="","",INDEX('주문 접수 대장'!$I$4:$I$503,MATCH($A93,'주문 접수 대장'!$F$4:$F$503,0))&"") | D93: =IF($A93="","",COUNTIFS('주문 접수 대장'!$F$4:$F$503,$A93,'주문 접수 대장'!$A$4:$A$503,">="&$B$3,'주문 접수 대장'!$A$4:$A$503,"<="&$D$3)) | E93: =IF($A93="","",SUMIFS('주문 접수 대장'!$H$4:$H$503,'주문 접수 대장'!$F$4:$F$503,$A93,'주문 접수 대장'!$A$4:$A$503,">="&$B$3,'주문 접수 대장'!$A$4:$A$503,"<="&$D$3)) | F93: =IF($A93="","",SUMIFS('주문 접수 대장'!$K$4:$K$503,'주문 접수 대장'!$F$4:$F$503,$A93,'주문 접수 대장'!$A$4:$A$503,">="&$B$3,'주문 접수 대장'!$A$4:$A$503,"<="&$D$3)) | G93: =IF($A93="","",SUMIFS('주문 접수 대장'!$H$4:$H$503,'주문 접수 대장'!$F$4:$F$503,$A93,'주문 접수 대장'!$A$4:$A$503,">="&$B$3,'주문 접수 대장'!$A$4:$A$503,"<="&$D$3,'주문 접수 대장'!$O$4:$O$503,"<>납품완료",'주문 접수 대장'!$O$4:$O$503,"<>취소")) | H93: =IF($A93="","",COUNTIFS('주문 접수 대장'!$F$4:$F$503,$A93,'주문 접수 대장'!$A$4:$A$503,">="&$B$3,'주문 접수 대장'!$A$4:$A$503,"<="&$D$3,'주문 접수 대장'!$P$4:$P$503,"지연")) | I93: =IF($A93="","",COUNTIFS('주문 접수 대장'!$F$4:$F$503,$A93,'주문 접수 대장'!$A$4:$A$503,">="&$B$3,'주문 접수 대장'!$A$4:$A$503,"<="&$D$3,'주문 접수 대장'!$O$4:$O$503,"취소")) | J93: =IF($A93="","",IF(COUNTIFS('주문 접수 대장'!$F$4:$F$503,$A93,'주문 접수 대장'!$I$4:$I$503,"<>"&C93)>0,"단위 섞임",""))
A94: =IFERROR(INDEX('주문 접수 대장'!$F$4:$F$503,MATCH(89,'주문 접수 대장'!$S$4:$S$503,0)),"") | B94: =IF($A94="","",INDEX('주문 접수 대장'!$G$4:$G$503,MATCH($A94,'주문 접수 대장'!$F$4:$F$503,0))&"") | C94: =IF($A94="","",INDEX('주문 접수 대장'!$I$4:$I$503,MATCH($A94,'주문 접수 대장'!$F$4:$F$503,0))&"") | D94: =IF($A94="","",COUNTIFS('주문 접수 대장'!$F$4:$F$503,$A94,'주문 접수 대장'!$A$4:$A$503,">="&$B$3,'주문 접수 대장'!$A$4:$A$503,"<="&$D$3)) | E94: =IF($A94="","",SUMIFS('주문 접수 대장'!$H$4:$H$503,'주문 접수 대장'!$F$4:$F$503,$A94,'주문 접수 대장'!$A$4:$A$503,">="&$B$3,'주문 접수 대장'!$A$4:$A$503,"<="&$D$3)) | F94: =IF($A94="","",SUMIFS('주문 접수 대장'!$K$4:$K$503,'주문 접수 대장'!$F$4:$F$503,$A94,'주문 접수 대장'!$A$4:$A$503,">="&$B$3,'주문 접수 대장'!$A$4:$A$503,"<="&$D$3)) | G94: =IF($A94="","",SUMIFS('주문 접수 대장'!$H$4:$H$503,'주문 접수 대장'!$F$4:$F$503,$A94,'주문 접수 대장'!$A$4:$A$503,">="&$B$3,'주문 접수 대장'!$A$4:$A$503,"<="&$D$3,'주문 접수 대장'!$O$4:$O$503,"<>납품완료",'주문 접수 대장'!$O$4:$O$503,"<>취소")) | H94: =IF($A94="","",COUNTIFS('주문 접수 대장'!$F$4:$F$503,$A94,'주문 접수 대장'!$A$4:$A$503,">="&$B$3,'주문 접수 대장'!$A$4:$A$503,"<="&$D$3,'주문 접수 대장'!$P$4:$P$503,"지연")) | I94: =IF($A94="","",COUNTIFS('주문 접수 대장'!$F$4:$F$503,$A94,'주문 접수 대장'!$A$4:$A$503,">="&$B$3,'주문 접수 대장'!$A$4:$A$503,"<="&$D$3,'주문 접수 대장'!$O$4:$O$503,"취소")) | J94: =IF($A94="","",IF(COUNTIFS('주문 접수 대장'!$F$4:$F$503,$A94,'주문 접수 대장'!$I$4:$I$503,"<>"&C94)>0,"단위 섞임",""))
A95: =IFERROR(INDEX('주문 접수 대장'!$F$4:$F$503,MATCH(90,'주문 접수 대장'!$S$4:$S$503,0)),"") | B95: =IF($A95="","",INDEX('주문 접수 대장'!$G$4:$G$503,MATCH($A95,'주문 접수 대장'!$F$4:$F$503,0))&"") | C95: =IF($A95="","",INDEX('주문 접수 대장'!$I$4:$I$503,MATCH($A95,'주문 접수 대장'!$F$4:$F$503,0))&"") | D95: =IF($A95="","",COUNTIFS('주문 접수 대장'!$F$4:$F$503,$A95,'주문 접수 대장'!$A$4:$A$503,">="&$B$3,'주문 접수 대장'!$A$4:$A$503,"<="&$D$3)) | E95: =IF($A95="","",SUMIFS('주문 접수 대장'!$H$4:$H$503,'주문 접수 대장'!$F$4:$F$503,$A95,'주문 접수 대장'!$A$4:$A$503,">="&$B$3,'주문 접수 대장'!$A$4:$A$503,"<="&$D$3)) | F95: =IF($A95="","",SUMIFS('주문 접수 대장'!$K$4:$K$503,'주문 접수 대장'!$F$4:$F$503,$A95,'주문 접수 대장'!$A$4:$A$503,">="&$B$3,'주문 접수 대장'!$A$4:$A$503,"<="&$D$3)) | G95: =IF($A95="","",SUMIFS('주문 접수 대장'!$H$4:$H$503,'주문 접수 대장'!$F$4:$F$503,$A95,'주문 접수 대장'!$A$4:$A$503,">="&$B$3,'주문 접수 대장'!$A$4:$A$503,"<="&$D$3,'주문 접수 대장'!$O$4:$O$503,"<>납품완료",'주문 접수 대장'!$O$4:$O$503,"<>취소")) | H95: =IF($A95="","",COUNTIFS('주문 접수 대장'!$F$4:$F$503,$A95,'주문 접수 대장'!$A$4:$A$503,">="&$B$3,'주문 접수 대장'!$A$4:$A$503,"<="&$D$3,'주문 접수 대장'!$P$4:$P$503,"지연")) | I95: =IF($A95="","",COUNTIFS('주문 접수 대장'!$F$4:$F$503,$A95,'주문 접수 대장'!$A$4:$A$503,">="&$B$3,'주문 접수 대장'!$A$4:$A$503,"<="&$D$3,'주문 접수 대장'!$O$4:$O$503,"취소")) | J95: =IF($A95="","",IF(COUNTIFS('주문 접수 대장'!$F$4:$F$503,$A95,'주문 접수 대장'!$I$4:$I$503,"<>"&C95)>0,"단위 섞임",""))
A96: =IFERROR(INDEX('주문 접수 대장'!$F$4:$F$503,MATCH(91,'주문 접수 대장'!$S$4:$S$503,0)),"") | B96: =IF($A96="","",INDEX('주문 접수 대장'!$G$4:$G$503,MATCH($A96,'주문 접수 대장'!$F$4:$F$503,0))&"") | C96: =IF($A96="","",INDEX('주문 접수 대장'!$I$4:$I$503,MATCH($A96,'주문 접수 대장'!$F$4:$F$503,0))&"") | D96: =IF($A96="","",COUNTIFS('주문 접수 대장'!$F$4:$F$503,$A96,'주문 접수 대장'!$A$4:$A$503,">="&$B$3,'주문 접수 대장'!$A$4:$A$503,"<="&$D$3)) | E96: =IF($A96="","",SUMIFS('주문 접수 대장'!$H$4:$H$503,'주문 접수 대장'!$F$4:$F$503,$A96,'주문 접수 대장'!$A$4:$A$503,">="&$B$3,'주문 접수 대장'!$A$4:$A$503,"<="&$D$3)) | F96: =IF($A96="","",SUMIFS('주문 접수 대장'!$K$4:$K$503,'주문 접수 대장'!$F$4:$F$503,$A96,'주문 접수 대장'!$A$4:$A$503,">="&$B$3,'주문 접수 대장'!$A$4:$A$503,"<="&$D$3)) | G96: =IF($A96="","",SUMIFS('주문 접수 대장'!$H$4:$H$503,'주문 접수 대장'!$F$4:$F$503,$A96,'주문 접수 대장'!$A$4:$A$503,">="&$B$3,'주문 접수 대장'!$A$4:$A$503,"<="&$D$3,'주문 접수 대장'!$O$4:$O$503,"<>납품완료",'주문 접수 대장'!$O$4:$O$503,"<>취소")) | H96: =IF($A96="","",COUNTIFS('주문 접수 대장'!$F$4:$F$503,$A96,'주문 접수 대장'!$A$4:$A$503,">="&$B$3,'주문 접수 대장'!$A$4:$A$503,"<="&$D$3,'주문 접수 대장'!$P$4:$P$503,"지연")) | I96: =IF($A96="","",COUNTIFS('주문 접수 대장'!$F$4:$F$503,$A96,'주문 접수 대장'!$A$4:$A$503,">="&$B$3,'주문 접수 대장'!$A$4:$A$503,"<="&$D$3,'주문 접수 대장'!$O$4:$O$503,"취소")) | J96: =IF($A96="","",IF(COUNTIFS('주문 접수 대장'!$F$4:$F$503,$A96,'주문 접수 대장'!$I$4:$I$503,"<>"&C96)>0,"단위 섞임",""))
A97: =IFERROR(INDEX('주문 접수 대장'!$F$4:$F$503,MATCH(92,'주문 접수 대장'!$S$4:$S$503,0)),"") | B97: =IF($A97="","",INDEX('주문 접수 대장'!$G$4:$G$503,MATCH($A97,'주문 접수 대장'!$F$4:$F$503,0))&"") | C97: =IF($A97="","",INDEX('주문 접수 대장'!$I$4:$I$503,MATCH($A97,'주문 접수 대장'!$F$4:$F$503,0))&"") | D97: =IF($A97="","",COUNTIFS('주문 접수 대장'!$F$4:$F$503,$A97,'주문 접수 대장'!$A$4:$A$503,">="&$B$3,'주문 접수 대장'!$A$4:$A$503,"<="&$D$3)) | E97: =IF($A97="","",SUMIFS('주문 접수 대장'!$H$4:$H$503,'주문 접수 대장'!$F$4:$F$503,$A97,'주문 접수 대장'!$A$4:$A$503,">="&$B$3,'주문 접수 대장'!$A$4:$A$503,"<="&$D$3)) | F97: =IF($A97="","",SUMIFS('주문 접수 대장'!$K$4:$K$503,'주문 접수 대장'!$F$4:$F$503,$A97,'주문 접수 대장'!$A$4:$A$503,">="&$B$3,'주문 접수 대장'!$A$4:$A$503,"<="&$D$3)) | G97: =IF($A97="","",SUMIFS('주문 접수 대장'!$H$4:$H$503,'주문 접수 대장'!$F$4:$F$503,$A97,'주문 접수 대장'!$A$4:$A$503,">="&$B$3,'주문 접수 대장'!$A$4:$A$503,"<="&$D$3,'주문 접수 대장'!$O$4:$O$503,"<>납품완료",'주문 접수 대장'!$O$4:$O$503,"<>취소")) | H97: =IF($A97="","",COUNTIFS('주문 접수 대장'!$F$4:$F$503,$A97,'주문 접수 대장'!$A$4:$A$503,">="&$B$3,'주문 접수 대장'!$A$4:$A$503,"<="&$D$3,'주문 접수 대장'!$P$4:$P$503,"지연")) | I97: =IF($A97="","",COUNTIFS('주문 접수 대장'!$F$4:$F$503,$A97,'주문 접수 대장'!$A$4:$A$503,">="&$B$3,'주문 접수 대장'!$A$4:$A$503,"<="&$D$3,'주문 접수 대장'!$O$4:$O$503,"취소")) | J97: =IF($A97="","",IF(COUNTIFS('주문 접수 대장'!$F$4:$F$503,$A97,'주문 접수 대장'!$I$4:$I$503,"<>"&C97)>0,"단위 섞임",""))
A98: =IFERROR(INDEX('주문 접수 대장'!$F$4:$F$503,MATCH(93,'주문 접수 대장'!$S$4:$S$503,0)),"") | B98: =IF($A98="","",INDEX('주문 접수 대장'!$G$4:$G$503,MATCH($A98,'주문 접수 대장'!$F$4:$F$503,0))&"") | C98: =IF($A98="","",INDEX('주문 접수 대장'!$I$4:$I$503,MATCH($A98,'주문 접수 대장'!$F$4:$F$503,0))&"") | D98: =IF($A98="","",COUNTIFS('주문 접수 대장'!$F$4:$F$503,$A98,'주문 접수 대장'!$A$4:$A$503,">="&$B$3,'주문 접수 대장'!$A$4:$A$503,"<="&$D$3)) | E98: =IF($A98="","",SUMIFS('주문 접수 대장'!$H$4:$H$503,'주문 접수 대장'!$F$4:$F$503,$A98,'주문 접수 대장'!$A$4:$A$503,">="&$B$3,'주문 접수 대장'!$A$4:$A$503,"<="&$D$3)) | F98: =IF($A98="","",SUMIFS('주문 접수 대장'!$K$4:$K$503,'주문 접수 대장'!$F$4:$F$503,$A98,'주문 접수 대장'!$A$4:$A$503,">="&$B$3,'주문 접수 대장'!$A$4:$A$503,"<="&$D$3)) | G98: =IF($A98="","",SUMIFS('주문 접수 대장'!$H$4:$H$503,'주문 접수 대장'!$F$4:$F$503,$A98,'주문 접수 대장'!$A$4:$A$503,">="&$B$3,'주문 접수 대장'!$A$4:$A$503,"<="&$D$3,'주문 접수 대장'!$O$4:$O$503,"<>납품완료",'주문 접수 대장'!$O$4:$O$503,"<>취소")) | H98: =IF($A98="","",COUNTIFS('주문 접수 대장'!$F$4:$F$503,$A98,'주문 접수 대장'!$A$4:$A$503,">="&$B$3,'주문 접수 대장'!$A$4:$A$503,"<="&$D$3,'주문 접수 대장'!$P$4:$P$503,"지연")) | I98: =IF($A98="","",COUNTIFS('주문 접수 대장'!$F$4:$F$503,$A98,'주문 접수 대장'!$A$4:$A$503,">="&$B$3,'주문 접수 대장'!$A$4:$A$503,"<="&$D$3,'주문 접수 대장'!$O$4:$O$503,"취소")) | J98: =IF($A98="","",IF(COUNTIFS('주문 접수 대장'!$F$4:$F$503,$A98,'주문 접수 대장'!$I$4:$I$503,"<>"&C98)>0,"단위 섞임",""))
A99: =IFERROR(INDEX('주문 접수 대장'!$F$4:$F$503,MATCH(94,'주문 접수 대장'!$S$4:$S$503,0)),"") | B99: =IF($A99="","",INDEX('주문 접수 대장'!$G$4:$G$503,MATCH($A99,'주문 접수 대장'!$F$4:$F$503,0))&"") | C99: =IF($A99="","",INDEX('주문 접수 대장'!$I$4:$I$503,MATCH($A99,'주문 접수 대장'!$F$4:$F$503,0))&"") | D99: =IF($A99="","",COUNTIFS('주문 접수 대장'!$F$4:$F$503,$A99,'주문 접수 대장'!$A$4:$A$503,">="&$B$3,'주문 접수 대장'!$A$4:$A$503,"<="&$D$3)) | E99: =IF($A99="","",SUMIFS('주문 접수 대장'!$H$4:$H$503,'주문 접수 대장'!$F$4:$F$503,$A99,'주문 접수 대장'!$A$4:$A$503,">="&$B$3,'주문 접수 대장'!$A$4:$A$503,"<="&$D$3)) | F99: =IF($A99="","",SUMIFS('주문 접수 대장'!$K$4:$K$503,'주문 접수 대장'!$F$4:$F$503,$A99,'주문 접수 대장'!$A$4:$A$503,">="&$B$3,'주문 접수 대장'!$A$4:$A$503,"<="&$D$3)) | G99: =IF($A99="","",SUMIFS('주문 접수 대장'!$H$4:$H$503,'주문 접수 대장'!$F$4:$F$503,$A99,'주문 접수 대장'!$A$4:$A$503,">="&$B$3,'주문 접수 대장'!$A$4:$A$503,"<="&$D$3,'주문 접수 대장'!$O$4:$O$503,"<>납품완료",'주문 접수 대장'!$O$4:$O$503,"<>취소")) | H99: =IF($A99="","",COUNTIFS('주문 접수 대장'!$F$4:$F$503,$A99,'주문 접수 대장'!$A$4:$A$503,">="&$B$3,'주문 접수 대장'!$A$4:$A$503,"<="&$D$3,'주문 접수 대장'!$P$4:$P$503,"지연")) | I99: =IF($A99="","",COUNTIFS('주문 접수 대장'!$F$4:$F$503,$A99,'주문 접수 대장'!$A$4:$A$503,">="&$B$3,'주문 접수 대장'!$A$4:$A$503,"<="&$D$3,'주문 접수 대장'!$O$4:$O$503,"취소")) | J99: =IF($A99="","",IF(COUNTIFS('주문 접수 대장'!$F$4:$F$503,$A99,'주문 접수 대장'!$I$4:$I$503,"<>"&C99)>0,"단위 섞임",""))
A100: =IFERROR(INDEX('주문 접수 대장'!$F$4:$F$503,MATCH(95,'주문 접수 대장'!$S$4:$S$503,0)),"") | B100: =IF($A100="","",INDEX('주문 접수 대장'!$G$4:$G$503,MATCH($A100,'주문 접수 대장'!$F$4:$F$503,0))&"") | C100: =IF($A100="","",INDEX('주문 접수 대장'!$I$4:$I$503,MATCH($A100,'주문 접수 대장'!$F$4:$F$503,0))&"") | D100: =IF($A100="","",COUNTIFS('주문 접수 대장'!$F$4:$F$503,$A100,'주문 접수 대장'!$A$4:$A$503,">="&$B$3,'주문 접수 대장'!$A$4:$A$503,"<="&$D$3)) | E100: =IF($A100="","",SUMIFS('주문 접수 대장'!$H$4:$H$503,'주문 접수 대장'!$F$4:$F$503,$A100,'주문 접수 대장'!$A$4:$A$503,">="&$B$3,'주문 접수 대장'!$A$4:$A$503,"<="&$D$3)) | F100: =IF($A100="","",SUMIFS('주문 접수 대장'!$K$4:$K$503,'주문 접수 대장'!$F$4:$F$503,$A100,'주문 접수 대장'!$A$4:$A$503,">="&$B$3,'주문 접수 대장'!$A$4:$A$503,"<="&$D$3)) | G100: =IF($A100="","",SUMIFS('주문 접수 대장'!$H$4:$H$503,'주문 접수 대장'!$F$4:$F$503,$A100,'주문 접수 대장'!$A$4:$A$503,">="&$B$3,'주문 접수 대장'!$A$4:$A$503,"<="&$D$3,'주문 접수 대장'!$O$4:$O$503,"<>납품완료",'주문 접수 대장'!$O$4:$O$503,"<>취소")) | H100: =IF($A100="","",COUNTIFS('주문 접수 대장'!$F$4:$F$503,$A100,'주문 접수 대장'!$A$4:$A$503,">="&$B$3,'주문 접수 대장'!$A$4:$A$503,"<="&$D$3,'주문 접수 대장'!$P$4:$P$503,"지연")) | I100: =IF($A100="","",COUNTIFS('주문 접수 대장'!$F$4:$F$503,$A100,'주문 접수 대장'!$A$4:$A$503,">="&$B$3,'주문 접수 대장'!$A$4:$A$503,"<="&$D$3,'주문 접수 대장'!$O$4:$O$503,"취소")) | J100: =IF($A100="","",IF(COUNTIFS('주문 접수 대장'!$F$4:$F$503,$A100,'주문 접수 대장'!$I$4:$I$503,"<>"&C100)>0,"단위 섞임",""))
A101: =IFERROR(INDEX('주문 접수 대장'!$F$4:$F$503,MATCH(96,'주문 접수 대장'!$S$4:$S$503,0)),"") | B101: =IF($A101="","",INDEX('주문 접수 대장'!$G$4:$G$503,MATCH($A101,'주문 접수 대장'!$F$4:$F$503,0))&"") | C101: =IF($A101="","",INDEX('주문 접수 대장'!$I$4:$I$503,MATCH($A101,'주문 접수 대장'!$F$4:$F$503,0))&"") | D101: =IF($A101="","",COUNTIFS('주문 접수 대장'!$F$4:$F$503,$A101,'주문 접수 대장'!$A$4:$A$503,">="&$B$3,'주문 접수 대장'!$A$4:$A$503,"<="&$D$3)) | E101: =IF($A101="","",SUMIFS('주문 접수 대장'!$H$4:$H$503,'주문 접수 대장'!$F$4:$F$503,$A101,'주문 접수 대장'!$A$4:$A$503,">="&$B$3,'주문 접수 대장'!$A$4:$A$503,"<="&$D$3)) | F101: =IF($A101="","",SUMIFS('주문 접수 대장'!$K$4:$K$503,'주문 접수 대장'!$F$4:$F$503,$A101,'주문 접수 대장'!$A$4:$A$503,">="&$B$3,'주문 접수 대장'!$A$4:$A$503,"<="&$D$3)) | G101: =IF($A101="","",SUMIFS('주문 접수 대장'!$H$4:$H$503,'주문 접수 대장'!$F$4:$F$503,$A101,'주문 접수 대장'!$A$4:$A$503,">="&$B$3,'주문 접수 대장'!$A$4:$A$503,"<="&$D$3,'주문 접수 대장'!$O$4:$O$503,"<>납품완료",'주문 접수 대장'!$O$4:$O$503,"<>취소")) | H101: =IF($A101="","",COUNTIFS('주문 접수 대장'!$F$4:$F$503,$A101,'주문 접수 대장'!$A$4:$A$503,">="&$B$3,'주문 접수 대장'!$A$4:$A$503,"<="&$D$3,'주문 접수 대장'!$P$4:$P$503,"지연")) | I101: =IF($A101="","",COUNTIFS('주문 접수 대장'!$F$4:$F$503,$A101,'주문 접수 대장'!$A$4:$A$503,">="&$B$3,'주문 접수 대장'!$A$4:$A$503,"<="&$D$3,'주문 접수 대장'!$O$4:$O$503,"취소")) | J101: =IF($A101="","",IF(COUNTIFS('주문 접수 대장'!$F$4:$F$503,$A101,'주문 접수 대장'!$I$4:$I$503,"<>"&C101)>0,"단위 섞임",""))
...

Sheet 사용법
B2: 주문 접수 대장 사용법
B4: 1. 팩스·카톡·메일·전화로 주문이 들어오면 받는 즉시 '주문 접수 대장' 시트에 적습니다. 주문 한 건에 품목이 여럿이면 품목마다 한 줄씩, 수신일·거래처·발주번호는 같게 적습니다.
B5: 2. 접수 경로를 고르고, 수량과 단위(박스·kg·개)를 함께 적습니다. 단가를 적으면 금액이 자동으로 계산됩니다.
B6: 3. 납기일을 꼭 적습니다. 납기일이 지났으면 '지연'(빨강), 오늘부터 임박 기준(L1, 처음 1일) 안이면 '임박'(주황)으로 표시됩니다.
B7: 4. 출고·납품하면 처리상태를 바꿉니다. 납품완료·취소는 회색으로 바뀌고 지연·임박 표시에서 빠집니다.
B8: 5. 같은 주문이 팩스와 카톡으로 두 번 오면 거래처·납기가 같은 줄을 확인하고 하나를 '취소'로 바꿉니다. 수량·배송일 변경은 원래 줄을 고치고 특이사항에 받은 시각을 적습니다.
B9: 6. '품목별 집계' 시트에서 기간을 정하면 품목별 주문 줄 수·수량·금액·미납 수량이 나옵니다. '단위 섞임'이 뜨면 단위를 맞춥니다.
B11: 종이 원본은 법정 기간 동안 그대로 보관하세요. 시트는 찾기·집계·대조용 사본입니다.
B12: 카카오톡 캡처에는 다른 대화나 개인 연락처가 함께 담길 수 있습니다. 원본 위치에는 파일 이름이나 팩스철 위치만 적고, 대장은 필요한 사람에게만 공유하세요.
B14: 팩스·카톡·메일 주문서를 대장에 옮겨 적고 있다면
B15: AiutoForm은 주문서 사진·캡처(유료 AI)와 Gmail·Google Workspace 주문 메일을 읽어 고객발주 시트(수주대장)에 거래처·품목·수량·납기·배송지를 한 줄씩 쌓고, 납기일을 Google 캘린더에 올립니다. 카카오톡과 연동되지는 않습니다.
B16: 팩스·카톡 주문서 정리 가이드: https://aiutoform.co.kr/guide/fax-order-to-excel
B17: 가입 없이 데모로 확인: https://aiutoform.co.kr/demo
