Workbook

Sheet 주문 접수 대장
A1: 주문 접수 대장 | D1: 납기 지연 | E1: =COUNTIF($P$4:$P$503,"지연") | F1: 납기 임박 | G1: =COUNTIF($P$4:$P$503,"임박") | H1: 진행 중 | I1: =COUNTIFS($D$4:$D$503,"<>",$O$4:$O$503,"<>납품완료",$O$4:$O$503,"<>취소") | K1: 임박 기준 | L1: 1 | M1: 품목 한 줄에 한 줄. 납기일이 지났으면 '지연'(빨강), 오늘부터 임박 기준 안이면 '임박'(주황). 납품완료·취소는 빠집니다.
A2: 합계 | B2: =SUBTOTAL(103,D4:D503)&"건" | K2: =SUBTOTAL(109,K4:K503)
A3: 수신일 | B3: 수신시각 | C3: 접수 경로 | D3: 거래처 | E3: 발주번호 | F3: 품목 | G3: 규격 | H3: 수량 | I3: 단위 | J3: 단가 | K3: 금액(자동) | L3: 납기일 | M3: 배송지 | N3: 특이사항 | O3: 처리상태 | P3: 납기 표시(자동) | Q3: 접수자 | R3: 원본 위치 | S3: 품목 순번
K4: =IF(OR(H4="",J4=""),"",H4*J4) | P4: =IF(OR(L4="",D4="",O4="납품완료",O4="취소"),"",IF(L4<TODAY(),"지연",IF(L4-TODAY()<=$L$1,"임박",""))) | S4: =IF(F4="","",IF(COUNTIF(F$4:F4,F4)=1,MAX(S$3:S3)+1,""))
K5: =IF(OR(H5="",J5=""),"",H5*J5) | P5: =IF(OR(L5="",D5="",O5="납품완료",O5="취소"),"",IF(L5<TODAY(),"지연",IF(L5-TODAY()<=$L$1,"임박",""))) | S5: =IF(F5="","",IF(COUNTIF(F$4:F5,F5)=1,MAX(S$3:S4)+1,""))
K6: =IF(OR(H6="",J6=""),"",H6*J6) | P6: =IF(OR(L6="",D6="",O6="납품완료",O6="취소"),"",IF(L6<TODAY(),"지연",IF(L6-TODAY()<=$L$1,"임박",""))) | S6: =IF(F6="","",IF(COUNTIF(F$4:F6,F6)=1,MAX(S$3:S5)+1,""))
K7: =IF(OR(H7="",J7=""),"",H7*J7) | P7: =IF(OR(L7="",D7="",O7="납품완료",O7="취소"),"",IF(L7<TODAY(),"지연",IF(L7-TODAY()<=$L$1,"임박",""))) | S7: =IF(F7="","",IF(COUNTIF(F$4:F7,F7)=1,MAX(S$3:S6)+1,""))
K8: =IF(OR(H8="",J8=""),"",H8*J8) | P8: =IF(OR(L8="",D8="",O8="납품완료",O8="취소"),"",IF(L8<TODAY(),"지연",IF(L8-TODAY()<=$L$1,"임박",""))) | S8: =IF(F8="","",IF(COUNTIF(F$4:F8,F8)=1,MAX(S$3:S7)+1,""))
K9: =IF(OR(H9="",J9=""),"",H9*J9) | P9: =IF(OR(L9="",D9="",O9="납품완료",O9="취소"),"",IF(L9<TODAY(),"지연",IF(L9-TODAY()<=$L$1,"임박",""))) | S9: =IF(F9="","",IF(COUNTIF(F$4:F9,F9)=1,MAX(S$3:S8)+1,""))
K10: =IF(OR(H10="",J10=""),"",H10*J10) | P10: =IF(OR(L10="",D10="",O10="납품완료",O10="취소"),"",IF(L10<TODAY(),"지연",IF(L10-TODAY()<=$L$1,"임박",""))) | S10: =IF(F10="","",IF(COUNTIF(F$4:F10,F10)=1,MAX(S$3:S9)+1,""))
K11: =IF(OR(H11="",J11=""),"",H11*J11) | P11: =IF(OR(L11="",D11="",O11="납품완료",O11="취소"),"",IF(L11<TODAY(),"지연",IF(L11-TODAY()<=$L$1,"임박",""))) | S11: =IF(F11="","",IF(COUNTIF(F$4:F11,F11)=1,MAX(S$3:S10)+1,""))
K12: =IF(OR(H12="",J12=""),"",H12*J12) | P12: =IF(OR(L12="",D12="",O12="납품완료",O12="취소"),"",IF(L12<TODAY(),"지연",IF(L12-TODAY()<=$L$1,"임박",""))) | S12: =IF(F12="","",IF(COUNTIF(F$4:F12,F12)=1,MAX(S$3:S11)+1,""))
K13: =IF(OR(H13="",J13=""),"",H13*J13) | P13: =IF(OR(L13="",D13="",O13="납품완료",O13="취소"),"",IF(L13<TODAY(),"지연",IF(L13-TODAY()<=$L$1,"임박",""))) | S13: =IF(F13="","",IF(COUNTIF(F$4:F13,F13)=1,MAX(S$3:S12)+1,""))
K14: =IF(OR(H14="",J14=""),"",H14*J14) | P14: =IF(OR(L14="",D14="",O14="납품완료",O14="취소"),"",IF(L14<TODAY(),"지연",IF(L14-TODAY()<=$L$1,"임박",""))) | S14: =IF(F14="","",IF(COUNTIF(F$4:F14,F14)=1,MAX(S$3:S13)+1,""))
K15: =IF(OR(H15="",J15=""),"",H15*J15) | P15: =IF(OR(L15="",D15="",O15="납품완료",O15="취소"),"",IF(L15<TODAY(),"지연",IF(L15-TODAY()<=$L$1,"임박",""))) | S15: =IF(F15="","",IF(COUNTIF(F$4:F15,F15)=1,MAX(S$3:S14)+1,""))
... K503: =IF(OR(H503="",J503=""),"",H503*J503) | P503: =IF(OR(L503="",D503="",O503="납품완료",O503="취소"),"",IF(L503<TODAY(),"지연",IF(L503-TODAY()<=$L$1,"임박",""))) | S503: =IF(F503="","",IF(COUNTIF(F$4:F503,F503)=1,MAX(S$3:S502)+1,""))

Sheet 품목별 집계
A1: 품목별 집계
A2: '주문 접수 대장' 시트에서 자동으로 계산합니다. 품목은 대장에 처음 나온 순서대로 채워집니다. 기간은 수신일 기준입니다.
A3: 기간 (수신일) | B3: =DATE(YEAR(TODAY()),MONTH(TODAY()),1) | C3: ~ | D3: =DATE(YEAR(TODAY()),MONTH(TODAY())+1,1)-1 | F3: 처음에는 이번 달입니다. 날짜를 직접 적어 바꿉니다.
A5: 품목 | B5: 규격(첫 줄) | C5: 단위 | D5: 주문 줄 수 | E5: 수량 합계 | F5: 금액 합계 | G5: 미납 수량 | H5: 지연 | I5: 취소 | J5: 단위 확인
A6: =IFERROR(INDEX('주문 접수 대장'!$F$4:$F$503,MATCH(1,'주문 접수 대장'!$S$4:$S$503,0)),"") | B6: =IF($A6="","",INDEX('주문 접수 대장'!$G$4:$G$503,MATCH($A6,'주문 접수 대장'!$F$4:$F$503,0))&"") | C6: =IF($A6="","",INDEX('주문 접수 대장'!$I$4:$I$503,MATCH($A6,'주문 접수 대장'!$F$4:$F$503,0))&"") | D6: =IF($A6="","",COUNTIFS('주문 접수 대장'!$F$4:$F$503,$A6,'주문 접수 대장'!$A$4:$A$503,">="&$B$3,'주문 접수 대장'!$A$4:$A$503,"<="&$D$3)) | E6: =IF($A6="","",SUMIFS('주문 접수 대장'!$H$4:$H$503,'주문 접수 대장'!$F$4:$F$503,$A6,'주문 접수 대장'!$A$4:$A$503,">="&$B$3,'주문 접수 대장'!$A$4:$A$503,"<="&$D$3)) | F6: =IF($A6="","",SUMIFS('주문 접수 대장'!$K$4:$K$503,'주문 접수 대장'!$F$4:$F$503,$A6,'주문 접수 대장'!$A$4:$A$503,">="&$B$3,'주문 접수 대장'!$A$4:$A$503,"<="&$D$3)) | G6: =IF($A6="","",SUMIFS('주문 접수 대장'!$H$4:$H$503,'주문 접수 대장'!$F$4:$F$503,$A6,'주문 접수 대장'!$A$4:$A$503,">="&$B$3,'주문 접수 대장'!$A$4:$A$503,"<="&$D$3,'주문 접수 대장'!$O$4:$O$503,"<>납품완료",'주문 접수 대장'!$O$4:$O$503,"<>취소")) | H6: =IF($A6="","",COUNTIFS('주문 접수 대장'!$F$4:$F$503,$A6,'주문 접수 대장'!$A$4:$A$503,">="&$B$3,'주문 접수 대장'!$A$4:$A$503,"<="&$D$3,'주문 접수 대장'!$P$4:$P$503,"지연")) | I6: =IF($A6="","",COUNTIFS('주문 접수 대장'!$F$4:$F$503,$A6,'주문 접수 대장'!$A$4:$A$503,">="&$B$3,'주문 접수 대장'!$A$4:$A$503,"<="&$D$3,'주문 접수 대장'!$O$4:$O$503,"취소")) | J6: =IF($A6="","",IF(COUNTIFS('주문 접수 대장'!$F$4:$F$503,$A6,'주문 접수 대장'!$I$4:$I$503,"<>"&C6)>0,"단위 섞임",""))
A7: =IFERROR(INDEX('주문 접수 대장'!$F$4:$F$503,MATCH(2,'주문 접수 대장'!$S$4:$S$503,0)),"") | B7: =IF($A7="","",INDEX('주문 접수 대장'!$G$4:$G$503,MATCH($A7,'주문 접수 대장'!$F$4:$F$503,0))&"") | C7: =IF($A7="","",INDEX('주문 접수 대장'!$I$4:$I$503,MATCH($A7,'주문 접수 대장'!$F$4:$F$503,0))&"") | D7: =IF($A7="","",COUNTIFS('주문 접수 대장'!$F$4:$F$503,$A7,'주문 접수 대장'!$A$4:$A$503,">="&$B$3,'주문 접수 대장'!$A$4:$A$503,"<="&$D$3)) | E7: =IF($A7="","",SUMIFS('주문 접수 대장'!$H$4:$H$503,'주문 접수 대장'!$F$4:$F$503,$A7,'주문 접수 대장'!$A$4:$A$503,">="&$B$3,'주문 접수 대장'!$A$4:$A$503,"<="&$D$3)) | F7: =IF($A7="","",SUMIFS('주문 접수 대장'!$K$4:$K$503,'주문 접수 대장'!$F$4:$F$503,$A7,'주문 접수 대장'!$A$4:$A$503,">="&$B$3,'주문 접수 대장'!$A$4:$A$503,"<="&$D$3)) | G7: =IF($A7="","",SUMIFS('주문 접수 대장'!$H$4:$H$503,'주문 접수 대장'!$F$4:$F$503,$A7,'주문 접수 대장'!$A$4:$A$503,">="&$B$3,'주문 접수 대장'!$A$4:$A$503,"<="&$D$3,'주문 접수 대장'!$O$4:$O$503,"<>납품완료",'주문 접수 대장'!$O$4:$O$503,"<>취소")) | H7: =IF($A7="","",COUNTIFS('주문 접수 대장'!$F$4:$F$503,$A7,'주문 접수 대장'!$A$4:$A$503,">="&$B$3,'주문 접수 대장'!$A$4:$A$503,"<="&$D$3,'주문 접수 대장'!$P$4:$P$503,"지연")) | I7: =IF($A7="","",COUNTIFS('주문 접수 대장'!$F$4:$F$503,$A7,'주문 접수 대장'!$A$4:$A$503,">="&$B$3,'주문 접수 대장'!$A$4:$A$503,"<="&$D$3,'주문 접수 대장'!$O$4:$O$503,"취소")) | J7: =IF($A7="","",IF(COUNTIFS('주문 접수 대장'!$F$4:$F$503,$A7,'주문 접수 대장'!$I$4:$I$503,"<>"&C7)>0,"단위 섞임",""))
A8: =IFERROR(INDEX('주문 접수 대장'!$F$4:$F$503,MATCH(3,'주문 접수 대장'!$S$4:$S$503,0)),"") | B8: =IF($A8="","",INDEX('주문 접수 대장'!$G$4:$G$503,MATCH($A8,'주문 접수 대장'!$F$4:$F$503,0))&"") | C8: =IF($A8="","",INDEX('주문 접수 대장'!$I$4:$I$503,MATCH($A8,'주문 접수 대장'!$F$4:$F$503,0))&"") | D8: =IF($A8="","",COUNTIFS('주문 접수 대장'!$F$4:$F$503,$A8,'주문 접수 대장'!$A$4:$A$503,">="&$B$3,'주문 접수 대장'!$A$4:$A$503,"<="&$D$3)) | E8: =IF($A8="","",SUMIFS('주문 접수 대장'!$H$4:$H$503,'주문 접수 대장'!$F$4:$F$503,$A8,'주문 접수 대장'!$A$4:$A$503,">="&$B$3,'주문 접수 대장'!$A$4:$A$503,"<="&$D$3)) | F8: =IF($A8="","",SUMIFS('주문 접수 대장'!$K$4:$K$503,'주문 접수 대장'!$F$4:$F$503,$A8,'주문 접수 대장'!$A$4:$A$503,">="&$B$3,'주문 접수 대장'!$A$4:$A$503,"<="&$D$3)) | G8: =IF($A8="","",SUMIFS('주문 접수 대장'!$H$4:$H$503,'주문 접수 대장'!$F$4:$F$503,$A8,'주문 접수 대장'!$A$4:$A$503,">="&$B$3,'주문 접수 대장'!$A$4:$A$503,"<="&$D$3,'주문 접수 대장'!$O$4:$O$503,"<>납품완료",'주문 접수 대장'!$O$4:$O$503,"<>취소")) | H8: =IF($A8="","",COUNTIFS('주문 접수 대장'!$F$4:$F$503,$A8,'주문 접수 대장'!$A$4:$A$503,">="&$B$3,'주문 접수 대장'!$A$4:$A$503,"<="&$D$3,'주문 접수 대장'!$P$4:$P$503,"지연")) | I8: =IF($A8="","",COUNTIFS('주문 접수 대장'!$F$4:$F$503,$A8,'주문 접수 대장'!$A$4:$A$503,">="&$B$3,'주문 접수 대장'!$A$4:$A$503,"<="&$D$3,'주문 접수 대장'!$O$4:$O$503,"취소")) | J8: =IF($A8="","",IF(COUNTIFS('주문 접수 대장'!$F$4:$F$503,$A8,'주문 접수 대장'!$I$4:$I$503,"<>"&C8)>0,"단위 섞임",""))
A9: =IFERROR(INDEX('주문 접수 대장'!$F$4:$F$503,MATCH(4,'주문 접수 대장'!$S$4:$S$503,0)),"") | B9: =IF($A9="","",INDEX('주문 접수 대장'!$G$4:$G$503,MATCH($A9,'주문 접수 대장'!$F$4:$F$503,0))&"") | C9: =IF($A9="","",INDEX('주문 접수 대장'!$I$4:$I$503,MATCH($A9,'주문 접수 대장'!$F$4:$F$503,0))&"") | D9: =IF($A9="","",COUNTIFS('주문 접수 대장'!$F$4:$F$503,$A9,'주문 접수 대장'!$A$4:$A$503,">="&$B$3,'주문 접수 대장'!$A$4:$A$503,"<="&$D$3)) | E9: =IF($A9="","",SUMIFS('주문 접수 대장'!$H$4:$H$503,'주문 접수 대장'!$F$4:$F$503,$A9,'주문 접수 대장'!$A$4:$A$503,">="&$B$3,'주문 접수 대장'!$A$4:$A$503,"<="&$D$3)) | F9: =IF($A9="","",SUMIFS('주문 접수 대장'!$K$4:$K$503,'주문 접수 대장'!$F$4:$F$503,$A9,'주문 접수 대장'!$A$4:$A$503,">="&$B$3,'주문 접수 대장'!$A$4:$A$503,"<="&$D$3)) | G9: =IF($A9="","",SUMIFS('주문 접수 대장'!$H$4:$H$503,'주문 접수 대장'!$F$4:$F$503,$A9,'주문 접수 대장'!$A$4:$A$503,">="&$B$3,'주문 접수 대장'!$A$4:$A$503,"<="&$D$3,'주문 접수 대장'!$O$4:$O$503,"<>납품완료",'주문 접수 대장'!$O$4:$O$503,"<>취소")) | H9: =IF($A9="","",COUNTIFS('주문 접수 대장'!$F$4:$F$503,$A9,'주문 접수 대장'!$A$4:$A$503,">="&$B$3,'주문 접수 대장'!$A$4:$A$503,"<="&$D$3,'주문 접수 대장'!$P$4:$P$503,"지연")) | I9: =IF($A9="","",COUNTIFS('주문 접수 대장'!$F$4:$F$503,$A9,'주문 접수 대장'!$A$4:$A$503,">="&$B$3,'주문 접수 대장'!$A$4:$A$503,"<="&$D$3,'주문 접수 대장'!$O$4:$O$503,"취소")) | J9: =IF($A9="","",IF(COUNTIFS('주문 접수 대장'!$F$4:$F$503,$A9,'주문 접수 대장'!$I$4:$I$503,"<>"&C9)>0,"단위 섞임",""))
A10: =IFERROR(INDEX('주문 접수 대장'!$F$4:$F$503,MATCH(5,'주문 접수 대장'!$S$4:$S$503,0)),"") | B10: =IF($A10="","",INDEX('주문 접수 대장'!$G$4:$G$503,MATCH($A10,'주문 접수 대장'!$F$4:$F$503,0))&"") | C10: =IF($A10="","",INDEX('주문 접수 대장'!$I$4:$I$503,MATCH($A10,'주문 접수 대장'!$F$4:$F$503,0))&"") | D10: =IF($A10="","",COUNTIFS('주문 접수 대장'!$F$4:$F$503,$A10,'주문 접수 대장'!$A$4:$A$503,">="&$B$3,'주문 접수 대장'!$A$4:$A$503,"<="&$D$3)) | E10: =IF($A10="","",SUMIFS('주문 접수 대장'!$H$4:$H$503,'주문 접수 대장'!$F$4:$F$503,$A10,'주문 접수 대장'!$A$4:$A$503,">="&$B$3,'주문 접수 대장'!$A$4:$A$503,"<="&$D$3)) | F10: =IF($A10="","",SUMIFS('주문 접수 대장'!$K$4:$K$503,'주문 접수 대장'!$F$4:$F$503,$A10,'주문 접수 대장'!$A$4:$A$503,">="&$B$3,'주문 접수 대장'!$A$4:$A$503,"<="&$D$3)) | G10: =IF($A10="","",SUMIFS('주문 접수 대장'!$H$4:$H$503,'주문 접수 대장'!$F$4:$F$503,$A10,'주문 접수 대장'!$A$4:$A$503,">="&$B$3,'주문 접수 대장'!$A$4:$A$503,"<="&$D$3,'주문 접수 대장'!$O$4:$O$503,"<>납품완료",'주문 접수 대장'!$O$4:$O$503,"<>취소")) | H10: =IF($A10="","",COUNTIFS('주문 접수 대장'!$F$4:$F$503,$A10,'주문 접수 대장'!$A$4:$A$503,">="&$B$3,'주문 접수 대장'!$A$4:$A$503,"<="&$D$3,'주문 접수 대장'!$P$4:$P$503,"지연")) | I10: =IF($A10="","",COUNTIFS('주문 접수 대장'!$F$4:$F$503,$A10,'주문 접수 대장'!$A$4:$A$503,">="&$B$3,'주문 접수 대장'!$A$4:$A$503,"<="&$D$3,'주문 접수 대장'!$O$4:$O$503,"취소")) | J10: =IF($A10="","",IF(COUNTIFS('주문 접수 대장'!$F$4:$F$503,$A10,'주문 접수 대장'!$I$4:$I$503,"<>"&C10)>0,"단위 섞임",""))
A11: =IFERROR(INDEX('주문 접수 대장'!$F$4:$F$503,MATCH(6,'주문 접수 대장'!$S$4:$S$503,0)),"") | B11: =IF($A11="","",INDEX('주문 접수 대장'!$G$4:$G$503,MATCH($A11,'주문 접수 대장'!$F$4:$F$503,0))&"") | C11: =IF($A11="","",INDEX('주문 접수 대장'!$I$4:$I$503,MATCH($A11,'주문 접수 대장'!$F$4:$F$503,0))&"") | D11: =IF($A11="","",COUNTIFS('주문 접수 대장'!$F$4:$F$503,$A11,'주문 접수 대장'!$A$4:$A$503,">="&$B$3,'주문 접수 대장'!$A$4:$A$503,"<="&$D$3)) | E11: =IF($A11="","",SUMIFS('주문 접수 대장'!$H$4:$H$503,'주문 접수 대장'!$F$4:$F$503,$A11,'주문 접수 대장'!$A$4:$A$503,">="&$B$3,'주문 접수 대장'!$A$4:$A$503,"<="&$D$3)) | F11: =IF($A11="","",SUMIFS('주문 접수 대장'!$K$4:$K$503,'주문 접수 대장'!$F$4:$F$503,$A11,'주문 접수 대장'!$A$4:$A$503,">="&$B$3,'주문 접수 대장'!$A$4:$A$503,"<="&$D$3)) | G11: =IF($A11="","",SUMIFS('주문 접수 대장'!$H$4:$H$503,'주문 접수 대장'!$F$4:$F$503,$A11,'주문 접수 대장'!$A$4:$A$503,">="&$B$3,'주문 접수 대장'!$A$4:$A$503,"<="&$D$3,'주문 접수 대장'!$O$4:$O$503,"<>납품완료",'주문 접수 대장'!$O$4:$O$503,"<>취소")) | H11: =IF($A11="","",COUNTIFS('주문 접수 대장'!$F$4:$F$503,$A11,'주문 접수 대장'!$A$4:$A$503,">="&$B$3,'주문 접수 대장'!$A$4:$A$503,"<="&$D$3,'주문 접수 대장'!$P$4:$P$503,"지연")) | I11: =IF($A11="","",COUNTIFS('주문 접수 대장'!$F$4:$F$503,$A11,'주문 접수 대장'!$A$4:$A$503,">="&$B$3,'주문 접수 대장'!$A$4:$A$503,"<="&$D$3,'주문 접수 대장'!$O$4:$O$503,"취소")) | J11: =IF($A11="","",IF(COUNTIFS('주문 접수 대장'!$F$4:$F$503,$A11,'주문 접수 대장'!$I$4:$I$503,"<>"&C11)>0,"단위 섞임",""))
A12: =IFERROR(INDEX('주문 접수 대장'!$F$4:$F$503,MATCH(7,'주문 접수 대장'!$S$4:$S$503,0)),"") | B12: =IF($A12="","",INDEX('주문 접수 대장'!$G$4:$G$503,MATCH($A12,'주문 접수 대장'!$F$4:$F$503,0))&"") | C12: =IF($A12="","",INDEX('주문 접수 대장'!$I$4:$I$503,MATCH($A12,'주문 접수 대장'!$F$4:$F$503,0))&"") | D12: =IF($A12="","",COUNTIFS('주문 접수 대장'!$F$4:$F$503,$A12,'주문 접수 대장'!$A$4:$A$503,">="&$B$3,'주문 접수 대장'!$A$4:$A$503,"<="&$D$3)) | E12: =IF($A12="","",SUMIFS('주문 접수 대장'!$H$4:$H$503,'주문 접수 대장'!$F$4:$F$503,$A12,'주문 접수 대장'!$A$4:$A$503,">="&$B$3,'주문 접수 대장'!$A$4:$A$503,"<="&$D$3)) | F12: =IF($A12="","",SUMIFS('주문 접수 대장'!$K$4:$K$503,'주문 접수 대장'!$F$4:$F$503,$A12,'주문 접수 대장'!$A$4:$A$503,">="&$B$3,'주문 접수 대장'!$A$4:$A$503,"<="&$D$3)) | G12: =IF($A12="","",SUMIFS('주문 접수 대장'!$H$4:$H$503,'주문 접수 대장'!$F$4:$F$503,$A12,'주문 접수 대장'!$A$4:$A$503,">="&$B$3,'주문 접수 대장'!$A$4:$A$503,"<="&$D$3,'주문 접수 대장'!$O$4:$O$503,"<>납품완료",'주문 접수 대장'!$O$4:$O$503,"<>취소")) | H12: =IF($A12="","",COUNTIFS('주문 접수 대장'!$F$4:$F$503,$A12,'주문 접수 대장'!$A$4:$A$503,">="&$B$3,'주문 접수 대장'!$A$4:$A$503,"<="&$D$3,'주문 접수 대장'!$P$4:$P$503,"지연")) | I12: =IF($A12="","",COUNTIFS('주문 접수 대장'!$F$4:$F$503,$A12,'주문 접수 대장'!$A$4:$A$503,">="&$B$3,'주문 접수 대장'!$A$4:$A$503,"<="&$D$3,'주문 접수 대장'!$O$4:$O$503,"취소")) | J12: =IF($A12="","",IF(COUNTIFS('주문 접수 대장'!$F$4:$F$503,$A12,'주문 접수 대장'!$I$4:$I$503,"<>"&C12)>0,"단위 섞임",""))
A13: =IFERROR(INDEX('주문 접수 대장'!$F$4:$F$503,MATCH(8,'주문 접수 대장'!$S$4:$S$503,0)),"") | B13: =IF($A13="","",INDEX('주문 접수 대장'!$G$4:$G$503,MATCH($A13,'주문 접수 대장'!$F$4:$F$503,0))&"") | C13: =IF($A13="","",INDEX('주문 접수 대장'!$I$4:$I$503,MATCH($A13,'주문 접수 대장'!$F$4:$F$503,0))&"") | D13: =IF($A13="","",COUNTIFS('주문 접수 대장'!$F$4:$F$503,$A13,'주문 접수 대장'!$A$4:$A$503,">="&$B$3,'주문 접수 대장'!$A$4:$A$503,"<="&$D$3)) | E13: =IF($A13="","",SUMIFS('주문 접수 대장'!$H$4:$H$503,'주문 접수 대장'!$F$4:$F$503,$A13,'주문 접수 대장'!$A$4:$A$503,">="&$B$3,'주문 접수 대장'!$A$4:$A$503,"<="&$D$3)) | F13: =IF($A13="","",SUMIFS('주문 접수 대장'!$K$4:$K$503,'주문 접수 대장'!$F$4:$F$503,$A13,'주문 접수 대장'!$A$4:$A$503,">="&$B$3,'주문 접수 대장'!$A$4:$A$503,"<="&$D$3)) | G13: =IF($A13="","",SUMIFS('주문 접수 대장'!$H$4:$H$503,'주문 접수 대장'!$F$4:$F$503,$A13,'주문 접수 대장'!$A$4:$A$503,">="&$B$3,'주문 접수 대장'!$A$4:$A$503,"<="&$D$3,'주문 접수 대장'!$O$4:$O$503,"<>납품완료",'주문 접수 대장'!$O$4:$O$503,"<>취소")) | H13: =IF($A13="","",COUNTIFS('주문 접수 대장'!$F$4:$F$503,$A13,'주문 접수 대장'!$A$4:$A$503,">="&$B$3,'주문 접수 대장'!$A$4:$A$503,"<="&$D$3,'주문 접수 대장'!$P$4:$P$503,"지연")) | I13: =IF($A13="","",COUNTIFS('주문 접수 대장'!$F$4:$F$503,$A13,'주문 접수 대장'!$A$4:$A$503,">="&$B$3,'주문 접수 대장'!$A$4:$A$503,"<="&$D$3,'주문 접수 대장'!$O$4:$O$503,"취소")) | J13: =IF($A13="","",IF(COUNTIFS('주문 접수 대장'!$F$4:$F$503,$A13,'주문 접수 대장'!$I$4:$I$503,"<>"&C13)>0,"단위 섞임",""))
A14: =IFERROR(INDEX('주문 접수 대장'!$F$4:$F$503,MATCH(9,'주문 접수 대장'!$S$4:$S$503,0)),"") | B14: =IF($A14="","",INDEX('주문 접수 대장'!$G$4:$G$503,MATCH($A14,'주문 접수 대장'!$F$4:$F$503,0))&"") | C14: =IF($A14="","",INDEX('주문 접수 대장'!$I$4:$I$503,MATCH($A14,'주문 접수 대장'!$F$4:$F$503,0))&"") | D14: =IF($A14="","",COUNTIFS('주문 접수 대장'!$F$4:$F$503,$A14,'주문 접수 대장'!$A$4:$A$503,">="&$B$3,'주문 접수 대장'!$A$4:$A$503,"<="&$D$3)) | E14: =IF($A14="","",SUMIFS('주문 접수 대장'!$H$4:$H$503,'주문 접수 대장'!$F$4:$F$503,$A14,'주문 접수 대장'!$A$4:$A$503,">="&$B$3,'주문 접수 대장'!$A$4:$A$503,"<="&$D$3)) | F14: =IF($A14="","",SUMIFS('주문 접수 대장'!$K$4:$K$503,'주문 접수 대장'!$F$4:$F$503,$A14,'주문 접수 대장'!$A$4:$A$503,">="&$B$3,'주문 접수 대장'!$A$4:$A$503,"<="&$D$3)) | G14: =IF($A14="","",SUMIFS('주문 접수 대장'!$H$4:$H$503,'주문 접수 대장'!$F$4:$F$503,$A14,'주문 접수 대장'!$A$4:$A$503,">="&$B$3,'주문 접수 대장'!$A$4:$A$503,"<="&$D$3,'주문 접수 대장'!$O$4:$O$503,"<>납품완료",'주문 접수 대장'!$O$4:$O$503,"<>취소")) | H14: =IF($A14="","",COUNTIFS('주문 접수 대장'!$F$4:$F$503,$A14,'주문 접수 대장'!$A$4:$A$503,">="&$B$3,'주문 접수 대장'!$A$4:$A$503,"<="&$D$3,'주문 접수 대장'!$P$4:$P$503,"지연")) | I14: =IF($A14="","",COUNTIFS('주문 접수 대장'!$F$4:$F$503,$A14,'주문 접수 대장'!$A$4:$A$503,">="&$B$3,'주문 접수 대장'!$A$4:$A$503,"<="&$D$3,'주문 접수 대장'!$O$4:$O$503,"취소")) | J14: =IF($A14="","",IF(COUNTIFS('주문 접수 대장'!$F$4:$F$503,$A14,'주문 접수 대장'!$I$4:$I$503,"<>"&C14)>0,"단위 섞임",""))
A15: =IFERROR(INDEX('주문 접수 대장'!$F$4:$F$503,MATCH(10,'주문 접수 대장'!$S$4:$S$503,0)),"") | B15: =IF($A15="","",INDEX('주문 접수 대장'!$G$4:$G$503,MATCH($A15,'주문 접수 대장'!$F$4:$F$503,0))&"") | C15: =IF($A15="","",INDEX('주문 접수 대장'!$I$4:$I$503,MATCH($A15,'주문 접수 대장'!$F$4:$F$503,0))&"") | D15: =IF($A15="","",COUNTIFS('주문 접수 대장'!$F$4:$F$503,$A15,'주문 접수 대장'!$A$4:$A$503,">="&$B$3,'주문 접수 대장'!$A$4:$A$503,"<="&$D$3)) | E15: =IF($A15="","",SUMIFS('주문 접수 대장'!$H$4:$H$503,'주문 접수 대장'!$F$4:$F$503,$A15,'주문 접수 대장'!$A$4:$A$503,">="&$B$3,'주문 접수 대장'!$A$4:$A$503,"<="&$D$3)) | F15: =IF($A15="","",SUMIFS('주문 접수 대장'!$K$4:$K$503,'주문 접수 대장'!$F$4:$F$503,$A15,'주문 접수 대장'!$A$4:$A$503,">="&$B$3,'주문 접수 대장'!$A$4:$A$503,"<="&$D$3)) | G15: =IF($A15="","",SUMIFS('주문 접수 대장'!$H$4:$H$503,'주문 접수 대장'!$F$4:$F$503,$A15,'주문 접수 대장'!$A$4:$A$503,">="&$B$3,'주문 접수 대장'!$A$4:$A$503,"<="&$D$3,'주문 접수 대장'!$O$4:$O$503,"<>납품완료",'주문 접수 대장'!$O$4:$O$503,"<>취소")) | H15: =IF($A15="","",COUNTIFS('주문 접수 대장'!$F$4:$F$503,$A15,'주문 접수 대장'!$A$4:$A$503,">="&$B$3,'주문 접수 대장'!$A$4:$A$503,"<="&$D$3,'주문 접수 대장'!$P$4:$P$503,"지연")) | I15: =IF($A15="","",COUNTIFS('주문 접수 대장'!$F$4:$F$503,$A15,'주문 접수 대장'!$A$4:$A$503,">="&$B$3,'주문 접수 대장'!$A$4:$A$503,"<="&$D$3,'주문 접수 대장'!$O$4:$O$503,"취소")) | J15: =IF($A15="","",IF(COUNTIFS('주문 접수 대장'!$F$4:$F$503,$A15,'주문 접수 대장'!$I$4:$I$503,"<>"&C15)>0,"단위 섞임",""))
A16: =IFERROR(INDEX('주문 접수 대장'!$F$4:$F$503,MATCH(11,'주문 접수 대장'!$S$4:$S$503,0)),"") | B16: =IF($A16="","",INDEX('주문 접수 대장'!$G$4:$G$503,MATCH($A16,'주문 접수 대장'!$F$4:$F$503,0))&"") | C16: =IF($A16="","",INDEX('주문 접수 대장'!$I$4:$I$503,MATCH($A16,'주문 접수 대장'!$F$4:$F$503,0))&"") | D16: =IF($A16="","",COUNTIFS('주문 접수 대장'!$F$4:$F$503,$A16,'주문 접수 대장'!$A$4:$A$503,">="&$B$3,'주문 접수 대장'!$A$4:$A$503,"<="&$D$3)) | E16: =IF($A16="","",SUMIFS('주문 접수 대장'!$H$4:$H$503,'주문 접수 대장'!$F$4:$F$503,$A16,'주문 접수 대장'!$A$4:$A$503,">="&$B$3,'주문 접수 대장'!$A$4:$A$503,"<="&$D$3)) | F16: =IF($A16="","",SUMIFS('주문 접수 대장'!$K$4:$K$503,'주문 접수 대장'!$F$4:$F$503,$A16,'주문 접수 대장'!$A$4:$A$503,">="&$B$3,'주문 접수 대장'!$A$4:$A$503,"<="&$D$3)) | G16: =IF($A16="","",SUMIFS('주문 접수 대장'!$H$4:$H$503,'주문 접수 대장'!$F$4:$F$503,$A16,'주문 접수 대장'!$A$4:$A$503,">="&$B$3,'주문 접수 대장'!$A$4:$A$503,"<="&$D$3,'주문 접수 대장'!$O$4:$O$503,"<>납품완료",'주문 접수 대장'!$O$4:$O$503,"<>취소")) | H16: =IF($A16="","",COUNTIFS('주문 접수 대장'!$F$4:$F$503,$A16,'주문 접수 대장'!$A$4:$A$503,">="&$B$3,'주문 접수 대장'!$A$4:$A$503,"<="&$D$3,'주문 접수 대장'!$P$4:$P$503,"지연")) | I16: =IF($A16="","",COUNTIFS('주문 접수 대장'!$F$4:$F$503,$A16,'주문 접수 대장'!$A$4:$A$503,">="&$B$3,'주문 접수 대장'!$A$4:$A$503,"<="&$D$3,'주문 접수 대장'!$O$4:$O$503,"취소")) | J16: =IF($A16="","",IF(COUNTIFS('주문 접수 대장'!$F$4:$F$503,$A16,'주문 접수 대장'!$I$4:$I$503,"<>"&C16)>0,"단위 섞임",""))
A17: =IFERROR(INDEX('주문 접수 대장'!$F$4:$F$503,MATCH(12,'주문 접수 대장'!$S$4:$S$503,0)),"") | B17: =IF($A17="","",INDEX('주문 접수 대장'!$G$4:$G$503,MATCH($A17,'주문 접수 대장'!$F$4:$F$503,0))&"") | C17: =IF($A17="","",INDEX('주문 접수 대장'!$I$4:$I$503,MATCH($A17,'주문 접수 대장'!$F$4:$F$503,0))&"") | D17: =IF($A17="","",COUNTIFS('주문 접수 대장'!$F$4:$F$503,$A17,'주문 접수 대장'!$A$4:$A$503,">="&$B$3,'주문 접수 대장'!$A$4:$A$503,"<="&$D$3)) | E17: =IF($A17="","",SUMIFS('주문 접수 대장'!$H$4:$H$503,'주문 접수 대장'!$F$4:$F$503,$A17,'주문 접수 대장'!$A$4:$A$503,">="&$B$3,'주문 접수 대장'!$A$4:$A$503,"<="&$D$3)) | F17: =IF($A17="","",SUMIFS('주문 접수 대장'!$K$4:$K$503,'주문 접수 대장'!$F$4:$F$503,$A17,'주문 접수 대장'!$A$4:$A$503,">="&$B$3,'주문 접수 대장'!$A$4:$A$503,"<="&$D$3)) | G17: =IF($A17="","",SUMIFS('주문 접수 대장'!$H$4:$H$503,'주문 접수 대장'!$F$4:$F$503,$A17,'주문 접수 대장'!$A$4:$A$503,">="&$B$3,'주문 접수 대장'!$A$4:$A$503,"<="&$D$3,'주문 접수 대장'!$O$4:$O$503,"<>납품완료",'주문 접수 대장'!$O$4:$O$503,"<>취소")) | H17: =IF($A17="","",COUNTIFS('주문 접수 대장'!$F$4:$F$503,$A17,'주문 접수 대장'!$A$4:$A$503,">="&$B$3,'주문 접수 대장'!$A$4:$A$503,"<="&$D$3,'주문 접수 대장'!$P$4:$P$503,"지연")) | I17: =IF($A17="","",COUNTIFS('주문 접수 대장'!$F$4:$F$503,$A17,'주문 접수 대장'!$A$4:$A$503,">="&$B$3,'주문 접수 대장'!$A$4:$A$503,"<="&$D$3,'주문 접수 대장'!$O$4:$O$503,"취소")) | J17: =IF($A17="","",IF(COUNTIFS('주문 접수 대장'!$F$4:$F$503,$A17,'주문 접수 대장'!$I$4:$I$503,"<>"&C17)>0,"단위 섞임",""))
A18: =IFERROR(INDEX('주문 접수 대장'!$F$4:$F$503,MATCH(13,'주문 접수 대장'!$S$4:$S$503,0)),"") | B18: =IF($A18="","",INDEX('주문 접수 대장'!$G$4:$G$503,MATCH($A18,'주문 접수 대장'!$F$4:$F$503,0))&"") | C18: =IF($A18="","",INDEX('주문 접수 대장'!$I$4:$I$503,MATCH($A18,'주문 접수 대장'!$F$4:$F$503,0))&"") | D18: =IF($A18="","",COUNTIFS('주문 접수 대장'!$F$4:$F$503,$A18,'주문 접수 대장'!$A$4:$A$503,">="&$B$3,'주문 접수 대장'!$A$4:$A$503,"<="&$D$3)) | E18: =IF($A18="","",SUMIFS('주문 접수 대장'!$H$4:$H$503,'주문 접수 대장'!$F$4:$F$503,$A18,'주문 접수 대장'!$A$4:$A$503,">="&$B$3,'주문 접수 대장'!$A$4:$A$503,"<="&$D$3)) | F18: =IF($A18="","",SUMIFS('주문 접수 대장'!$K$4:$K$503,'주문 접수 대장'!$F$4:$F$503,$A18,'주문 접수 대장'!$A$4:$A$503,">="&$B$3,'주문 접수 대장'!$A$4:$A$503,"<="&$D$3)) | G18: =IF($A18="","",SUMIFS('주문 접수 대장'!$H$4:$H$503,'주문 접수 대장'!$F$4:$F$503,$A18,'주문 접수 대장'!$A$4:$A$503,">="&$B$3,'주문 접수 대장'!$A$4:$A$503,"<="&$D$3,'주문 접수 대장'!$O$4:$O$503,"<>납품완료",'주문 접수 대장'!$O$4:$O$503,"<>취소")) | H18: =IF($A18="","",COUNTIFS('주문 접수 대장'!$F$4:$F$503,$A18,'주문 접수 대장'!$A$4:$A$503,">="&$B$3,'주문 접수 대장'!$A$4:$A$503,"<="&$D$3,'주문 접수 대장'!$P$4:$P$503,"지연")) | I18: =IF($A18="","",COUNTIFS('주문 접수 대장'!$F$4:$F$503,$A18,'주문 접수 대장'!$A$4:$A$503,">="&$B$3,'주문 접수 대장'!$A$4:$A$503,"<="&$D$3,'주문 접수 대장'!$O$4:$O$503,"취소")) | J18: =IF($A18="","",IF(COUNTIFS('주문 접수 대장'!$F$4:$F$503,$A18,'주문 접수 대장'!$I$4:$I$503,"<>"&C18)>0,"단위 섞임",""))
A19: =IFERROR(INDEX('주문 접수 대장'!$F$4:$F$503,MATCH(14,'주문 접수 대장'!$S$4:$S$503,0)),"") | B19: =IF($A19="","",INDEX('주문 접수 대장'!$G$4:$G$503,MATCH($A19,'주문 접수 대장'!$F$4:$F$503,0))&"") | C19: =IF($A19="","",INDEX('주문 접수 대장'!$I$4:$I$503,MATCH($A19,'주문 접수 대장'!$F$4:$F$503,0))&"") | D19: =IF($A19="","",COUNTIFS('주문 접수 대장'!$F$4:$F$503,$A19,'주문 접수 대장'!$A$4:$A$503,">="&$B$3,'주문 접수 대장'!$A$4:$A$503,"<="&$D$3)) | E19: =IF($A19="","",SUMIFS('주문 접수 대장'!$H$4:$H$503,'주문 접수 대장'!$F$4:$F$503,$A19,'주문 접수 대장'!$A$4:$A$503,">="&$B$3,'주문 접수 대장'!$A$4:$A$503,"<="&$D$3)) | F19: =IF($A19="","",SUMIFS('주문 접수 대장'!$K$4:$K$503,'주문 접수 대장'!$F$4:$F$503,$A19,'주문 접수 대장'!$A$4:$A$503,">="&$B$3,'주문 접수 대장'!$A$4:$A$503,"<="&$D$3)) | G19: =IF($A19="","",SUMIFS('주문 접수 대장'!$H$4:$H$503,'주문 접수 대장'!$F$4:$F$503,$A19,'주문 접수 대장'!$A$4:$A$503,">="&$B$3,'주문 접수 대장'!$A$4:$A$503,"<="&$D$3,'주문 접수 대장'!$O$4:$O$503,"<>납품완료",'주문 접수 대장'!$O$4:$O$503,"<>취소")) | H19: =IF($A19="","",COUNTIFS('주문 접수 대장'!$F$4:$F$503,$A19,'주문 접수 대장'!$A$4:$A$503,">="&$B$3,'주문 접수 대장'!$A$4:$A$503,"<="&$D$3,'주문 접수 대장'!$P$4:$P$503,"지연")) | I19: =IF($A19="","",COUNTIFS('주문 접수 대장'!$F$4:$F$503,$A19,'주문 접수 대장'!$A$4:$A$503,">="&$B$3,'주문 접수 대장'!$A$4:$A$503,"<="&$D$3,'주문 접수 대장'!$O$4:$O$503,"취소")) | J19: =IF($A19="","",IF(COUNTIFS('주문 접수 대장'!$F$4:$F$503,$A19,'주문 접수 대장'!$I$4:$I$503,"<>"&C19)>0,"단위 섞임",""))
A20: =IFERROR(INDEX('주문 접수 대장'!$F$4:$F$503,MATCH(15,'주문 접수 대장'!$S$4:$S$503,0)),"") | B20: =IF($A20="","",INDEX('주문 접수 대장'!$G$4:$G$503,MATCH($A20,'주문 접수 대장'!$F$4:$F$503,0))&"") | C20: =IF($A20="","",INDEX('주문 접수 대장'!$I$4:$I$503,MATCH($A20,'주문 접수 대장'!$F$4:$F$503,0))&"") | D20: =IF($A20="","",COUNTIFS('주문 접수 대장'!$F$4:$F$503,$A20,'주문 접수 대장'!$A$4:$A$503,">="&$B$3,'주문 접수 대장'!$A$4:$A$503,"<="&$D$3)) | E20: =IF($A20="","",SUMIFS('주문 접수 대장'!$H$4:$H$503,'주문 접수 대장'!$F$4:$F$503,$A20,'주문 접수 대장'!$A$4:$A$503,">="&$B$3,'주문 접수 대장'!$A$4:$A$503,"<="&$D$3)) | F20: =IF($A20="","",SUMIFS('주문 접수 대장'!$K$4:$K$503,'주문 접수 대장'!$F$4:$F$503,$A20,'주문 접수 대장'!$A$4:$A$503,">="&$B$3,'주문 접수 대장'!$A$4:$A$503,"<="&$D$3)) | G20: =IF($A20="","",SUMIFS('주문 접수 대장'!$H$4:$H$503,'주문 접수 대장'!$F$4:$F$503,$A20,'주문 접수 대장'!$A$4:$A$503,">="&$B$3,'주문 접수 대장'!$A$4:$A$503,"<="&$D$3,'주문 접수 대장'!$O$4:$O$503,"<>납품완료",'주문 접수 대장'!$O$4:$O$503,"<>취소")) | H20: =IF($A20="","",COUNTIFS('주문 접수 대장'!$F$4:$F$503,$A20,'주문 접수 대장'!$A$4:$A$503,">="&$B$3,'주문 접수 대장'!$A$4:$A$503,"<="&$D$3,'주문 접수 대장'!$P$4:$P$503,"지연")) | I20: =IF($A20="","",COUNTIFS('주문 접수 대장'!$F$4:$F$503,$A20,'주문 접수 대장'!$A$4:$A$503,">="&$B$3,'주문 접수 대장'!$A$4:$A$503,"<="&$D$3,'주문 접수 대장'!$O$4:$O$503,"취소")) | J20: =IF($A20="","",IF(COUNTIFS('주문 접수 대장'!$F$4:$F$503,$A20,'주문 접수 대장'!$I$4:$I$503,"<>"&C20)>0,"단위 섞임",""))
A21: =IFERROR(INDEX('주문 접수 대장'!$F$4:$F$503,MATCH(16,'주문 접수 대장'!$S$4:$S$503,0)),"") | B21: =IF($A21="","",INDEX('주문 접수 대장'!$G$4:$G$503,MATCH($A21,'주문 접수 대장'!$F$4:$F$503,0))&"") | C21: =IF($A21="","",INDEX('주문 접수 대장'!$I$4:$I$503,MATCH($A21,'주문 접수 대장'!$F$4:$F$503,0))&"") | D21: =IF($A21="","",COUNTIFS('주문 접수 대장'!$F$4:$F$503,$A21,'주문 접수 대장'!$A$4:$A$503,">="&$B$3,'주문 접수 대장'!$A$4:$A$503,"<="&$D$3)) | E21: =IF($A21="","",SUMIFS('주문 접수 대장'!$H$4:$H$503,'주문 접수 대장'!$F$4:$F$503,$A21,'주문 접수 대장'!$A$4:$A$503,">="&$B$3,'주문 접수 대장'!$A$4:$A$503,"<="&$D$3)) | F21: =IF($A21="","",SUMIFS('주문 접수 대장'!$K$4:$K$503,'주문 접수 대장'!$F$4:$F$503,$A21,'주문 접수 대장'!$A$4:$A$503,">="&$B$3,'주문 접수 대장'!$A$4:$A$503,"<="&$D$3)) | G21: =IF($A21="","",SUMIFS('주문 접수 대장'!$H$4:$H$503,'주문 접수 대장'!$F$4:$F$503,$A21,'주문 접수 대장'!$A$4:$A$503,">="&$B$3,'주문 접수 대장'!$A$4:$A$503,"<="&$D$3,'주문 접수 대장'!$O$4:$O$503,"<>납품완료",'주문 접수 대장'!$O$4:$O$503,"<>취소")) | H21: =IF($A21="","",COUNTIFS('주문 접수 대장'!$F$4:$F$503,$A21,'주문 접수 대장'!$A$4:$A$503,">="&$B$3,'주문 접수 대장'!$A$4:$A$503,"<="&$D$3,'주문 접수 대장'!$P$4:$P$503,"지연")) | I21: =IF($A21="","",COUNTIFS('주문 접수 대장'!$F$4:$F$503,$A21,'주문 접수 대장'!$A$4:$A$503,">="&$B$3,'주문 접수 대장'!$A$4:$A$503,"<="&$D$3,'주문 접수 대장'!$O$4:$O$503,"취소")) | J21: =IF($A21="","",IF(COUNTIFS('주문 접수 대장'!$F$4:$F$503,$A21,'주문 접수 대장'!$I$4:$I$503,"<>"&C21)>0,"단위 섞임",""))
A22: =IFERROR(INDEX('주문 접수 대장'!$F$4:$F$503,MATCH(17,'주문 접수 대장'!$S$4:$S$503,0)),"") | B22: =IF($A22="","",INDEX('주문 접수 대장'!$G$4:$G$503,MATCH($A22,'주문 접수 대장'!$F$4:$F$503,0))&"") | C22: =IF($A22="","",INDEX('주문 접수 대장'!$I$4:$I$503,MATCH($A22,'주문 접수 대장'!$F$4:$F$503,0))&"") | D22: =IF($A22="","",COUNTIFS('주문 접수 대장'!$F$4:$F$503,$A22,'주문 접수 대장'!$A$4:$A$503,">="&$B$3,'주문 접수 대장'!$A$4:$A$503,"<="&$D$3)) | E22: =IF($A22="","",SUMIFS('주문 접수 대장'!$H$4:$H$503,'주문 접수 대장'!$F$4:$F$503,$A22,'주문 접수 대장'!$A$4:$A$503,">="&$B$3,'주문 접수 대장'!$A$4:$A$503,"<="&$D$3)) | F22: =IF($A22="","",SUMIFS('주문 접수 대장'!$K$4:$K$503,'주문 접수 대장'!$F$4:$F$503,$A22,'주문 접수 대장'!$A$4:$A$503,">="&$B$3,'주문 접수 대장'!$A$4:$A$503,"<="&$D$3)) | G22: =IF($A22="","",SUMIFS('주문 접수 대장'!$H$4:$H$503,'주문 접수 대장'!$F$4:$F$503,$A22,'주문 접수 대장'!$A$4:$A$503,">="&$B$3,'주문 접수 대장'!$A$4:$A$503,"<="&$D$3,'주문 접수 대장'!$O$4:$O$503,"<>납품완료",'주문 접수 대장'!$O$4:$O$503,"<>취소")) | H22: =IF($A22="","",COUNTIFS('주문 접수 대장'!$F$4:$F$503,$A22,'주문 접수 대장'!$A$4:$A$503,">="&$B$3,'주문 접수 대장'!$A$4:$A$503,"<="&$D$3,'주문 접수 대장'!$P$4:$P$503,"지연")) | I22: =IF($A22="","",COUNTIFS('주문 접수 대장'!$F$4:$F$503,$A22,'주문 접수 대장'!$A$4:$A$503,">="&$B$3,'주문 접수 대장'!$A$4:$A$503,"<="&$D$3,'주문 접수 대장'!$O$4:$O$503,"취소")) | J22: =IF($A22="","",IF(COUNTIFS('주문 접수 대장'!$F$4:$F$503,$A22,'주문 접수 대장'!$I$4:$I$503,"<>"&C22)>0,"단위 섞임",""))
A23: =IFERROR(INDEX('주문 접수 대장'!$F$4:$F$503,MATCH(18,'주문 접수 대장'!$S$4:$S$503,0)),"") | B23: =IF($A23="","",INDEX('주문 접수 대장'!$G$4:$G$503,MATCH($A23,'주문 접수 대장'!$F$4:$F$503,0))&"") | C23: =IF($A23="","",INDEX('주문 접수 대장'!$I$4:$I$503,MATCH($A23,'주문 접수 대장'!$F$4:$F$503,0))&"") | D23: =IF($A23="","",COUNTIFS('주문 접수 대장'!$F$4:$F$503,$A23,'주문 접수 대장'!$A$4:$A$503,">="&$B$3,'주문 접수 대장'!$A$4:$A$503,"<="&$D$3)) | E23: =IF($A23="","",SUMIFS('주문 접수 대장'!$H$4:$H$503,'주문 접수 대장'!$F$4:$F$503,$A23,'주문 접수 대장'!$A$4:$A$503,">="&$B$3,'주문 접수 대장'!$A$4:$A$503,"<="&$D$3)) | F23: =IF($A23="","",SUMIFS('주문 접수 대장'!$K$4:$K$503,'주문 접수 대장'!$F$4:$F$503,$A23,'주문 접수 대장'!$A$4:$A$503,">="&$B$3,'주문 접수 대장'!$A$4:$A$503,"<="&$D$3)) | G23: =IF($A23="","",SUMIFS('주문 접수 대장'!$H$4:$H$503,'주문 접수 대장'!$F$4:$F$503,$A23,'주문 접수 대장'!$A$4:$A$503,">="&$B$3,'주문 접수 대장'!$A$4:$A$503,"<="&$D$3,'주문 접수 대장'!$O$4:$O$503,"<>납품완료",'주문 접수 대장'!$O$4:$O$503,"<>취소")) | H23: =IF($A23="","",COUNTIFS('주문 접수 대장'!$F$4:$F$503,$A23,'주문 접수 대장'!$A$4:$A$503,">="&$B$3,'주문 접수 대장'!$A$4:$A$503,"<="&$D$3,'주문 접수 대장'!$P$4:$P$503,"지연")) | I23: =IF($A23="","",COUNTIFS('주문 접수 대장'!$F$4:$F$503,$A23,'주문 접수 대장'!$A$4:$A$503,">="&$B$3,'주문 접수 대장'!$A$4:$A$503,"<="&$D$3,'주문 접수 대장'!$O$4:$O$503,"취소")) | J23: =IF($A23="","",IF(COUNTIFS('주문 접수 대장'!$F$4:$F$503,$A23,'주문 접수 대장'!$I$4:$I$503,"<>"&C23)>0,"단위 섞임",""))
A24: =IFERROR(INDEX('주문 접수 대장'!$F$4:$F$503,MATCH(19,'주문 접수 대장'!$S$4:$S$503,0)),"") | B24: =IF($A24="","",INDEX('주문 접수 대장'!$G$4:$G$503,MATCH($A24,'주문 접수 대장'!$F$4:$F$503,0))&"") | C24: =IF($A24="","",INDEX('주문 접수 대장'!$I$4:$I$503,MATCH($A24,'주문 접수 대장'!$F$4:$F$503,0))&"") | D24: =IF($A24="","",COUNTIFS('주문 접수 대장'!$F$4:$F$503,$A24,'주문 접수 대장'!$A$4:$A$503,">="&$B$3,'주문 접수 대장'!$A$4:$A$503,"<="&$D$3)) | E24: =IF($A24="","",SUMIFS('주문 접수 대장'!$H$4:$H$503,'주문 접수 대장'!$F$4:$F$503,$A24,'주문 접수 대장'!$A$4:$A$503,">="&$B$3,'주문 접수 대장'!$A$4:$A$503,"<="&$D$3)) | F24: =IF($A24="","",SUMIFS('주문 접수 대장'!$K$4:$K$503,'주문 접수 대장'!$F$4:$F$503,$A24,'주문 접수 대장'!$A$4:$A$503,">="&$B$3,'주문 접수 대장'!$A$4:$A$503,"<="&$D$3)) | G24: =IF($A24="","",SUMIFS('주문 접수 대장'!$H$4:$H$503,'주문 접수 대장'!$F$4:$F$503,$A24,'주문 접수 대장'!$A$4:$A$503,">="&$B$3,'주문 접수 대장'!$A$4:$A$503,"<="&$D$3,'주문 접수 대장'!$O$4:$O$503,"<>납품완료",'주문 접수 대장'!$O$4:$O$503,"<>취소")) | H24: =IF($A24="","",COUNTIFS('주문 접수 대장'!$F$4:$F$503,$A24,'주문 접수 대장'!$A$4:$A$503,">="&$B$3,'주문 접수 대장'!$A$4:$A$503,"<="&$D$3,'주문 접수 대장'!$P$4:$P$503,"지연")) | I24: =IF($A24="","",COUNTIFS('주문 접수 대장'!$F$4:$F$503,$A24,'주문 접수 대장'!$A$4:$A$503,">="&$B$3,'주문 접수 대장'!$A$4:$A$503,"<="&$D$3,'주문 접수 대장'!$O$4:$O$503,"취소")) | J24: =IF($A24="","",IF(COUNTIFS('주문 접수 대장'!$F$4:$F$503,$A24,'주문 접수 대장'!$I$4:$I$503,"<>"&C24)>0,"단위 섞임",""))
A25: =IFERROR(INDEX('주문 접수 대장'!$F$4:$F$503,MATCH(20,'주문 접수 대장'!$S$4:$S$503,0)),"") | B25: =IF($A25="","",INDEX('주문 접수 대장'!$G$4:$G$503,MATCH($A25,'주문 접수 대장'!$F$4:$F$503,0))&"") | C25: =IF($A25="","",INDEX('주문 접수 대장'!$I$4:$I$503,MATCH($A25,'주문 접수 대장'!$F$4:$F$503,0))&"") | D25: =IF($A25="","",COUNTIFS('주문 접수 대장'!$F$4:$F$503,$A25,'주문 접수 대장'!$A$4:$A$503,">="&$B$3,'주문 접수 대장'!$A$4:$A$503,"<="&$D$3)) | E25: =IF($A25="","",SUMIFS('주문 접수 대장'!$H$4:$H$503,'주문 접수 대장'!$F$4:$F$503,$A25,'주문 접수 대장'!$A$4:$A$503,">="&$B$3,'주문 접수 대장'!$A$4:$A$503,"<="&$D$3)) | F25: =IF($A25="","",SUMIFS('주문 접수 대장'!$K$4:$K$503,'주문 접수 대장'!$F$4:$F$503,$A25,'주문 접수 대장'!$A$4:$A$503,">="&$B$3,'주문 접수 대장'!$A$4:$A$503,"<="&$D$3)) | G25: =IF($A25="","",SUMIFS('주문 접수 대장'!$H$4:$H$503,'주문 접수 대장'!$F$4:$F$503,$A25,'주문 접수 대장'!$A$4:$A$503,">="&$B$3,'주문 접수 대장'!$A$4:$A$503,"<="&$D$3,'주문 접수 대장'!$O$4:$O$503,"<>납품완료",'주문 접수 대장'!$O$4:$O$503,"<>취소")) | H25: =IF($A25="","",COUNTIFS('주문 접수 대장'!$F$4:$F$503,$A25,'주문 접수 대장'!$A$4:$A$503,">="&$B$3,'주문 접수 대장'!$A$4:$A$503,"<="&$D$3,'주문 접수 대장'!$P$4:$P$503,"지연")) | I25: =IF($A25="","",COUNTIFS('주문 접수 대장'!$F$4:$F$503,$A25,'주문 접수 대장'!$A$4:$A$503,">="&$B$3,'주문 접수 대장'!$A$4:$A$503,"<="&$D$3,'주문 접수 대장'!$O$4:$O$503,"취소")) | J25: =IF($A25="","",IF(COUNTIFS('주문 접수 대장'!$F$4:$F$503,$A25,'주문 접수 대장'!$I$4:$I$503,"<>"&C25)>0,"단위 섞임",""))
A26: =IFERROR(INDEX('주문 접수 대장'!$F$4:$F$503,MATCH(21,'주문 접수 대장'!$S$4:$S$503,0)),"") | B26: =IF($A26="","",INDEX('주문 접수 대장'!$G$4:$G$503,MATCH($A26,'주문 접수 대장'!$F$4:$F$503,0))&"") | C26: =IF($A26="","",INDEX('주문 접수 대장'!$I$4:$I$503,MATCH($A26,'주문 접수 대장'!$F$4:$F$503,0))&"") | D26: =IF($A26="","",COUNTIFS('주문 접수 대장'!$F$4:$F$503,$A26,'주문 접수 대장'!$A$4:$A$503,">="&$B$3,'주문 접수 대장'!$A$4:$A$503,"<="&$D$3)) | E26: =IF($A26="","",SUMIFS('주문 접수 대장'!$H$4:$H$503,'주문 접수 대장'!$F$4:$F$503,$A26,'주문 접수 대장'!$A$4:$A$503,">="&$B$3,'주문 접수 대장'!$A$4:$A$503,"<="&$D$3)) | F26: =IF($A26="","",SUMIFS('주문 접수 대장'!$K$4:$K$503,'주문 접수 대장'!$F$4:$F$503,$A26,'주문 접수 대장'!$A$4:$A$503,">="&$B$3,'주문 접수 대장'!$A$4:$A$503,"<="&$D$3)) | G26: =IF($A26="","",SUMIFS('주문 접수 대장'!$H$4:$H$503,'주문 접수 대장'!$F$4:$F$503,$A26,'주문 접수 대장'!$A$4:$A$503,">="&$B$3,'주문 접수 대장'!$A$4:$A$503,"<="&$D$3,'주문 접수 대장'!$O$4:$O$503,"<>납품완료",'주문 접수 대장'!$O$4:$O$503,"<>취소")) | H26: =IF($A26="","",COUNTIFS('주문 접수 대장'!$F$4:$F$503,$A26,'주문 접수 대장'!$A$4:$A$503,">="&$B$3,'주문 접수 대장'!$A$4:$A$503,"<="&$D$3,'주문 접수 대장'!$P$4:$P$503,"지연")) | I26: =IF($A26="","",COUNTIFS('주문 접수 대장'!$F$4:$F$503,$A26,'주문 접수 대장'!$A$4:$A$503,">="&$B$3,'주문 접수 대장'!$A$4:$A$503,"<="&$D$3,'주문 접수 대장'!$O$4:$O$503,"취소")) | J26: =IF($A26="","",IF(COUNTIFS('주문 접수 대장'!$F$4:$F$503,$A26,'주문 접수 대장'!$I$4:$I$503,"<>"&C26)>0,"단위 섞임",""))
A27: =IFERROR(INDEX('주문 접수 대장'!$F$4:$F$503,MATCH(22,'주문 접수 대장'!$S$4:$S$503,0)),"") | B27: =IF($A27="","",INDEX('주문 접수 대장'!$G$4:$G$503,MATCH($A27,'주문 접수 대장'!$F$4:$F$503,0))&"") | C27: =IF($A27="","",INDEX('주문 접수 대장'!$I$4:$I$503,MATCH($A27,'주문 접수 대장'!$F$4:$F$503,0))&"") | D27: =IF($A27="","",COUNTIFS('주문 접수 대장'!$F$4:$F$503,$A27,'주문 접수 대장'!$A$4:$A$503,">="&$B$3,'주문 접수 대장'!$A$4:$A$503,"<="&$D$3)) | E27: =IF($A27="","",SUMIFS('주문 접수 대장'!$H$4:$H$503,'주문 접수 대장'!$F$4:$F$503,$A27,'주문 접수 대장'!$A$4:$A$503,">="&$B$3,'주문 접수 대장'!$A$4:$A$503,"<="&$D$3)) | F27: =IF($A27="","",SUMIFS('주문 접수 대장'!$K$4:$K$503,'주문 접수 대장'!$F$4:$F$503,$A27,'주문 접수 대장'!$A$4:$A$503,">="&$B$3,'주문 접수 대장'!$A$4:$A$503,"<="&$D$3)) | G27: =IF($A27="","",SUMIFS('주문 접수 대장'!$H$4:$H$503,'주문 접수 대장'!$F$4:$F$503,$A27,'주문 접수 대장'!$A$4:$A$503,">="&$B$3,'주문 접수 대장'!$A$4:$A$503,"<="&$D$3,'주문 접수 대장'!$O$4:$O$503,"<>납품완료",'주문 접수 대장'!$O$4:$O$503,"<>취소")) | H27: =IF($A27="","",COUNTIFS('주문 접수 대장'!$F$4:$F$503,$A27,'주문 접수 대장'!$A$4:$A$503,">="&$B$3,'주문 접수 대장'!$A$4:$A$503,"<="&$D$3,'주문 접수 대장'!$P$4:$P$503,"지연")) | I27: =IF($A27="","",COUNTIFS('주문 접수 대장'!$F$4:$F$503,$A27,'주문 접수 대장'!$A$4:$A$503,">="&$B$3,'주문 접수 대장'!$A$4:$A$503,"<="&$D$3,'주문 접수 대장'!$O$4:$O$503,"취소")) | J27: =IF($A27="","",IF(COUNTIFS('주문 접수 대장'!$F$4:$F$503,$A27,'주문 접수 대장'!$I$4:$I$503,"<>"&C27)>0,"단위 섞임",""))
A28: =IFERROR(INDEX('주문 접수 대장'!$F$4:$F$503,MATCH(23,'주문 접수 대장'!$S$4:$S$503,0)),"") | B28: =IF($A28="","",INDEX('주문 접수 대장'!$G$4:$G$503,MATCH($A28,'주문 접수 대장'!$F$4:$F$503,0))&"") | C28: =IF($A28="","",INDEX('주문 접수 대장'!$I$4:$I$503,MATCH($A28,'주문 접수 대장'!$F$4:$F$503,0))&"") | D28: =IF($A28="","",COUNTIFS('주문 접수 대장'!$F$4:$F$503,$A28,'주문 접수 대장'!$A$4:$A$503,">="&$B$3,'주문 접수 대장'!$A$4:$A$503,"<="&$D$3)) | E28: =IF($A28="","",SUMIFS('주문 접수 대장'!$H$4:$H$503,'주문 접수 대장'!$F$4:$F$503,$A28,'주문 접수 대장'!$A$4:$A$503,">="&$B$3,'주문 접수 대장'!$A$4:$A$503,"<="&$D$3)) | F28: =IF($A28="","",SUMIFS('주문 접수 대장'!$K$4:$K$503,'주문 접수 대장'!$F$4:$F$503,$A28,'주문 접수 대장'!$A$4:$A$503,">="&$B$3,'주문 접수 대장'!$A$4:$A$503,"<="&$D$3)) | G28: =IF($A28="","",SUMIFS('주문 접수 대장'!$H$4:$H$503,'주문 접수 대장'!$F$4:$F$503,$A28,'주문 접수 대장'!$A$4:$A$503,">="&$B$3,'주문 접수 대장'!$A$4:$A$503,"<="&$D$3,'주문 접수 대장'!$O$4:$O$503,"<>납품완료",'주문 접수 대장'!$O$4:$O$503,"<>취소")) | H28: =IF($A28="","",COUNTIFS('주문 접수 대장'!$F$4:$F$503,$A28,'주문 접수 대장'!$A$4:$A$503,">="&$B$3,'주문 접수 대장'!$A$4:$A$503,"<="&$D$3,'주문 접수 대장'!$P$4:$P$503,"지연")) | I28: =IF($A28="","",COUNTIFS('주문 접수 대장'!$F$4:$F$503,$A28,'주문 접수 대장'!$A$4:$A$503,">="&$B$3,'주문 접수 대장'!$A$4:$A$503,"<="&$D$3,'주문 접수 대장'!$O$4:$O$503,"취소")) | J28: =IF($A28="","",IF(COUNTIFS('주문 접수 대장'!$F$4:$F$503,$A28,'주문 접수 대장'!$I$4:$I$503,"<>"&C28)>0,"단위 섞임",""))
A29: =IFERROR(INDEX('주문 접수 대장'!$F$4:$F$503,MATCH(24,'주문 접수 대장'!$S$4:$S$503,0)),"") | B29: =IF($A29="","",INDEX('주문 접수 대장'!$G$4:$G$503,MATCH($A29,'주문 접수 대장'!$F$4:$F$503,0))&"") | C29: =IF($A29="","",INDEX('주문 접수 대장'!$I$4:$I$503,MATCH($A29,'주문 접수 대장'!$F$4:$F$503,0))&"") | D29: =IF($A29="","",COUNTIFS('주문 접수 대장'!$F$4:$F$503,$A29,'주문 접수 대장'!$A$4:$A$503,">="&$B$3,'주문 접수 대장'!$A$4:$A$503,"<="&$D$3)) | E29: =IF($A29="","",SUMIFS('주문 접수 대장'!$H$4:$H$503,'주문 접수 대장'!$F$4:$F$503,$A29,'주문 접수 대장'!$A$4:$A$503,">="&$B$3,'주문 접수 대장'!$A$4:$A$503,"<="&$D$3)) | F29: =IF($A29="","",SUMIFS('주문 접수 대장'!$K$4:$K$503,'주문 접수 대장'!$F$4:$F$503,$A29,'주문 접수 대장'!$A$4:$A$503,">="&$B$3,'주문 접수 대장'!$A$4:$A$503,"<="&$D$3)) | G29: =IF($A29="","",SUMIFS('주문 접수 대장'!$H$4:$H$503,'주문 접수 대장'!$F$4:$F$503,$A29,'주문 접수 대장'!$A$4:$A$503,">="&$B$3,'주문 접수 대장'!$A$4:$A$503,"<="&$D$3,'주문 접수 대장'!$O$4:$O$503,"<>납품완료",'주문 접수 대장'!$O$4:$O$503,"<>취소")) | H29: =IF($A29="","",COUNTIFS('주문 접수 대장'!$F$4:$F$503,$A29,'주문 접수 대장'!$A$4:$A$503,">="&$B$3,'주문 접수 대장'!$A$4:$A$503,"<="&$D$3,'주문 접수 대장'!$P$4:$P$503,"지연")) | I29: =IF($A29="","",COUNTIFS('주문 접수 대장'!$F$4:$F$503,$A29,'주문 접수 대장'!$A$4:$A$503,">="&$B$3,'주문 접수 대장'!$A$4:$A$503,"<="&$D$3,'주문 접수 대장'!$O$4:$O$503,"취소")) | J29: =IF($A29="","",IF(COUNTIFS('주문 접수 대장'!$F$4:$F$503,$A29,'주문 접수 대장'!$I$4:$I$503,"<>"&C29)>0,"단위 섞임",""))
A30: =IFERROR(INDEX('주문 접수 대장'!$F$4:$F$503,MATCH(25,'주문 접수 대장'!$S$4:$S$503,0)),"") | B30: =IF($A30="","",INDEX('주문 접수 대장'!$G$4:$G$503,MATCH($A30,'주문 접수 대장'!$F$4:$F$503,0))&"") | C30: =IF($A30="","",INDEX('주문 접수 대장'!$I$4:$I$503,MATCH($A30,'주문 접수 대장'!$F$4:$F$503,0))&"") | D30: =IF($A30="","",COUNTIFS('주문 접수 대장'!$F$4:$F$503,$A30,'주문 접수 대장'!$A$4:$A$503,">="&$B$3,'주문 접수 대장'!$A$4:$A$503,"<="&$D$3)) | E30: =IF($A30="","",SUMIFS('주문 접수 대장'!$H$4:$H$503,'주문 접수 대장'!$F$4:$F$503,$A30,'주문 접수 대장'!$A$4:$A$503,">="&$B$3,'주문 접수 대장'!$A$4:$A$503,"<="&$D$3)) | F30: =IF($A30="","",SUMIFS('주문 접수 대장'!$K$4:$K$503,'주문 접수 대장'!$F$4:$F$503,$A30,'주문 접수 대장'!$A$4:$A$503,">="&$B$3,'주문 접수 대장'!$A$4:$A$503,"<="&$D$3)) | G30: =IF($A30="","",SUMIFS('주문 접수 대장'!$H$4:$H$503,'주문 접수 대장'!$F$4:$F$503,$A30,'주문 접수 대장'!$A$4:$A$503,">="&$B$3,'주문 접수 대장'!$A$4:$A$503,"<="&$D$3,'주문 접수 대장'!$O$4:$O$503,"<>납품완료",'주문 접수 대장'!$O$4:$O$503,"<>취소")) | H30: =IF($A30="","",COUNTIFS('주문 접수 대장'!$F$4:$F$503,$A30,'주문 접수 대장'!$A$4:$A$503,">="&$B$3,'주문 접수 대장'!$A$4:$A$503,"<="&$D$3,'주문 접수 대장'!$P$4:$P$503,"지연")) | I30: =IF($A30="","",COUNTIFS('주문 접수 대장'!$F$4:$F$503,$A30,'주문 접수 대장'!$A$4:$A$503,">="&$B$3,'주문 접수 대장'!$A$4:$A$503,"<="&$D$3,'주문 접수 대장'!$O$4:$O$503,"취소")) | J30: =IF($A30="","",IF(COUNTIFS('주문 접수 대장'!$F$4:$F$503,$A30,'주문 접수 대장'!$I$4:$I$503,"<>"&C30)>0,"단위 섞임",""))
A31: =IFERROR(INDEX('주문 접수 대장'!$F$4:$F$503,MATCH(26,'주문 접수 대장'!$S$4:$S$503,0)),"") | B31: =IF($A31="","",INDEX('주문 접수 대장'!$G$4:$G$503,MATCH($A31,'주문 접수 대장'!$F$4:$F$503,0))&"") | C31: =IF($A31="","",INDEX('주문 접수 대장'!$I$4:$I$503,MATCH($A31,'주문 접수 대장'!$F$4:$F$503,0))&"") | D31: =IF($A31="","",COUNTIFS('주문 접수 대장'!$F$4:$F$503,$A31,'주문 접수 대장'!$A$4:$A$503,">="&$B$3,'주문 접수 대장'!$A$4:$A$503,"<="&$D$3)) | E31: =IF($A31="","",SUMIFS('주문 접수 대장'!$H$4:$H$503,'주문 접수 대장'!$F$4:$F$503,$A31,'주문 접수 대장'!$A$4:$A$503,">="&$B$3,'주문 접수 대장'!$A$4:$A$503,"<="&$D$3)) | F31: =IF($A31="","",SUMIFS('주문 접수 대장'!$K$4:$K$503,'주문 접수 대장'!$F$4:$F$503,$A31,'주문 접수 대장'!$A$4:$A$503,">="&$B$3,'주문 접수 대장'!$A$4:$A$503,"<="&$D$3)) | G31: =IF($A31="","",SUMIFS('주문 접수 대장'!$H$4:$H$503,'주문 접수 대장'!$F$4:$F$503,$A31,'주문 접수 대장'!$A$4:$A$503,">="&$B$3,'주문 접수 대장'!$A$4:$A$503,"<="&$D$3,'주문 접수 대장'!$O$4:$O$503,"<>납품완료",'주문 접수 대장'!$O$4:$O$503,"<>취소")) | H31: =IF($A31="","",COUNTIFS('주문 접수 대장'!$F$4:$F$503,$A31,'주문 접수 대장'!$A$4:$A$503,">="&$B$3,'주문 접수 대장'!$A$4:$A$503,"<="&$D$3,'주문 접수 대장'!$P$4:$P$503,"지연")) | I31: =IF($A31="","",COUNTIFS('주문 접수 대장'!$F$4:$F$503,$A31,'주문 접수 대장'!$A$4:$A$503,">="&$B$3,'주문 접수 대장'!$A$4:$A$503,"<="&$D$3,'주문 접수 대장'!$O$4:$O$503,"취소")) | J31: =IF($A31="","",IF(COUNTIFS('주문 접수 대장'!$F$4:$F$503,$A31,'주문 접수 대장'!$I$4:$I$503,"<>"&C31)>0,"단위 섞임",""))
A32: =IFERROR(INDEX('주문 접수 대장'!$F$4:$F$503,MATCH(27,'주문 접수 대장'!$S$4:$S$503,0)),"") | B32: =IF($A32="","",INDEX('주문 접수 대장'!$G$4:$G$503,MATCH($A32,'주문 접수 대장'!$F$4:$F$503,0))&"") | C32: =IF($A32="","",INDEX('주문 접수 대장'!$I$4:$I$503,MATCH($A32,'주문 접수 대장'!$F$4:$F$503,0))&"") | D32: =IF($A32="","",COUNTIFS('주문 접수 대장'!$F$4:$F$503,$A32,'주문 접수 대장'!$A$4:$A$503,">="&$B$3,'주문 접수 대장'!$A$4:$A$503,"<="&$D$3)) | E32: =IF($A32="","",SUMIFS('주문 접수 대장'!$H$4:$H$503,'주문 접수 대장'!$F$4:$F$503,$A32,'주문 접수 대장'!$A$4:$A$503,">="&$B$3,'주문 접수 대장'!$A$4:$A$503,"<="&$D$3)) | F32: =IF($A32="","",SUMIFS('주문 접수 대장'!$K$4:$K$503,'주문 접수 대장'!$F$4:$F$503,$A32,'주문 접수 대장'!$A$4:$A$503,">="&$B$3,'주문 접수 대장'!$A$4:$A$503,"<="&$D$3)) | G32: =IF($A32="","",SUMIFS('주문 접수 대장'!$H$4:$H$503,'주문 접수 대장'!$F$4:$F$503,$A32,'주문 접수 대장'!$A$4:$A$503,">="&$B$3,'주문 접수 대장'!$A$4:$A$503,"<="&$D$3,'주문 접수 대장'!$O$4:$O$503,"<>납품완료",'주문 접수 대장'!$O$4:$O$503,"<>취소")) | H32: =IF($A32="","",COUNTIFS('주문 접수 대장'!$F$4:$F$503,$A32,'주문 접수 대장'!$A$4:$A$503,">="&$B$3,'주문 접수 대장'!$A$4:$A$503,"<="&$D$3,'주문 접수 대장'!$P$4:$P$503,"지연")) | I32: =IF($A32="","",COUNTIFS('주문 접수 대장'!$F$4:$F$503,$A32,'주문 접수 대장'!$A$4:$A$503,">="&$B$3,'주문 접수 대장'!$A$4:$A$503,"<="&$D$3,'주문 접수 대장'!$O$4:$O$503,"취소")) | J32: =IF($A32="","",IF(COUNTIFS('주문 접수 대장'!$F$4:$F$503,$A32,'주문 접수 대장'!$I$4:$I$503,"<>"&C32)>0,"단위 섞임",""))
A33: =IFERROR(INDEX('주문 접수 대장'!$F$4:$F$503,MATCH(28,'주문 접수 대장'!$S$4:$S$503,0)),"") | B33: =IF($A33="","",INDEX('주문 접수 대장'!$G$4:$G$503,MATCH($A33,'주문 접수 대장'!$F$4:$F$503,0))&"") | C33: =IF($A33="","",INDEX('주문 접수 대장'!$I$4:$I$503,MATCH($A33,'주문 접수 대장'!$F$4:$F$503,0))&"") | D33: =IF($A33="","",COUNTIFS('주문 접수 대장'!$F$4:$F$503,$A33,'주문 접수 대장'!$A$4:$A$503,">="&$B$3,'주문 접수 대장'!$A$4:$A$503,"<="&$D$3)) | E33: =IF($A33="","",SUMIFS('주문 접수 대장'!$H$4:$H$503,'주문 접수 대장'!$F$4:$F$503,$A33,'주문 접수 대장'!$A$4:$A$503,">="&$B$3,'주문 접수 대장'!$A$4:$A$503,"<="&$D$3)) | F33: =IF($A33="","",SUMIFS('주문 접수 대장'!$K$4:$K$503,'주문 접수 대장'!$F$4:$F$503,$A33,'주문 접수 대장'!$A$4:$A$503,">="&$B$3,'주문 접수 대장'!$A$4:$A$503,"<="&$D$3)) | G33: =IF($A33="","",SUMIFS('주문 접수 대장'!$H$4:$H$503,'주문 접수 대장'!$F$4:$F$503,$A33,'주문 접수 대장'!$A$4:$A$503,">="&$B$3,'주문 접수 대장'!$A$4:$A$503,"<="&$D$3,'주문 접수 대장'!$O$4:$O$503,"<>납품완료",'주문 접수 대장'!$O$4:$O$503,"<>취소")) | H33: =IF($A33="","",COUNTIFS('주문 접수 대장'!$F$4:$F$503,$A33,'주문 접수 대장'!$A$4:$A$503,">="&$B$3,'주문 접수 대장'!$A$4:$A$503,"<="&$D$3,'주문 접수 대장'!$P$4:$P$503,"지연")) | I33: =IF($A33="","",COUNTIFS('주문 접수 대장'!$F$4:$F$503,$A33,'주문 접수 대장'!$A$4:$A$503,">="&$B$3,'주문 접수 대장'!$A$4:$A$503,"<="&$D$3,'주문 접수 대장'!$O$4:$O$503,"취소")) | J33: =IF($A33="","",IF(COUNTIFS('주문 접수 대장'!$F$4:$F$503,$A33,'주문 접수 대장'!$I$4:$I$503,"<>"&C33)>0,"단위 섞임",""))
A34: =IFERROR(INDEX('주문 접수 대장'!$F$4:$F$503,MATCH(29,'주문 접수 대장'!$S$4:$S$503,0)),"") | B34: =IF($A34="","",INDEX('주문 접수 대장'!$G$4:$G$503,MATCH($A34,'주문 접수 대장'!$F$4:$F$503,0))&"") | C34: =IF($A34="","",INDEX('주문 접수 대장'!$I$4:$I$503,MATCH($A34,'주문 접수 대장'!$F$4:$F$503,0))&"") | D34: =IF($A34="","",COUNTIFS('주문 접수 대장'!$F$4:$F$503,$A34,'주문 접수 대장'!$A$4:$A$503,">="&$B$3,'주문 접수 대장'!$A$4:$A$503,"<="&$D$3)) | E34: =IF($A34="","",SUMIFS('주문 접수 대장'!$H$4:$H$503,'주문 접수 대장'!$F$4:$F$503,$A34,'주문 접수 대장'!$A$4:$A$503,">="&$B$3,'주문 접수 대장'!$A$4:$A$503,"<="&$D$3)) | F34: =IF($A34="","",SUMIFS('주문 접수 대장'!$K$4:$K$503,'주문 접수 대장'!$F$4:$F$503,$A34,'주문 접수 대장'!$A$4:$A$503,">="&$B$3,'주문 접수 대장'!$A$4:$A$503,"<="&$D$3)) | G34: =IF($A34="","",SUMIFS('주문 접수 대장'!$H$4:$H$503,'주문 접수 대장'!$F$4:$F$503,$A34,'주문 접수 대장'!$A$4:$A$503,">="&$B$3,'주문 접수 대장'!$A$4:$A$503,"<="&$D$3,'주문 접수 대장'!$O$4:$O$503,"<>납품완료",'주문 접수 대장'!$O$4:$O$503,"<>취소")) | H34: =IF($A34="","",COUNTIFS('주문 접수 대장'!$F$4:$F$503,$A34,'주문 접수 대장'!$A$4:$A$503,">="&$B$3,'주문 접수 대장'!$A$4:$A$503,"<="&$D$3,'주문 접수 대장'!$P$4:$P$503,"지연")) | I34: =IF($A34="","",COUNTIFS('주문 접수 대장'!$F$4:$F$503,$A34,'주문 접수 대장'!$A$4:$A$503,">="&$B$3,'주문 접수 대장'!$A$4:$A$503,"<="&$D$3,'주문 접수 대장'!$O$4:$O$503,"취소")) | J34: =IF($A34="","",IF(COUNTIFS('주문 접수 대장'!$F$4:$F$503,$A34,'주문 접수 대장'!$I$4:$I$503,"<>"&C34)>0,"단위 섞임",""))
A35: =IFERROR(INDEX('주문 접수 대장'!$F$4:$F$503,MATCH(30,'주문 접수 대장'!$S$4:$S$503,0)),"") | B35: =IF($A35="","",INDEX('주문 접수 대장'!$G$4:$G$503,MATCH($A35,'주문 접수 대장'!$F$4:$F$503,0))&"") | C35: =IF($A35="","",INDEX('주문 접수 대장'!$I$4:$I$503,MATCH($A35,'주문 접수 대장'!$F$4:$F$503,0))&"") | D35: =IF($A35="","",COUNTIFS('주문 접수 대장'!$F$4:$F$503,$A35,'주문 접수 대장'!$A$4:$A$503,">="&$B$3,'주문 접수 대장'!$A$4:$A$503,"<="&$D$3)) | E35: =IF($A35="","",SUMIFS('주문 접수 대장'!$H$4:$H$503,'주문 접수 대장'!$F$4:$F$503,$A35,'주문 접수 대장'!$A$4:$A$503,">="&$B$3,'주문 접수 대장'!$A$4:$A$503,"<="&$D$3)) | F35: =IF($A35="","",SUMIFS('주문 접수 대장'!$K$4:$K$503,'주문 접수 대장'!$F$4:$F$503,$A35,'주문 접수 대장'!$A$4:$A$503,">="&$B$3,'주문 접수 대장'!$A$4:$A$503,"<="&$D$3)) | G35: =IF($A35="","",SUMIFS('주문 접수 대장'!$H$4:$H$503,'주문 접수 대장'!$F$4:$F$503,$A35,'주문 접수 대장'!$A$4:$A$503,">="&$B$3,'주문 접수 대장'!$A$4:$A$503,"<="&$D$3,'주문 접수 대장'!$O$4:$O$503,"<>납품완료",'주문 접수 대장'!$O$4:$O$503,"<>취소")) | H35: =IF($A35="","",COUNTIFS('주문 접수 대장'!$F$4:$F$503,$A35,'주문 접수 대장'!$A$4:$A$503,">="&$B$3,'주문 접수 대장'!$A$4:$A$503,"<="&$D$3,'주문 접수 대장'!$P$4:$P$503,"지연")) | I35: =IF($A35="","",COUNTIFS('주문 접수 대장'!$F$4:$F$503,$A35,'주문 접수 대장'!$A$4:$A$503,">="&$B$3,'주문 접수 대장'!$A$4:$A$503,"<="&$D$3,'주문 접수 대장'!$O$4:$O$503,"취소")) | J35: =IF($A35="","",IF(COUNTIFS('주문 접수 대장'!$F$4:$F$503,$A35,'주문 접수 대장'!$I$4:$I$503,"<>"&C35)>0,"단위 섞임",""))
A36: =IFERROR(INDEX('주문 접수 대장'!$F$4:$F$503,MATCH(31,'주문 접수 대장'!$S$4:$S$503,0)),"") | B36: =IF($A36="","",INDEX('주문 접수 대장'!$G$4:$G$503,MATCH($A36,'주문 접수 대장'!$F$4:$F$503,0))&"") | C36: =IF($A36="","",INDEX('주문 접수 대장'!$I$4:$I$503,MATCH($A36,'주문 접수 대장'!$F$4:$F$503,0))&"") | D36: =IF($A36="","",COUNTIFS('주문 접수 대장'!$F$4:$F$503,$A36,'주문 접수 대장'!$A$4:$A$503,">="&$B$3,'주문 접수 대장'!$A$4:$A$503,"<="&$D$3)) | E36: =IF($A36="","",SUMIFS('주문 접수 대장'!$H$4:$H$503,'주문 접수 대장'!$F$4:$F$503,$A36,'주문 접수 대장'!$A$4:$A$503,">="&$B$3,'주문 접수 대장'!$A$4:$A$503,"<="&$D$3)) | F36: =IF($A36="","",SUMIFS('주문 접수 대장'!$K$4:$K$503,'주문 접수 대장'!$F$4:$F$503,$A36,'주문 접수 대장'!$A$4:$A$503,">="&$B$3,'주문 접수 대장'!$A$4:$A$503,"<="&$D$3)) | G36: =IF($A36="","",SUMIFS('주문 접수 대장'!$H$4:$H$503,'주문 접수 대장'!$F$4:$F$503,$A36,'주문 접수 대장'!$A$4:$A$503,">="&$B$3,'주문 접수 대장'!$A$4:$A$503,"<="&$D$3,'주문 접수 대장'!$O$4:$O$503,"<>납품완료",'주문 접수 대장'!$O$4:$O$503,"<>취소")) | H36: =IF($A36="","",COUNTIFS('주문 접수 대장'!$F$4:$F$503,$A36,'주문 접수 대장'!$A$4:$A$503,">="&$B$3,'주문 접수 대장'!$A$4:$A$503,"<="&$D$3,'주문 접수 대장'!$P$4:$P$503,"지연")) | I36: =IF($A36="","",COUNTIFS('주문 접수 대장'!$F$4:$F$503,$A36,'주문 접수 대장'!$A$4:$A$503,">="&$B$3,'주문 접수 대장'!$A$4:$A$503,"<="&$D$3,'주문 접수 대장'!$O$4:$O$503,"취소")) | J36: =IF($A36="","",IF(COUNTIFS('주문 접수 대장'!$F$4:$F$503,$A36,'주문 접수 대장'!$I$4:$I$503,"<>"&C36)>0,"단위 섞임",""))
A37: =IFERROR(INDEX('주문 접수 대장'!$F$4:$F$503,MATCH(32,'주문 접수 대장'!$S$4:$S$503,0)),"") | B37: =IF($A37="","",INDEX('주문 접수 대장'!$G$4:$G$503,MATCH($A37,'주문 접수 대장'!$F$4:$F$503,0))&"") | C37: =IF($A37="","",INDEX('주문 접수 대장'!$I$4:$I$503,MATCH($A37,'주문 접수 대장'!$F$4:$F$503,0))&"") | D37: =IF($A37="","",COUNTIFS('주문 접수 대장'!$F$4:$F$503,$A37,'주문 접수 대장'!$A$4:$A$503,">="&$B$3,'주문 접수 대장'!$A$4:$A$503,"<="&$D$3)) | E37: =IF($A37="","",SUMIFS('주문 접수 대장'!$H$4:$H$503,'주문 접수 대장'!$F$4:$F$503,$A37,'주문 접수 대장'!$A$4:$A$503,">="&$B$3,'주문 접수 대장'!$A$4:$A$503,"<="&$D$3)) | F37: =IF($A37="","",SUMIFS('주문 접수 대장'!$K$4:$K$503,'주문 접수 대장'!$F$4:$F$503,$A37,'주문 접수 대장'!$A$4:$A$503,">="&$B$3,'주문 접수 대장'!$A$4:$A$503,"<="&$D$3)) | G37: =IF($A37="","",SUMIFS('주문 접수 대장'!$H$4:$H$503,'주문 접수 대장'!$F$4:$F$503,$A37,'주문 접수 대장'!$A$4:$A$503,">="&$B$3,'주문 접수 대장'!$A$4:$A$503,"<="&$D$3,'주문 접수 대장'!$O$4:$O$503,"<>납품완료",'주문 접수 대장'!$O$4:$O$503,"<>취소")) | H37: =IF($A37="","",COUNTIFS('주문 접수 대장'!$F$4:$F$503,$A37,'주문 접수 대장'!$A$4:$A$503,">="&$B$3,'주문 접수 대장'!$A$4:$A$503,"<="&$D$3,'주문 접수 대장'!$P$4:$P$503,"지연")) | I37: =IF($A37="","",COUNTIFS('주문 접수 대장'!$F$4:$F$503,$A37,'주문 접수 대장'!$A$4:$A$503,">="&$B$3,'주문 접수 대장'!$A$4:$A$503,"<="&$D$3,'주문 접수 대장'!$O$4:$O$503,"취소")) | J37: =IF($A37="","",IF(COUNTIFS('주문 접수 대장'!$F$4:$F$503,$A37,'주문 접수 대장'!$I$4:$I$503,"<>"&C37)>0,"단위 섞임",""))
A38: =IFERROR(INDEX('주문 접수 대장'!$F$4:$F$503,MATCH(33,'주문 접수 대장'!$S$4:$S$503,0)),"") | B38: =IF($A38="","",INDEX('주문 접수 대장'!$G$4:$G$503,MATCH($A38,'주문 접수 대장'!$F$4:$F$503,0))&"") | C38: =IF($A38="","",INDEX('주문 접수 대장'!$I$4:$I$503,MATCH($A38,'주문 접수 대장'!$F$4:$F$503,0))&"") | D38: =IF($A38="","",COUNTIFS('주문 접수 대장'!$F$4:$F$503,$A38,'주문 접수 대장'!$A$4:$A$503,">="&$B$3,'주문 접수 대장'!$A$4:$A$503,"<="&$D$3)) | E38: =IF($A38="","",SUMIFS('주문 접수 대장'!$H$4:$H$503,'주문 접수 대장'!$F$4:$F$503,$A38,'주문 접수 대장'!$A$4:$A$503,">="&$B$3,'주문 접수 대장'!$A$4:$A$503,"<="&$D$3)) | F38: =IF($A38="","",SUMIFS('주문 접수 대장'!$K$4:$K$503,'주문 접수 대장'!$F$4:$F$503,$A38,'주문 접수 대장'!$A$4:$A$503,">="&$B$3,'주문 접수 대장'!$A$4:$A$503,"<="&$D$3)) | G38: =IF($A38="","",SUMIFS('주문 접수 대장'!$H$4:$H$503,'주문 접수 대장'!$F$4:$F$503,$A38,'주문 접수 대장'!$A$4:$A$503,">="&$B$3,'주문 접수 대장'!$A$4:$A$503,"<="&$D$3,'주문 접수 대장'!$O$4:$O$503,"<>납품완료",'주문 접수 대장'!$O$4:$O$503,"<>취소")) | H38: =IF($A38="","",COUNTIFS('주문 접수 대장'!$F$4:$F$503,$A38,'주문 접수 대장'!$A$4:$A$503,">="&$B$3,'주문 접수 대장'!$A$4:$A$503,"<="&$D$3,'주문 접수 대장'!$P$4:$P$503,"지연")) | I38: =IF($A38="","",COUNTIFS('주문 접수 대장'!$F$4:$F$503,$A38,'주문 접수 대장'!$A$4:$A$503,">="&$B$3,'주문 접수 대장'!$A$4:$A$503,"<="&$D$3,'주문 접수 대장'!$O$4:$O$503,"취소")) | J38: =IF($A38="","",IF(COUNTIFS('주문 접수 대장'!$F$4:$F$503,$A38,'주문 접수 대장'!$I$4:$I$503,"<>"&C38)>0,"단위 섞임",""))
A39: =IFERROR(INDEX('주문 접수 대장'!$F$4:$F$503,MATCH(34,'주문 접수 대장'!$S$4:$S$503,0)),"") | B39: =IF($A39="","",INDEX('주문 접수 대장'!$G$4:$G$503,MATCH($A39,'주문 접수 대장'!$F$4:$F$503,0))&"") | C39: =IF($A39="","",INDEX('주문 접수 대장'!$I$4:$I$503,MATCH($A39,'주문 접수 대장'!$F$4:$F$503,0))&"") | D39: =IF($A39="","",COUNTIFS('주문 접수 대장'!$F$4:$F$503,$A39,'주문 접수 대장'!$A$4:$A$503,">="&$B$3,'주문 접수 대장'!$A$4:$A$503,"<="&$D$3)) | E39: =IF($A39="","",SUMIFS('주문 접수 대장'!$H$4:$H$503,'주문 접수 대장'!$F$4:$F$503,$A39,'주문 접수 대장'!$A$4:$A$503,">="&$B$3,'주문 접수 대장'!$A$4:$A$503,"<="&$D$3)) | F39: =IF($A39="","",SUMIFS('주문 접수 대장'!$K$4:$K$503,'주문 접수 대장'!$F$4:$F$503,$A39,'주문 접수 대장'!$A$4:$A$503,">="&$B$3,'주문 접수 대장'!$A$4:$A$503,"<="&$D$3)) | G39: =IF($A39="","",SUMIFS('주문 접수 대장'!$H$4:$H$503,'주문 접수 대장'!$F$4:$F$503,$A39,'주문 접수 대장'!$A$4:$A$503,">="&$B$3,'주문 접수 대장'!$A$4:$A$503,"<="&$D$3,'주문 접수 대장'!$O$4:$O$503,"<>납품완료",'주문 접수 대장'!$O$4:$O$503,"<>취소")) | H39: =IF($A39="","",COUNTIFS('주문 접수 대장'!$F$4:$F$503,$A39,'주문 접수 대장'!$A$4:$A$503,">="&$B$3,'주문 접수 대장'!$A$4:$A$503,"<="&$D$3,'주문 접수 대장'!$P$4:$P$503,"지연")) | I39: =IF($A39="","",COUNTIFS('주문 접수 대장'!$F$4:$F$503,$A39,'주문 접수 대장'!$A$4:$A$503,">="&$B$3,'주문 접수 대장'!$A$4:$A$503,"<="&$D$3,'주문 접수 대장'!$O$4:$O$503,"취소")) | J39: =IF($A39="","",IF(COUNTIFS('주문 접수 대장'!$F$4:$F$503,$A39,'주문 접수 대장'!$I$4:$I$503,"<>"&C39)>0,"단위 섞임",""))
A40: =IFERROR(INDEX('주문 접수 대장'!$F$4:$F$503,MATCH(35,'주문 접수 대장'!$S$4:$S$503,0)),"") | B40: =IF($A40="","",INDEX('주문 접수 대장'!$G$4:$G$503,MATCH($A40,'주문 접수 대장'!$F$4:$F$503,0))&"") | C40: =IF($A40="","",INDEX('주문 접수 대장'!$I$4:$I$503,MATCH($A40,'주문 접수 대장'!$F$4:$F$503,0))&"") | D40: =IF($A40="","",COUNTIFS('주문 접수 대장'!$F$4:$F$503,$A40,'주문 접수 대장'!$A$4:$A$503,">="&$B$3,'주문 접수 대장'!$A$4:$A$503,"<="&$D$3)) | E40: =IF($A40="","",SUMIFS('주문 접수 대장'!$H$4:$H$503,'주문 접수 대장'!$F$4:$F$503,$A40,'주문 접수 대장'!$A$4:$A$503,">="&$B$3,'주문 접수 대장'!$A$4:$A$503,"<="&$D$3)) | F40: =IF($A40="","",SUMIFS('주문 접수 대장'!$K$4:$K$503,'주문 접수 대장'!$F$4:$F$503,$A40,'주문 접수 대장'!$A$4:$A$503,">="&$B$3,'주문 접수 대장'!$A$4:$A$503,"<="&$D$3)) | G40: =IF($A40="","",SUMIFS('주문 접수 대장'!$H$4:$H$503,'주문 접수 대장'!$F$4:$F$503,$A40,'주문 접수 대장'!$A$4:$A$503,">="&$B$3,'주문 접수 대장'!$A$4:$A$503,"<="&$D$3,'주문 접수 대장'!$O$4:$O$503,"<>납품완료",'주문 접수 대장'!$O$4:$O$503,"<>취소")) | H40: =IF($A40="","",COUNTIFS('주문 접수 대장'!$F$4:$F$503,$A40,'주문 접수 대장'!$A$4:$A$503,">="&$B$3,'주문 접수 대장'!$A$4:$A$503,"<="&$D$3,'주문 접수 대장'!$P$4:$P$503,"지연")) | I40: =IF($A40="","",COUNTIFS('주문 접수 대장'!$F$4:$F$503,$A40,'주문 접수 대장'!$A$4:$A$503,">="&$B$3,'주문 접수 대장'!$A$4:$A$503,"<="&$D$3,'주문 접수 대장'!$O$4:$O$503,"취소")) | J40: =IF($A40="","",IF(COUNTIFS('주문 접수 대장'!$F$4:$F$503,$A40,'주문 접수 대장'!$I$4:$I$503,"<>"&C40)>0,"단위 섞임",""))
A41: =IFERROR(INDEX('주문 접수 대장'!$F$4:$F$503,MATCH(36,'주문 접수 대장'!$S$4:$S$503,0)),"") | B41: =IF($A41="","",INDEX('주문 접수 대장'!$G$4:$G$503,MATCH($A41,'주문 접수 대장'!$F$4:$F$503,0))&"") | C41: =IF($A41="","",INDEX('주문 접수 대장'!$I$4:$I$503,MATCH($A41,'주문 접수 대장'!$F$4:$F$503,0))&"") | D41: =IF($A41="","",COUNTIFS('주문 접수 대장'!$F$4:$F$503,$A41,'주문 접수 대장'!$A$4:$A$503,">="&$B$3,'주문 접수 대장'!$A$4:$A$503,"<="&$D$3)) | E41: =IF($A41="","",SUMIFS('주문 접수 대장'!$H$4:$H$503,'주문 접수 대장'!$F$4:$F$503,$A41,'주문 접수 대장'!$A$4:$A$503,">="&$B$3,'주문 접수 대장'!$A$4:$A$503,"<="&$D$3)) | F41: =IF($A41="","",SUMIFS('주문 접수 대장'!$K$4:$K$503,'주문 접수 대장'!$F$4:$F$503,$A41,'주문 접수 대장'!$A$4:$A$503,">="&$B$3,'주문 접수 대장'!$A$4:$A$503,"<="&$D$3)) | G41: =IF($A41="","",SUMIFS('주문 접수 대장'!$H$4:$H$503,'주문 접수 대장'!$F$4:$F$503,$A41,'주문 접수 대장'!$A$4:$A$503,">="&$B$3,'주문 접수 대장'!$A$4:$A$503,"<="&$D$3,'주문 접수 대장'!$O$4:$O$503,"<>납품완료",'주문 접수 대장'!$O$4:$O$503,"<>취소")) | H41: =IF($A41="","",COUNTIFS('주문 접수 대장'!$F$4:$F$503,$A41,'주문 접수 대장'!$A$4:$A$503,">="&$B$3,'주문 접수 대장'!$A$4:$A$503,"<="&$D$3,'주문 접수 대장'!$P$4:$P$503,"지연")) | I41: =IF($A41="","",COUNTIFS('주문 접수 대장'!$F$4:$F$503,$A41,'주문 접수 대장'!$A$4:$A$503,">="&$B$3,'주문 접수 대장'!$A$4:$A$503,"<="&$D$3,'주문 접수 대장'!$O$4:$O$503,"취소")) | J41: =IF($A41="","",IF(COUNTIFS('주문 접수 대장'!$F$4:$F$503,$A41,'주문 접수 대장'!$I$4:$I$503,"<>"&C41)>0,"단위 섞임",""))
...

Sheet 사용법
B2: 주문 접수 대장 사용법
B4: 1. 팩스·카톡·메일·전화로 주문이 들어오면 받는 즉시 '주문 접수 대장' 시트에 적습니다. 주문 한 건에 품목이 여럿이면 품목마다 한 줄씩, 수신일·거래처·발주번호는 같게 적습니다.
B5: 2. 접수 경로를 고르고, 수량과 단위(박스·kg·개)를 함께 적습니다. 단가를 적으면 금액이 자동으로 계산됩니다.
B6: 3. 납기일을 꼭 적습니다. 납기일이 지났으면 '지연'(빨강), 오늘부터 임박 기준(L1, 처음 1일) 안이면 '임박'(주황)으로 표시됩니다.
B7: 4. 출고·납품하면 처리상태를 바꿉니다. 납품완료·취소는 회색으로 바뀌고 지연·임박 표시에서 빠집니다.
B8: 5. 같은 주문이 팩스와 카톡으로 두 번 오면 거래처·납기가 같은 줄을 확인하고 하나를 '취소'로 바꿉니다. 수량·배송일 변경은 원래 줄을 고치고 특이사항에 받은 시각을 적습니다.
B9: 6. '품목별 집계' 시트에서 기간을 정하면 품목별 주문 줄 수·수량·금액·미납 수량이 나옵니다. '단위 섞임'이 뜨면 단위를 맞춥니다.
B11: 종이 원본은 법정 기간 동안 그대로 보관하세요. 시트는 찾기·집계·대조용 사본입니다.
B12: 카카오톡 캡처에는 다른 대화나 개인 연락처가 함께 담길 수 있습니다. 원본 위치에는 파일 이름이나 팩스철 위치만 적고, 대장은 필요한 사람에게만 공유하세요.
B14: 팩스·카톡·메일 주문서를 대장에 옮겨 적고 있다면
B15: AiutoForm은 주문서 사진·캡처(유료 AI)와 Gmail·Google Workspace 주문 메일을 읽어 고객발주 시트(수주대장)에 거래처·품목·수량·납기·배송지를 한 줄씩 쌓고, 납기일을 Google 캘린더에 올립니다. 카카오톡과 연동되지는 않습니다.
B16: 팩스·카톡 주문서 정리 가이드: https://aiutoform.co.kr/guide/fax-order-to-excel
B17: 가입 없이 데모로 확인: https://aiutoform.co.kr/demo
