Workbook

Sheet 고정자산관리대장
A1: 고정자산관리대장 | D1: 보유 자산 | E1: =COUNTIFS($A$4:$A$503,"<>",$M$4:$M$503,"<>폐기",$M$4:$M$503,"<>매각") | F1: 보유 취득가액 | G1: =SUMIFS($E$4:$E$503,$M$4:$M$503,"<>폐기",$M$4:$M$503,"<>매각") | H1: 실사 미완료 | I1: =COUNTIF($Q$4:$Q$503,"실사표에 없음")+COUNTIF($Q$4:$Q$503,"미확인") | J1: 감가상각비는 계산하지 않습니다. 내용연수·상각방법은 세무사와 정한 값을 적습니다. 자산번호가 겹치면 빨간색으로 표시됩니다.
A2: 합계 | B2: =SUBTOTAL(103,B4:B503)&"건" | E2: =SUBTOTAL(109,E4:E503) | F2: =SUBTOTAL(109,F4:F503) | O2: =SUBTOTAL(109,O4:O503)
A3: 자산번호 | B3: 자산명·규격 | C3: 분류 | D3: 취득일 | E3: 취득가액 (공급가액) | F3: 세액 | G3: 공급처 | H3: 증빙 (세금계산서 등) | I3: 위치 | J3: 사용부서·담당 | K3: 내용연수 | L3: 상각방법 | M3: 상태 | N3: 처분일 | O3: 처분가액 | P3: 100만 원 이하 (자동) | Q3: 실사 결과(자동) | R3: 비고
P4: =IF(E4="","",IF(E4<=1000000,"확인 필요","")) | Q4: =IF(A4="","",IF(OR(M4="폐기",M4="매각"),"-",IF(ISNA(MATCH(A4,'연말 실사표'!$A$7:$A$506,0)),"실사표에 없음",IF(INDEX('연말 실사표'!$D$7:$D$506,MATCH(A4,'연말 실사표'!$A$7:$A$506,0))="","미확인",INDEX('연말 실사표'!$D$7:$D$506,MATCH(A4,'연말 실사표'!$A$7:$A$506,0))))))
P5: =IF(E5="","",IF(E5<=1000000,"확인 필요","")) | Q5: =IF(A5="","",IF(OR(M5="폐기",M5="매각"),"-",IF(ISNA(MATCH(A5,'연말 실사표'!$A$7:$A$506,0)),"실사표에 없음",IF(INDEX('연말 실사표'!$D$7:$D$506,MATCH(A5,'연말 실사표'!$A$7:$A$506,0))="","미확인",INDEX('연말 실사표'!$D$7:$D$506,MATCH(A5,'연말 실사표'!$A$7:$A$506,0))))))
P6: =IF(E6="","",IF(E6<=1000000,"확인 필요","")) | Q6: =IF(A6="","",IF(OR(M6="폐기",M6="매각"),"-",IF(ISNA(MATCH(A6,'연말 실사표'!$A$7:$A$506,0)),"실사표에 없음",IF(INDEX('연말 실사표'!$D$7:$D$506,MATCH(A6,'연말 실사표'!$A$7:$A$506,0))="","미확인",INDEX('연말 실사표'!$D$7:$D$506,MATCH(A6,'연말 실사표'!$A$7:$A$506,0))))))
P7: =IF(E7="","",IF(E7<=1000000,"확인 필요","")) | Q7: =IF(A7="","",IF(OR(M7="폐기",M7="매각"),"-",IF(ISNA(MATCH(A7,'연말 실사표'!$A$7:$A$506,0)),"실사표에 없음",IF(INDEX('연말 실사표'!$D$7:$D$506,MATCH(A7,'연말 실사표'!$A$7:$A$506,0))="","미확인",INDEX('연말 실사표'!$D$7:$D$506,MATCH(A7,'연말 실사표'!$A$7:$A$506,0))))))
P8: =IF(E8="","",IF(E8<=1000000,"확인 필요","")) | Q8: =IF(A8="","",IF(OR(M8="폐기",M8="매각"),"-",IF(ISNA(MATCH(A8,'연말 실사표'!$A$7:$A$506,0)),"실사표에 없음",IF(INDEX('연말 실사표'!$D$7:$D$506,MATCH(A8,'연말 실사표'!$A$7:$A$506,0))="","미확인",INDEX('연말 실사표'!$D$7:$D$506,MATCH(A8,'연말 실사표'!$A$7:$A$506,0))))))
P9: =IF(E9="","",IF(E9<=1000000,"확인 필요","")) | Q9: =IF(A9="","",IF(OR(M9="폐기",M9="매각"),"-",IF(ISNA(MATCH(A9,'연말 실사표'!$A$7:$A$506,0)),"실사표에 없음",IF(INDEX('연말 실사표'!$D$7:$D$506,MATCH(A9,'연말 실사표'!$A$7:$A$506,0))="","미확인",INDEX('연말 실사표'!$D$7:$D$506,MATCH(A9,'연말 실사표'!$A$7:$A$506,0))))))
P10: =IF(E10="","",IF(E10<=1000000,"확인 필요","")) | Q10: =IF(A10="","",IF(OR(M10="폐기",M10="매각"),"-",IF(ISNA(MATCH(A10,'연말 실사표'!$A$7:$A$506,0)),"실사표에 없음",IF(INDEX('연말 실사표'!$D$7:$D$506,MATCH(A10,'연말 실사표'!$A$7:$A$506,0))="","미확인",INDEX('연말 실사표'!$D$7:$D$506,MATCH(A10,'연말 실사표'!$A$7:$A$506,0))))))
P11: =IF(E11="","",IF(E11<=1000000,"확인 필요","")) | Q11: =IF(A11="","",IF(OR(M11="폐기",M11="매각"),"-",IF(ISNA(MATCH(A11,'연말 실사표'!$A$7:$A$506,0)),"실사표에 없음",IF(INDEX('연말 실사표'!$D$7:$D$506,MATCH(A11,'연말 실사표'!$A$7:$A$506,0))="","미확인",INDEX('연말 실사표'!$D$7:$D$506,MATCH(A11,'연말 실사표'!$A$7:$A$506,0))))))
P12: =IF(E12="","",IF(E12<=1000000,"확인 필요","")) | Q12: =IF(A12="","",IF(OR(M12="폐기",M12="매각"),"-",IF(ISNA(MATCH(A12,'연말 실사표'!$A$7:$A$506,0)),"실사표에 없음",IF(INDEX('연말 실사표'!$D$7:$D$506,MATCH(A12,'연말 실사표'!$A$7:$A$506,0))="","미확인",INDEX('연말 실사표'!$D$7:$D$506,MATCH(A12,'연말 실사표'!$A$7:$A$506,0))))))
P13: =IF(E13="","",IF(E13<=1000000,"확인 필요","")) | Q13: =IF(A13="","",IF(OR(M13="폐기",M13="매각"),"-",IF(ISNA(MATCH(A13,'연말 실사표'!$A$7:$A$506,0)),"실사표에 없음",IF(INDEX('연말 실사표'!$D$7:$D$506,MATCH(A13,'연말 실사표'!$A$7:$A$506,0))="","미확인",INDEX('연말 실사표'!$D$7:$D$506,MATCH(A13,'연말 실사표'!$A$7:$A$506,0))))))
P14: =IF(E14="","",IF(E14<=1000000,"확인 필요","")) | Q14: =IF(A14="","",IF(OR(M14="폐기",M14="매각"),"-",IF(ISNA(MATCH(A14,'연말 실사표'!$A$7:$A$506,0)),"실사표에 없음",IF(INDEX('연말 실사표'!$D$7:$D$506,MATCH(A14,'연말 실사표'!$A$7:$A$506,0))="","미확인",INDEX('연말 실사표'!$D$7:$D$506,MATCH(A14,'연말 실사표'!$A$7:$A$506,0))))))
P15: =IF(E15="","",IF(E15<=1000000,"확인 필요","")) | Q15: =IF(A15="","",IF(OR(M15="폐기",M15="매각"),"-",IF(ISNA(MATCH(A15,'연말 실사표'!$A$7:$A$506,0)),"실사표에 없음",IF(INDEX('연말 실사표'!$D$7:$D$506,MATCH(A15,'연말 실사표'!$A$7:$A$506,0))="","미확인",INDEX('연말 실사표'!$D$7:$D$506,MATCH(A15,'연말 실사표'!$A$7:$A$506,0))))))
... P503: =IF(E503="","",IF(E503<=1000000,"확인 필요","")) | Q503: =IF(A503="","",IF(OR(M503="폐기",M503="매각"),"-",IF(ISNA(MATCH(A503,'연말 실사표'!$A$7:$A$506,0)),"실사표에 없음",IF(INDEX('연말 실사표'!$D$7:$D$506,MATCH(A503,'연말 실사표'!$A$7:$A$506,0))="","미확인",INDEX('연말 실사표'!$D$7:$D$506,MATCH(A503,'연말 실사표'!$A$7:$A$506,0))))))

Sheet 연말 실사표
A1: 연말 자산 실사표
A2: 자산번호를 적으면 자산명·대장 위치가 자동으로 나옵니다. '고정자산관리대장' 시트의 자산번호 열을 복사해 A열에 값으로 붙여 넣으면 빠릅니다. 위치로 걸러 인쇄해 현장에서 확인합니다.
A3: 실사 기준일 | C3: 실사자 | E3: 있음 | F3: =COUNTIF($D$7:$D$506,"있음") | G3: 없음 | H3: =COUNTIF($D$7:$D$506,"없음")
A4: 보유 자산(대장) | B4: =COUNTIFS('고정자산관리대장'!$A$4:$A$503,"<>",'고정자산관리대장'!$M$4:$M$503,"<>폐기",'고정자산관리대장'!$M$4:$M$503,"<>매각") | C4: 위치 변경 | D4: =COUNTIF($D$7:$D$506,"위치 변경") | E4: 실사표에 없음 | F4: =COUNTIF('고정자산관리대장'!$Q$4:$Q$503,"실사표에 없음") | G4: 결과 미입력 | H4: =COUNTIFS($A$7:$A$506,"<>",$D$7:$D$506,"")
A6: 자산번호 | B6: 자산명(자동) | C6: 대장 위치(자동) | D6: 실사 결과 | E6: 실제 위치 | F6: 상태 확인 | G6: 확인자 | H6: 확인일 | I6: 비고
B7: =IF(A7="","",IFERROR(INDEX('고정자산관리대장'!$B$4:$B$503,MATCH(A7,'고정자산관리대장'!$A$4:$A$503,0))&"","대장에 없는 자산")) | C7: =IF(OR(A7="",B7="대장에 없는 자산"),"",INDEX('고정자산관리대장'!$I$4:$I$503,MATCH(A7,'고정자산관리대장'!$A$4:$A$503,0))&"")
B8: =IF(A8="","",IFERROR(INDEX('고정자산관리대장'!$B$4:$B$503,MATCH(A8,'고정자산관리대장'!$A$4:$A$503,0))&"","대장에 없는 자산")) | C8: =IF(OR(A8="",B8="대장에 없는 자산"),"",INDEX('고정자산관리대장'!$I$4:$I$503,MATCH(A8,'고정자산관리대장'!$A$4:$A$503,0))&"")
B9: =IF(A9="","",IFERROR(INDEX('고정자산관리대장'!$B$4:$B$503,MATCH(A9,'고정자산관리대장'!$A$4:$A$503,0))&"","대장에 없는 자산")) | C9: =IF(OR(A9="",B9="대장에 없는 자산"),"",INDEX('고정자산관리대장'!$I$4:$I$503,MATCH(A9,'고정자산관리대장'!$A$4:$A$503,0))&"")
B10: =IF(A10="","",IFERROR(INDEX('고정자산관리대장'!$B$4:$B$503,MATCH(A10,'고정자산관리대장'!$A$4:$A$503,0))&"","대장에 없는 자산")) | C10: =IF(OR(A10="",B10="대장에 없는 자산"),"",INDEX('고정자산관리대장'!$I$4:$I$503,MATCH(A10,'고정자산관리대장'!$A$4:$A$503,0))&"")
B11: =IF(A11="","",IFERROR(INDEX('고정자산관리대장'!$B$4:$B$503,MATCH(A11,'고정자산관리대장'!$A$4:$A$503,0))&"","대장에 없는 자산")) | C11: =IF(OR(A11="",B11="대장에 없는 자산"),"",INDEX('고정자산관리대장'!$I$4:$I$503,MATCH(A11,'고정자산관리대장'!$A$4:$A$503,0))&"")
B12: =IF(A12="","",IFERROR(INDEX('고정자산관리대장'!$B$4:$B$503,MATCH(A12,'고정자산관리대장'!$A$4:$A$503,0))&"","대장에 없는 자산")) | C12: =IF(OR(A12="",B12="대장에 없는 자산"),"",INDEX('고정자산관리대장'!$I$4:$I$503,MATCH(A12,'고정자산관리대장'!$A$4:$A$503,0))&"")
B13: =IF(A13="","",IFERROR(INDEX('고정자산관리대장'!$B$4:$B$503,MATCH(A13,'고정자산관리대장'!$A$4:$A$503,0))&"","대장에 없는 자산")) | C13: =IF(OR(A13="",B13="대장에 없는 자산"),"",INDEX('고정자산관리대장'!$I$4:$I$503,MATCH(A13,'고정자산관리대장'!$A$4:$A$503,0))&"")
B14: =IF(A14="","",IFERROR(INDEX('고정자산관리대장'!$B$4:$B$503,MATCH(A14,'고정자산관리대장'!$A$4:$A$503,0))&"","대장에 없는 자산")) | C14: =IF(OR(A14="",B14="대장에 없는 자산"),"",INDEX('고정자산관리대장'!$I$4:$I$503,MATCH(A14,'고정자산관리대장'!$A$4:$A$503,0))&"")
B15: =IF(A15="","",IFERROR(INDEX('고정자산관리대장'!$B$4:$B$503,MATCH(A15,'고정자산관리대장'!$A$4:$A$503,0))&"","대장에 없는 자산")) | C15: =IF(OR(A15="",B15="대장에 없는 자산"),"",INDEX('고정자산관리대장'!$I$4:$I$503,MATCH(A15,'고정자산관리대장'!$A$4:$A$503,0))&"")
B16: =IF(A16="","",IFERROR(INDEX('고정자산관리대장'!$B$4:$B$503,MATCH(A16,'고정자산관리대장'!$A$4:$A$503,0))&"","대장에 없는 자산")) | C16: =IF(OR(A16="",B16="대장에 없는 자산"),"",INDEX('고정자산관리대장'!$I$4:$I$503,MATCH(A16,'고정자산관리대장'!$A$4:$A$503,0))&"")
B17: =IF(A17="","",IFERROR(INDEX('고정자산관리대장'!$B$4:$B$503,MATCH(A17,'고정자산관리대장'!$A$4:$A$503,0))&"","대장에 없는 자산")) | C17: =IF(OR(A17="",B17="대장에 없는 자산"),"",INDEX('고정자산관리대장'!$I$4:$I$503,MATCH(A17,'고정자산관리대장'!$A$4:$A$503,0))&"")
B18: =IF(A18="","",IFERROR(INDEX('고정자산관리대장'!$B$4:$B$503,MATCH(A18,'고정자산관리대장'!$A$4:$A$503,0))&"","대장에 없는 자산")) | C18: =IF(OR(A18="",B18="대장에 없는 자산"),"",INDEX('고정자산관리대장'!$I$4:$I$503,MATCH(A18,'고정자산관리대장'!$A$4:$A$503,0))&"")
... B506: =IF(A506="","",IFERROR(INDEX('고정자산관리대장'!$B$4:$B$503,MATCH(A506,'고정자산관리대장'!$A$4:$A$503,0))&"","대장에 없는 자산")) | C506: =IF(OR(A506="",B506="대장에 없는 자산"),"",INDEX('고정자산관리대장'!$I$4:$I$503,MATCH(A506,'고정자산관리대장'!$A$4:$A$503,0))&"")

Sheet 사용법
B2: 고정자산관리대장·연말 실사표 사용법
B4: 1. 장비·비품마다 '고정자산관리대장'에 한 줄씩 적습니다. 자산번호는 라벨에 붙이는 번호(예: F-2026-001)로, 실사 때 찾는 기준입니다. 같은 번호가 두 번 나오면 빨간색으로 표시됩니다.
B5: 2. 취득가액에는 세금계산서의 공급가액을, 세액 열에는 부가세를 나눠 적습니다. 증빙 칸에 세금계산서 작성일자·번호를 적어 두면 결산 때 다시 찾지 않아도 됩니다.
B6: 3. 취득가액이 100만 원 이하이면 '확인 필요'가 표시됩니다. 즉시상각 해당 여부를 세무사와 확인할 목록이며 판단이 아닙니다.
B7: 4. 내용연수·상각방법은 세무사와 정한 값을 적습니다. 이 양식은 감가상각비를 계산하지 않습니다.
B8: 5. 연말 실사 때 '연말 실사표'에 실사 기준일과 실사자를 적고 자산번호를 적으면 자산명과 대장 위치가 자동으로 나옵니다. 대장의 자산번호 열을 복사해 값으로 붙여 넣으면 빠릅니다.
B9: 6. 위치로 걸러 인쇄해 현장에서 라벨을 확인하고 실사 결과(있음·없음·위치 변경)와 상태를 고릅니다.
B10: 7. 대장의 '실사 결과' 열에 결과가 자동으로 표시됩니다. '실사표에 없음'은 실사표에 번호를 적지 않은 자산, '미확인'은 결과를 고르지 않은 자산입니다. 실사표에 '대장에 없는 자산'이 뜨면 대장 등록이 빠진 것입니다.
B11: 8. 위치가 바뀐 자산은 대장의 위치를 고치고, 폐기·매각한 자산은 상태와 처분일·처분가액을 적습니다. 폐기·매각 자산은 회색으로 바뀌고 실사 대상에서 빠집니다.
B13: 법인은 결산을 확정할 때 감가상각비를 손비로 계상한 경우에만 상각범위액 안에서 손금에 넣습니다(법인세법 제23조①). 거래단위별 취득가액 100만 원 이하 감가상각자산은 사업에 쓴 연도에 손비로 계상하면 손금에 넣을 수 있고 예외 자산이 있습니다(시행령 제31조④).
B14: 업무용승용차는 정액법·내용연수 5년이 정해져 있으니(시행령 제50조의2③) 비고에 따로 표시해 둡니다. 상각 방법·금액과 손금 여부는 세무사와 확인하세요.
B15: 구입 세금계산서·계약서 원본은 법정 기간 보관합니다. 등기·등록 자산의 계약서처럼 원본 보존이 필요한 문서는 스캔본으로 대신할 수 없습니다(국세기본법 시행령 제65조의7③).
... B23: 무료 양식 제공: AiutoForm (aiutoform.co.kr)
