Workbook

Sheet 지출결의서
A1: 지 출 결 의 서 | F1: 담당 | G1: 팀장 | H1: 대표
A5: 결의일자 | D5: 결의번호 | F5: 부서
A6: 작성자 | D6: 지급 방법 | F6: 지급일
A7: 지출 구분 | D7: 지급처
A8: 지출 목적
A10: 합계금액 | C10: =IF(F25=0,"",F25) | F10: 부가세 포함 금액
A12: No | B12: 지출일 | C12: 내용(적요) | D12: 계정과목 | E12: 거래처 | F12: 금액 | G12: 증빙 종류 | H12: 확인(자동)
A13: 1 | H13: =IF(F13="","",IF(G13="","증빙 빈칸",IF(AND(F13>30000,NOT(OR(G13="세금계산서",G13="계산서",G13="카드전표",G13="현금영수증"))),"확인 필요","")))
A14: 2 | H14: =IF(F14="","",IF(G14="","증빙 빈칸",IF(AND(F14>30000,NOT(OR(G14="세금계산서",G14="계산서",G14="카드전표",G14="현금영수증"))),"확인 필요","")))
A15: 3 | H15: =IF(F15="","",IF(G15="","증빙 빈칸",IF(AND(F15>30000,NOT(OR(G15="세금계산서",G15="계산서",G15="카드전표",G15="현금영수증"))),"확인 필요","")))
A16: 4 | H16: =IF(F16="","",IF(G16="","증빙 빈칸",IF(AND(F16>30000,NOT(OR(G16="세금계산서",G16="계산서",G16="카드전표",G16="현금영수증"))),"확인 필요","")))
A17: 5 | H17: =IF(F17="","",IF(G17="","증빙 빈칸",IF(AND(F17>30000,NOT(OR(G17="세금계산서",G17="계산서",G17="카드전표",G17="현금영수증"))),"확인 필요","")))
A18: 6 | H18: =IF(F18="","",IF(G18="","증빙 빈칸",IF(AND(F18>30000,NOT(OR(G18="세금계산서",G18="계산서",G18="카드전표",G18="현금영수증"))),"확인 필요","")))
A19: 7 | H19: =IF(F19="","",IF(G19="","증빙 빈칸",IF(AND(F19>30000,NOT(OR(G19="세금계산서",G19="계산서",G19="카드전표",G19="현금영수증"))),"확인 필요","")))
A20: 8 | H20: =IF(F20="","",IF(G20="","증빙 빈칸",IF(AND(F20>30000,NOT(OR(G20="세금계산서",G20="계산서",G20="카드전표",G20="현금영수증"))),"확인 필요","")))
A21: 9 | H21: =IF(F21="","",IF(G21="","증빙 빈칸",IF(AND(F21>30000,NOT(OR(G21="세금계산서",G21="계산서",G21="카드전표",G21="현금영수증"))),"확인 필요","")))
A22: 10 | H22: =IF(F22="","",IF(G22="","증빙 빈칸",IF(AND(F22>30000,NOT(OR(G22="세금계산서",G22="계산서",G22="카드전표",G22="현금영수증"))),"확인 필요","")))
A23: 11 | H23: =IF(F23="","",IF(G23="","증빙 빈칸",IF(AND(F23>30000,NOT(OR(G23="세금계산서",G23="계산서",G23="카드전표",G23="현금영수증"))),"확인 필요","")))
A24: 12 | H24: =IF(F24="","",IF(G24="","증빙 빈칸",IF(AND(F24>30000,NOT(OR(G24="세금계산서",G24="계산서",G24="카드전표",G24="현금영수증"))),"확인 필요","")))
A25: 합 계 | F25: =SUM(F13:F24) | H25: =IF(COUNTIF(H13:H24,"확인 필요")+COUNTIF(H13:H24,"증빙 빈칸")=0,"",COUNTIF(H13:H24,"확인 필요")+COUNTIF(H13:H24,"증빙 빈칸")&"건")
A26: 확인(자동): 증빙 종류가 비면 '증빙 빈칸', 금액이 3만 원(부가세 포함)을 넘는데 증빙이 간이영수증·없음이면 '확인 필요'. 적격증빙 여부와 가산세는 판단하지 않으니 세무사와 확인하세요.
A27: 첨부 증빙 | D27: 영수인 | H27: (인)
A28: 비고
A31: 무료 양식 제공: AiutoForm (aiutoform.co.kr) · 종이 결의서·영수증 사진을 AI가 읽어 지출 증빙 시트에 한 줄씩 쌓습니다.

Sheet 경비 증빙 대장
A1: 경비 증빙 대장 | D1: 확인 필요 | E1: =COUNTIF($M$4:$M$503,"확인 필요") | F1: 증빙 빈칸 | G1: =COUNTIF($M$4:$M$503,"증빙 빈칸") | H1: 사적 사용 미회수 | I1: =COUNTIFS($Q$4:$Q$503,"예",$R$4:$R$503,"") | J1: 지출 한 건에 한 줄. 3만 원(부가세 포함) 초과인데 증빙이 간이영수증·없음이면 '확인 필요', 증빙을 안 적으면 '증빙 빈칸'으로 표시합니다. 판단은 세무사와 확인하세요.
A2: 합계 | B2: =SUBTOTAL(103,C4:C503)&"건" | H2: =SUBTOTAL(109,H4:H503)
A3: 지출일 | B3: 결의서 번호 | C3: 거래처(사용처) | D3: 사업자번호 | E3: 내용 | F3: 계정과목 | G3: 현장·부서 | H3: 금액(부가세 포함) | I3: 지출 구분 | J3: 받은 증빙 | K3: 증빙 구분(자동) | L3: 3만 원 초과(자동) | M3: 확인 표시(자동) | N3: 지급 방법 | O3: 사용자 | P3: 결재자 | Q3: 사적 사용 | R3: 회수일 | S3: 보완 요청일 | T3: 원본 위치 | U3: 비고
K4: =IF(H4="","",IF(J4="","증빙 빈칸",IF(OR(J4="세금계산서",J4="계산서",J4="카드전표",J4="현금영수증"),"적격증빙 4종",IF(J4="없음","증빙 없음","간이·기타")))) | L4: =IF(H4="","",IF(H4>30000,"초과","")) | M4: =IF(H4="","",IF(J4="","증빙 빈칸",IF(AND(H4>30000,K4<>"적격증빙 4종"),"확인 필요","")))
K5: =IF(H5="","",IF(J5="","증빙 빈칸",IF(OR(J5="세금계산서",J5="계산서",J5="카드전표",J5="현금영수증"),"적격증빙 4종",IF(J5="없음","증빙 없음","간이·기타")))) | L5: =IF(H5="","",IF(H5>30000,"초과","")) | M5: =IF(H5="","",IF(J5="","증빙 빈칸",IF(AND(H5>30000,K5<>"적격증빙 4종"),"확인 필요","")))
K6: =IF(H6="","",IF(J6="","증빙 빈칸",IF(OR(J6="세금계산서",J6="계산서",J6="카드전표",J6="현금영수증"),"적격증빙 4종",IF(J6="없음","증빙 없음","간이·기타")))) | L6: =IF(H6="","",IF(H6>30000,"초과","")) | M6: =IF(H6="","",IF(J6="","증빙 빈칸",IF(AND(H6>30000,K6<>"적격증빙 4종"),"확인 필요","")))
K7: =IF(H7="","",IF(J7="","증빙 빈칸",IF(OR(J7="세금계산서",J7="계산서",J7="카드전표",J7="현금영수증"),"적격증빙 4종",IF(J7="없음","증빙 없음","간이·기타")))) | L7: =IF(H7="","",IF(H7>30000,"초과","")) | M7: =IF(H7="","",IF(J7="","증빙 빈칸",IF(AND(H7>30000,K7<>"적격증빙 4종"),"확인 필요","")))
K8: =IF(H8="","",IF(J8="","증빙 빈칸",IF(OR(J8="세금계산서",J8="계산서",J8="카드전표",J8="현금영수증"),"적격증빙 4종",IF(J8="없음","증빙 없음","간이·기타")))) | L8: =IF(H8="","",IF(H8>30000,"초과","")) | M8: =IF(H8="","",IF(J8="","증빙 빈칸",IF(AND(H8>30000,K8<>"적격증빙 4종"),"확인 필요","")))
K9: =IF(H9="","",IF(J9="","증빙 빈칸",IF(OR(J9="세금계산서",J9="계산서",J9="카드전표",J9="현금영수증"),"적격증빙 4종",IF(J9="없음","증빙 없음","간이·기타")))) | L9: =IF(H9="","",IF(H9>30000,"초과","")) | M9: =IF(H9="","",IF(J9="","증빙 빈칸",IF(AND(H9>30000,K9<>"적격증빙 4종"),"확인 필요","")))
K10: =IF(H10="","",IF(J10="","증빙 빈칸",IF(OR(J10="세금계산서",J10="계산서",J10="카드전표",J10="현금영수증"),"적격증빙 4종",IF(J10="없음","증빙 없음","간이·기타")))) | L10: =IF(H10="","",IF(H10>30000,"초과","")) | M10: =IF(H10="","",IF(J10="","증빙 빈칸",IF(AND(H10>30000,K10<>"적격증빙 4종"),"확인 필요","")))
K11: =IF(H11="","",IF(J11="","증빙 빈칸",IF(OR(J11="세금계산서",J11="계산서",J11="카드전표",J11="현금영수증"),"적격증빙 4종",IF(J11="없음","증빙 없음","간이·기타")))) | L11: =IF(H11="","",IF(H11>30000,"초과","")) | M11: =IF(H11="","",IF(J11="","증빙 빈칸",IF(AND(H11>30000,K11<>"적격증빙 4종"),"확인 필요","")))
K12: =IF(H12="","",IF(J12="","증빙 빈칸",IF(OR(J12="세금계산서",J12="계산서",J12="카드전표",J12="현금영수증"),"적격증빙 4종",IF(J12="없음","증빙 없음","간이·기타")))) | L12: =IF(H12="","",IF(H12>30000,"초과","")) | M12: =IF(H12="","",IF(J12="","증빙 빈칸",IF(AND(H12>30000,K12<>"적격증빙 4종"),"확인 필요","")))
K13: =IF(H13="","",IF(J13="","증빙 빈칸",IF(OR(J13="세금계산서",J13="계산서",J13="카드전표",J13="현금영수증"),"적격증빙 4종",IF(J13="없음","증빙 없음","간이·기타")))) | L13: =IF(H13="","",IF(H13>30000,"초과","")) | M13: =IF(H13="","",IF(J13="","증빙 빈칸",IF(AND(H13>30000,K13<>"적격증빙 4종"),"확인 필요","")))
K14: =IF(H14="","",IF(J14="","증빙 빈칸",IF(OR(J14="세금계산서",J14="계산서",J14="카드전표",J14="현금영수증"),"적격증빙 4종",IF(J14="없음","증빙 없음","간이·기타")))) | L14: =IF(H14="","",IF(H14>30000,"초과","")) | M14: =IF(H14="","",IF(J14="","증빙 빈칸",IF(AND(H14>30000,K14<>"적격증빙 4종"),"확인 필요","")))
K15: =IF(H15="","",IF(J15="","증빙 빈칸",IF(OR(J15="세금계산서",J15="계산서",J15="카드전표",J15="현금영수증"),"적격증빙 4종",IF(J15="없음","증빙 없음","간이·기타")))) | L15: =IF(H15="","",IF(H15>30000,"초과","")) | M15: =IF(H15="","",IF(J15="","증빙 빈칸",IF(AND(H15>30000,K15<>"적격증빙 4종"),"확인 필요","")))
... K503: =IF(H503="","",IF(J503="","증빙 빈칸",IF(OR(J503="세금계산서",J503="계산서",J503="카드전표",J503="현금영수증"),"적격증빙 4종",IF(J503="없음","증빙 없음","간이·기타")))) | L503: =IF(H503="","",IF(H503>30000,"초과","")) | M503: =IF(H503="","",IF(J503="","증빙 빈칸",IF(AND(H503>30000,K503<>"적격증빙 4종"),"확인 필요","")))

Sheet 월·계정별 집계
A1: 월·계정별 집계
A2: '경비 증빙 대장' 시트에서 자동으로 계산합니다. 계정과목(A열)은 회사 기준에 맞게 고쳐 쓰세요. 이 목록이 대장의 계정과목 선택 목록이 됩니다.
A3: 조회 연도 | B3: =YEAR(TODAY()) | C3: 연도를 직접 적어도 됩니다 (예: 2026).
A5: 계정과목 | B5: 1월 | C5: 2월 | D5: 3월 | E5: 4월 | F5: 5월 | G5: 6월 | H5: 7월 | I5: 8월 | J5: 9월 | K5: 10월 | L5: 11월 | M5: 12월 | N5: 연 합계
A6: 원재료·자재비 | B6: =IF($A6="","",SUMIFS('경비 증빙 대장'!$H$4:$H$503,'경비 증빙 대장'!$F$4:$F$503,$A6,'경비 증빙 대장'!$A$4:$A$503,">="&DATE($B$3,1,1),'경비 증빙 대장'!$A$4:$A$503,"<"&DATE($B$3,2,1))) | C6: =IF($A6="","",SUMIFS('경비 증빙 대장'!$H$4:$H$503,'경비 증빙 대장'!$F$4:$F$503,$A6,'경비 증빙 대장'!$A$4:$A$503,">="&DATE($B$3,2,1),'경비 증빙 대장'!$A$4:$A$503,"<"&DATE($B$3,3,1))) | D6: =IF($A6="","",SUMIFS('경비 증빙 대장'!$H$4:$H$503,'경비 증빙 대장'!$F$4:$F$503,$A6,'경비 증빙 대장'!$A$4:$A$503,">="&DATE($B$3,3,1),'경비 증빙 대장'!$A$4:$A$503,"<"&DATE($B$3,4,1))) | E6: =IF($A6="","",SUMIFS('경비 증빙 대장'!$H$4:$H$503,'경비 증빙 대장'!$F$4:$F$503,$A6,'경비 증빙 대장'!$A$4:$A$503,">="&DATE($B$3,4,1),'경비 증빙 대장'!$A$4:$A$503,"<"&DATE($B$3,5,1))) | F6: =IF($A6="","",SUMIFS('경비 증빙 대장'!$H$4:$H$503,'경비 증빙 대장'!$F$4:$F$503,$A6,'경비 증빙 대장'!$A$4:$A$503,">="&DATE($B$3,5,1),'경비 증빙 대장'!$A$4:$A$503,"<"&DATE($B$3,6,1))) | G6: =IF($A6="","",SUMIFS('경비 증빙 대장'!$H$4:$H$503,'경비 증빙 대장'!$F$4:$F$503,$A6,'경비 증빙 대장'!$A$4:$A$503,">="&DATE($B$3,6,1),'경비 증빙 대장'!$A$4:$A$503,"<"&DATE($B$3,7,1))) | H6: =IF($A6="","",SUMIFS('경비 증빙 대장'!$H$4:$H$503,'경비 증빙 대장'!$F$4:$F$503,$A6,'경비 증빙 대장'!$A$4:$A$503,">="&DATE($B$3,7,1),'경비 증빙 대장'!$A$4:$A$503,"<"&DATE($B$3,8,1))) | I6: =IF($A6="","",SUMIFS('경비 증빙 대장'!$H$4:$H$503,'경비 증빙 대장'!$F$4:$F$503,$A6,'경비 증빙 대장'!$A$4:$A$503,">="&DATE($B$3,8,1),'경비 증빙 대장'!$A$4:$A$503,"<"&DATE($B$3,9,1))) | J6: =IF($A6="","",SUMIFS('경비 증빙 대장'!$H$4:$H$503,'경비 증빙 대장'!$F$4:$F$503,$A6,'경비 증빙 대장'!$A$4:$A$503,">="&DATE($B$3,9,1),'경비 증빙 대장'!$A$4:$A$503,"<"&DATE($B$3,10,1))) | K6: =IF($A6="","",SUMIFS('경비 증빙 대장'!$H$4:$H$503,'경비 증빙 대장'!$F$4:$F$503,$A6,'경비 증빙 대장'!$A$4:$A$503,">="&DATE($B$3,10,1),'경비 증빙 대장'!$A$4:$A$503,"<"&DATE($B$3,11,1))) | L6: =IF($A6="","",SUMIFS('경비 증빙 대장'!$H$4:$H$503,'경비 증빙 대장'!$F$4:$F$503,$A6,'경비 증빙 대장'!$A$4:$A$503,">="&DATE($B$3,11,1),'경비 증빙 대장'!$A$4:$A$503,"<"&DATE($B$3,12,1))) | M6: =IF($A6="","",SUMIFS('경비 증빙 대장'!$H$4:$H$503,'경비 증빙 대장'!$F$4:$F$503,$A6,'경비 증빙 대장'!$A$4:$A$503,">="&DATE($B$3,12,1),'경비 증빙 대장'!$A$4:$A$503,"<"&DATE($B$3,13,1))) | N6: =SUM(B6:M6)
A7: 소모품비 | B7: =IF($A7="","",SUMIFS('경비 증빙 대장'!$H$4:$H$503,'경비 증빙 대장'!$F$4:$F$503,$A7,'경비 증빙 대장'!$A$4:$A$503,">="&DATE($B$3,1,1),'경비 증빙 대장'!$A$4:$A$503,"<"&DATE($B$3,2,1))) | C7: =IF($A7="","",SUMIFS('경비 증빙 대장'!$H$4:$H$503,'경비 증빙 대장'!$F$4:$F$503,$A7,'경비 증빙 대장'!$A$4:$A$503,">="&DATE($B$3,2,1),'경비 증빙 대장'!$A$4:$A$503,"<"&DATE($B$3,3,1))) | D7: =IF($A7="","",SUMIFS('경비 증빙 대장'!$H$4:$H$503,'경비 증빙 대장'!$F$4:$F$503,$A7,'경비 증빙 대장'!$A$4:$A$503,">="&DATE($B$3,3,1),'경비 증빙 대장'!$A$4:$A$503,"<"&DATE($B$3,4,1))) | E7: =IF($A7="","",SUMIFS('경비 증빙 대장'!$H$4:$H$503,'경비 증빙 대장'!$F$4:$F$503,$A7,'경비 증빙 대장'!$A$4:$A$503,">="&DATE($B$3,4,1),'경비 증빙 대장'!$A$4:$A$503,"<"&DATE($B$3,5,1))) | F7: =IF($A7="","",SUMIFS('경비 증빙 대장'!$H$4:$H$503,'경비 증빙 대장'!$F$4:$F$503,$A7,'경비 증빙 대장'!$A$4:$A$503,">="&DATE($B$3,5,1),'경비 증빙 대장'!$A$4:$A$503,"<"&DATE($B$3,6,1))) | G7: =IF($A7="","",SUMIFS('경비 증빙 대장'!$H$4:$H$503,'경비 증빙 대장'!$F$4:$F$503,$A7,'경비 증빙 대장'!$A$4:$A$503,">="&DATE($B$3,6,1),'경비 증빙 대장'!$A$4:$A$503,"<"&DATE($B$3,7,1))) | H7: =IF($A7="","",SUMIFS('경비 증빙 대장'!$H$4:$H$503,'경비 증빙 대장'!$F$4:$F$503,$A7,'경비 증빙 대장'!$A$4:$A$503,">="&DATE($B$3,7,1),'경비 증빙 대장'!$A$4:$A$503,"<"&DATE($B$3,8,1))) | I7: =IF($A7="","",SUMIFS('경비 증빙 대장'!$H$4:$H$503,'경비 증빙 대장'!$F$4:$F$503,$A7,'경비 증빙 대장'!$A$4:$A$503,">="&DATE($B$3,8,1),'경비 증빙 대장'!$A$4:$A$503,"<"&DATE($B$3,9,1))) | J7: =IF($A7="","",SUMIFS('경비 증빙 대장'!$H$4:$H$503,'경비 증빙 대장'!$F$4:$F$503,$A7,'경비 증빙 대장'!$A$4:$A$503,">="&DATE($B$3,9,1),'경비 증빙 대장'!$A$4:$A$503,"<"&DATE($B$3,10,1))) | K7: =IF($A7="","",SUMIFS('경비 증빙 대장'!$H$4:$H$503,'경비 증빙 대장'!$F$4:$F$503,$A7,'경비 증빙 대장'!$A$4:$A$503,">="&DATE($B$3,10,1),'경비 증빙 대장'!$A$4:$A$503,"<"&DATE($B$3,11,1))) | L7: =IF($A7="","",SUMIFS('경비 증빙 대장'!$H$4:$H$503,'경비 증빙 대장'!$F$4:$F$503,$A7,'경비 증빙 대장'!$A$4:$A$503,">="&DATE($B$3,11,1),'경비 증빙 대장'!$A$4:$A$503,"<"&DATE($B$3,12,1))) | M7: =IF($A7="","",SUMIFS('경비 증빙 대장'!$H$4:$H$503,'경비 증빙 대장'!$F$4:$F$503,$A7,'경비 증빙 대장'!$A$4:$A$503,">="&DATE($B$3,12,1),'경비 증빙 대장'!$A$4:$A$503,"<"&DATE($B$3,13,1))) | N7: =SUM(B7:M7)
A8: 복리후생비 | B8: =IF($A8="","",SUMIFS('경비 증빙 대장'!$H$4:$H$503,'경비 증빙 대장'!$F$4:$F$503,$A8,'경비 증빙 대장'!$A$4:$A$503,">="&DATE($B$3,1,1),'경비 증빙 대장'!$A$4:$A$503,"<"&DATE($B$3,2,1))) | C8: =IF($A8="","",SUMIFS('경비 증빙 대장'!$H$4:$H$503,'경비 증빙 대장'!$F$4:$F$503,$A8,'경비 증빙 대장'!$A$4:$A$503,">="&DATE($B$3,2,1),'경비 증빙 대장'!$A$4:$A$503,"<"&DATE($B$3,3,1))) | D8: =IF($A8="","",SUMIFS('경비 증빙 대장'!$H$4:$H$503,'경비 증빙 대장'!$F$4:$F$503,$A8,'경비 증빙 대장'!$A$4:$A$503,">="&DATE($B$3,3,1),'경비 증빙 대장'!$A$4:$A$503,"<"&DATE($B$3,4,1))) | E8: =IF($A8="","",SUMIFS('경비 증빙 대장'!$H$4:$H$503,'경비 증빙 대장'!$F$4:$F$503,$A8,'경비 증빙 대장'!$A$4:$A$503,">="&DATE($B$3,4,1),'경비 증빙 대장'!$A$4:$A$503,"<"&DATE($B$3,5,1))) | F8: =IF($A8="","",SUMIFS('경비 증빙 대장'!$H$4:$H$503,'경비 증빙 대장'!$F$4:$F$503,$A8,'경비 증빙 대장'!$A$4:$A$503,">="&DATE($B$3,5,1),'경비 증빙 대장'!$A$4:$A$503,"<"&DATE($B$3,6,1))) | G8: =IF($A8="","",SUMIFS('경비 증빙 대장'!$H$4:$H$503,'경비 증빙 대장'!$F$4:$F$503,$A8,'경비 증빙 대장'!$A$4:$A$503,">="&DATE($B$3,6,1),'경비 증빙 대장'!$A$4:$A$503,"<"&DATE($B$3,7,1))) | H8: =IF($A8="","",SUMIFS('경비 증빙 대장'!$H$4:$H$503,'경비 증빙 대장'!$F$4:$F$503,$A8,'경비 증빙 대장'!$A$4:$A$503,">="&DATE($B$3,7,1),'경비 증빙 대장'!$A$4:$A$503,"<"&DATE($B$3,8,1))) | I8: =IF($A8="","",SUMIFS('경비 증빙 대장'!$H$4:$H$503,'경비 증빙 대장'!$F$4:$F$503,$A8,'경비 증빙 대장'!$A$4:$A$503,">="&DATE($B$3,8,1),'경비 증빙 대장'!$A$4:$A$503,"<"&DATE($B$3,9,1))) | J8: =IF($A8="","",SUMIFS('경비 증빙 대장'!$H$4:$H$503,'경비 증빙 대장'!$F$4:$F$503,$A8,'경비 증빙 대장'!$A$4:$A$503,">="&DATE($B$3,9,1),'경비 증빙 대장'!$A$4:$A$503,"<"&DATE($B$3,10,1))) | K8: =IF($A8="","",SUMIFS('경비 증빙 대장'!$H$4:$H$503,'경비 증빙 대장'!$F$4:$F$503,$A8,'경비 증빙 대장'!$A$4:$A$503,">="&DATE($B$3,10,1),'경비 증빙 대장'!$A$4:$A$503,"<"&DATE($B$3,11,1))) | L8: =IF($A8="","",SUMIFS('경비 증빙 대장'!$H$4:$H$503,'경비 증빙 대장'!$F$4:$F$503,$A8,'경비 증빙 대장'!$A$4:$A$503,">="&DATE($B$3,11,1),'경비 증빙 대장'!$A$4:$A$503,"<"&DATE($B$3,12,1))) | M8: =IF($A8="","",SUMIFS('경비 증빙 대장'!$H$4:$H$503,'경비 증빙 대장'!$F$4:$F$503,$A8,'경비 증빙 대장'!$A$4:$A$503,">="&DATE($B$3,12,1),'경비 증빙 대장'!$A$4:$A$503,"<"&DATE($B$3,13,1))) | N8: =SUM(B8:M8)
A9: 여비교통비 | B9: =IF($A9="","",SUMIFS('경비 증빙 대장'!$H$4:$H$503,'경비 증빙 대장'!$F$4:$F$503,$A9,'경비 증빙 대장'!$A$4:$A$503,">="&DATE($B$3,1,1),'경비 증빙 대장'!$A$4:$A$503,"<"&DATE($B$3,2,1))) | C9: =IF($A9="","",SUMIFS('경비 증빙 대장'!$H$4:$H$503,'경비 증빙 대장'!$F$4:$F$503,$A9,'경비 증빙 대장'!$A$4:$A$503,">="&DATE($B$3,2,1),'경비 증빙 대장'!$A$4:$A$503,"<"&DATE($B$3,3,1))) | D9: =IF($A9="","",SUMIFS('경비 증빙 대장'!$H$4:$H$503,'경비 증빙 대장'!$F$4:$F$503,$A9,'경비 증빙 대장'!$A$4:$A$503,">="&DATE($B$3,3,1),'경비 증빙 대장'!$A$4:$A$503,"<"&DATE($B$3,4,1))) | E9: =IF($A9="","",SUMIFS('경비 증빙 대장'!$H$4:$H$503,'경비 증빙 대장'!$F$4:$F$503,$A9,'경비 증빙 대장'!$A$4:$A$503,">="&DATE($B$3,4,1),'경비 증빙 대장'!$A$4:$A$503,"<"&DATE($B$3,5,1))) | F9: =IF($A9="","",SUMIFS('경비 증빙 대장'!$H$4:$H$503,'경비 증빙 대장'!$F$4:$F$503,$A9,'경비 증빙 대장'!$A$4:$A$503,">="&DATE($B$3,5,1),'경비 증빙 대장'!$A$4:$A$503,"<"&DATE($B$3,6,1))) | G9: =IF($A9="","",SUMIFS('경비 증빙 대장'!$H$4:$H$503,'경비 증빙 대장'!$F$4:$F$503,$A9,'경비 증빙 대장'!$A$4:$A$503,">="&DATE($B$3,6,1),'경비 증빙 대장'!$A$4:$A$503,"<"&DATE($B$3,7,1))) | H9: =IF($A9="","",SUMIFS('경비 증빙 대장'!$H$4:$H$503,'경비 증빙 대장'!$F$4:$F$503,$A9,'경비 증빙 대장'!$A$4:$A$503,">="&DATE($B$3,7,1),'경비 증빙 대장'!$A$4:$A$503,"<"&DATE($B$3,8,1))) | I9: =IF($A9="","",SUMIFS('경비 증빙 대장'!$H$4:$H$503,'경비 증빙 대장'!$F$4:$F$503,$A9,'경비 증빙 대장'!$A$4:$A$503,">="&DATE($B$3,8,1),'경비 증빙 대장'!$A$4:$A$503,"<"&DATE($B$3,9,1))) | J9: =IF($A9="","",SUMIFS('경비 증빙 대장'!$H$4:$H$503,'경비 증빙 대장'!$F$4:$F$503,$A9,'경비 증빙 대장'!$A$4:$A$503,">="&DATE($B$3,9,1),'경비 증빙 대장'!$A$4:$A$503,"<"&DATE($B$3,10,1))) | K9: =IF($A9="","",SUMIFS('경비 증빙 대장'!$H$4:$H$503,'경비 증빙 대장'!$F$4:$F$503,$A9,'경비 증빙 대장'!$A$4:$A$503,">="&DATE($B$3,10,1),'경비 증빙 대장'!$A$4:$A$503,"<"&DATE($B$3,11,1))) | L9: =IF($A9="","",SUMIFS('경비 증빙 대장'!$H$4:$H$503,'경비 증빙 대장'!$F$4:$F$503,$A9,'경비 증빙 대장'!$A$4:$A$503,">="&DATE($B$3,11,1),'경비 증빙 대장'!$A$4:$A$503,"<"&DATE($B$3,12,1))) | M9: =IF($A9="","",SUMIFS('경비 증빙 대장'!$H$4:$H$503,'경비 증빙 대장'!$F$4:$F$503,$A9,'경비 증빙 대장'!$A$4:$A$503,">="&DATE($B$3,12,1),'경비 증빙 대장'!$A$4:$A$503,"<"&DATE($B$3,13,1))) | N9: =SUM(B9:M9)
A10: 차량유지비 | B10: =IF($A10="","",SUMIFS('경비 증빙 대장'!$H$4:$H$503,'경비 증빙 대장'!$F$4:$F$503,$A10,'경비 증빙 대장'!$A$4:$A$503,">="&DATE($B$3,1,1),'경비 증빙 대장'!$A$4:$A$503,"<"&DATE($B$3,2,1))) | C10: =IF($A10="","",SUMIFS('경비 증빙 대장'!$H$4:$H$503,'경비 증빙 대장'!$F$4:$F$503,$A10,'경비 증빙 대장'!$A$4:$A$503,">="&DATE($B$3,2,1),'경비 증빙 대장'!$A$4:$A$503,"<"&DATE($B$3,3,1))) | D10: =IF($A10="","",SUMIFS('경비 증빙 대장'!$H$4:$H$503,'경비 증빙 대장'!$F$4:$F$503,$A10,'경비 증빙 대장'!$A$4:$A$503,">="&DATE($B$3,3,1),'경비 증빙 대장'!$A$4:$A$503,"<"&DATE($B$3,4,1))) | E10: =IF($A10="","",SUMIFS('경비 증빙 대장'!$H$4:$H$503,'경비 증빙 대장'!$F$4:$F$503,$A10,'경비 증빙 대장'!$A$4:$A$503,">="&DATE($B$3,4,1),'경비 증빙 대장'!$A$4:$A$503,"<"&DATE($B$3,5,1))) | F10: =IF($A10="","",SUMIFS('경비 증빙 대장'!$H$4:$H$503,'경비 증빙 대장'!$F$4:$F$503,$A10,'경비 증빙 대장'!$A$4:$A$503,">="&DATE($B$3,5,1),'경비 증빙 대장'!$A$4:$A$503,"<"&DATE($B$3,6,1))) | G10: =IF($A10="","",SUMIFS('경비 증빙 대장'!$H$4:$H$503,'경비 증빙 대장'!$F$4:$F$503,$A10,'경비 증빙 대장'!$A$4:$A$503,">="&DATE($B$3,6,1),'경비 증빙 대장'!$A$4:$A$503,"<"&DATE($B$3,7,1))) | H10: =IF($A10="","",SUMIFS('경비 증빙 대장'!$H$4:$H$503,'경비 증빙 대장'!$F$4:$F$503,$A10,'경비 증빙 대장'!$A$4:$A$503,">="&DATE($B$3,7,1),'경비 증빙 대장'!$A$4:$A$503,"<"&DATE($B$3,8,1))) | I10: =IF($A10="","",SUMIFS('경비 증빙 대장'!$H$4:$H$503,'경비 증빙 대장'!$F$4:$F$503,$A10,'경비 증빙 대장'!$A$4:$A$503,">="&DATE($B$3,8,1),'경비 증빙 대장'!$A$4:$A$503,"<"&DATE($B$3,9,1))) | J10: =IF($A10="","",SUMIFS('경비 증빙 대장'!$H$4:$H$503,'경비 증빙 대장'!$F$4:$F$503,$A10,'경비 증빙 대장'!$A$4:$A$503,">="&DATE($B$3,9,1),'경비 증빙 대장'!$A$4:$A$503,"<"&DATE($B$3,10,1))) | K10: =IF($A10="","",SUMIFS('경비 증빙 대장'!$H$4:$H$503,'경비 증빙 대장'!$F$4:$F$503,$A10,'경비 증빙 대장'!$A$4:$A$503,">="&DATE($B$3,10,1),'경비 증빙 대장'!$A$4:$A$503,"<"&DATE($B$3,11,1))) | L10: =IF($A10="","",SUMIFS('경비 증빙 대장'!$H$4:$H$503,'경비 증빙 대장'!$F$4:$F$503,$A10,'경비 증빙 대장'!$A$4:$A$503,">="&DATE($B$3,11,1),'경비 증빙 대장'!$A$4:$A$503,"<"&DATE($B$3,12,1))) | M10: =IF($A10="","",SUMIFS('경비 증빙 대장'!$H$4:$H$503,'경비 증빙 대장'!$F$4:$F$503,$A10,'경비 증빙 대장'!$A$4:$A$503,">="&DATE($B$3,12,1),'경비 증빙 대장'!$A$4:$A$503,"<"&DATE($B$3,13,1))) | N10: =SUM(B10:M10)
A11: 운반비 | B11: =IF($A11="","",SUMIFS('경비 증빙 대장'!$H$4:$H$503,'경비 증빙 대장'!$F$4:$F$503,$A11,'경비 증빙 대장'!$A$4:$A$503,">="&DATE($B$3,1,1),'경비 증빙 대장'!$A$4:$A$503,"<"&DATE($B$3,2,1))) | C11: =IF($A11="","",SUMIFS('경비 증빙 대장'!$H$4:$H$503,'경비 증빙 대장'!$F$4:$F$503,$A11,'경비 증빙 대장'!$A$4:$A$503,">="&DATE($B$3,2,1),'경비 증빙 대장'!$A$4:$A$503,"<"&DATE($B$3,3,1))) | D11: =IF($A11="","",SUMIFS('경비 증빙 대장'!$H$4:$H$503,'경비 증빙 대장'!$F$4:$F$503,$A11,'경비 증빙 대장'!$A$4:$A$503,">="&DATE($B$3,3,1),'경비 증빙 대장'!$A$4:$A$503,"<"&DATE($B$3,4,1))) | E11: =IF($A11="","",SUMIFS('경비 증빙 대장'!$H$4:$H$503,'경비 증빙 대장'!$F$4:$F$503,$A11,'경비 증빙 대장'!$A$4:$A$503,">="&DATE($B$3,4,1),'경비 증빙 대장'!$A$4:$A$503,"<"&DATE($B$3,5,1))) | F11: =IF($A11="","",SUMIFS('경비 증빙 대장'!$H$4:$H$503,'경비 증빙 대장'!$F$4:$F$503,$A11,'경비 증빙 대장'!$A$4:$A$503,">="&DATE($B$3,5,1),'경비 증빙 대장'!$A$4:$A$503,"<"&DATE($B$3,6,1))) | G11: =IF($A11="","",SUMIFS('경비 증빙 대장'!$H$4:$H$503,'경비 증빙 대장'!$F$4:$F$503,$A11,'경비 증빙 대장'!$A$4:$A$503,">="&DATE($B$3,6,1),'경비 증빙 대장'!$A$4:$A$503,"<"&DATE($B$3,7,1))) | H11: =IF($A11="","",SUMIFS('경비 증빙 대장'!$H$4:$H$503,'경비 증빙 대장'!$F$4:$F$503,$A11,'경비 증빙 대장'!$A$4:$A$503,">="&DATE($B$3,7,1),'경비 증빙 대장'!$A$4:$A$503,"<"&DATE($B$3,8,1))) | I11: =IF($A11="","",SUMIFS('경비 증빙 대장'!$H$4:$H$503,'경비 증빙 대장'!$F$4:$F$503,$A11,'경비 증빙 대장'!$A$4:$A$503,">="&DATE($B$3,8,1),'경비 증빙 대장'!$A$4:$A$503,"<"&DATE($B$3,9,1))) | J11: =IF($A11="","",SUMIFS('경비 증빙 대장'!$H$4:$H$503,'경비 증빙 대장'!$F$4:$F$503,$A11,'경비 증빙 대장'!$A$4:$A$503,">="&DATE($B$3,9,1),'경비 증빙 대장'!$A$4:$A$503,"<"&DATE($B$3,10,1))) | K11: =IF($A11="","",SUMIFS('경비 증빙 대장'!$H$4:$H$503,'경비 증빙 대장'!$F$4:$F$503,$A11,'경비 증빙 대장'!$A$4:$A$503,">="&DATE($B$3,10,1),'경비 증빙 대장'!$A$4:$A$503,"<"&DATE($B$3,11,1))) | L11: =IF($A11="","",SUMIFS('경비 증빙 대장'!$H$4:$H$503,'경비 증빙 대장'!$F$4:$F$503,$A11,'경비 증빙 대장'!$A$4:$A$503,">="&DATE($B$3,11,1),'경비 증빙 대장'!$A$4:$A$503,"<"&DATE($B$3,12,1))) | M11: =IF($A11="","",SUMIFS('경비 증빙 대장'!$H$4:$H$503,'경비 증빙 대장'!$F$4:$F$503,$A11,'경비 증빙 대장'!$A$4:$A$503,">="&DATE($B$3,12,1),'경비 증빙 대장'!$A$4:$A$503,"<"&DATE($B$3,13,1))) | N11: =SUM(B11:M11)
A12: 통신비 | B12: =IF($A12="","",SUMIFS('경비 증빙 대장'!$H$4:$H$503,'경비 증빙 대장'!$F$4:$F$503,$A12,'경비 증빙 대장'!$A$4:$A$503,">="&DATE($B$3,1,1),'경비 증빙 대장'!$A$4:$A$503,"<"&DATE($B$3,2,1))) | C12: =IF($A12="","",SUMIFS('경비 증빙 대장'!$H$4:$H$503,'경비 증빙 대장'!$F$4:$F$503,$A12,'경비 증빙 대장'!$A$4:$A$503,">="&DATE($B$3,2,1),'경비 증빙 대장'!$A$4:$A$503,"<"&DATE($B$3,3,1))) | D12: =IF($A12="","",SUMIFS('경비 증빙 대장'!$H$4:$H$503,'경비 증빙 대장'!$F$4:$F$503,$A12,'경비 증빙 대장'!$A$4:$A$503,">="&DATE($B$3,3,1),'경비 증빙 대장'!$A$4:$A$503,"<"&DATE($B$3,4,1))) | E12: =IF($A12="","",SUMIFS('경비 증빙 대장'!$H$4:$H$503,'경비 증빙 대장'!$F$4:$F$503,$A12,'경비 증빙 대장'!$A$4:$A$503,">="&DATE($B$3,4,1),'경비 증빙 대장'!$A$4:$A$503,"<"&DATE($B$3,5,1))) | F12: =IF($A12="","",SUMIFS('경비 증빙 대장'!$H$4:$H$503,'경비 증빙 대장'!$F$4:$F$503,$A12,'경비 증빙 대장'!$A$4:$A$503,">="&DATE($B$3,5,1),'경비 증빙 대장'!$A$4:$A$503,"<"&DATE($B$3,6,1))) | G12: =IF($A12="","",SUMIFS('경비 증빙 대장'!$H$4:$H$503,'경비 증빙 대장'!$F$4:$F$503,$A12,'경비 증빙 대장'!$A$4:$A$503,">="&DATE($B$3,6,1),'경비 증빙 대장'!$A$4:$A$503,"<"&DATE($B$3,7,1))) | H12: =IF($A12="","",SUMIFS('경비 증빙 대장'!$H$4:$H$503,'경비 증빙 대장'!$F$4:$F$503,$A12,'경비 증빙 대장'!$A$4:$A$503,">="&DATE($B$3,7,1),'경비 증빙 대장'!$A$4:$A$503,"<"&DATE($B$3,8,1))) | I12: =IF($A12="","",SUMIFS('경비 증빙 대장'!$H$4:$H$503,'경비 증빙 대장'!$F$4:$F$503,$A12,'경비 증빙 대장'!$A$4:$A$503,">="&DATE($B$3,8,1),'경비 증빙 대장'!$A$4:$A$503,"<"&DATE($B$3,9,1))) | J12: =IF($A12="","",SUMIFS('경비 증빙 대장'!$H$4:$H$503,'경비 증빙 대장'!$F$4:$F$503,$A12,'경비 증빙 대장'!$A$4:$A$503,">="&DATE($B$3,9,1),'경비 증빙 대장'!$A$4:$A$503,"<"&DATE($B$3,10,1))) | K12: =IF($A12="","",SUMIFS('경비 증빙 대장'!$H$4:$H$503,'경비 증빙 대장'!$F$4:$F$503,$A12,'경비 증빙 대장'!$A$4:$A$503,">="&DATE($B$3,10,1),'경비 증빙 대장'!$A$4:$A$503,"<"&DATE($B$3,11,1))) | L12: =IF($A12="","",SUMIFS('경비 증빙 대장'!$H$4:$H$503,'경비 증빙 대장'!$F$4:$F$503,$A12,'경비 증빙 대장'!$A$4:$A$503,">="&DATE($B$3,11,1),'경비 증빙 대장'!$A$4:$A$503,"<"&DATE($B$3,12,1))) | M12: =IF($A12="","",SUMIFS('경비 증빙 대장'!$H$4:$H$503,'경비 증빙 대장'!$F$4:$F$503,$A12,'경비 증빙 대장'!$A$4:$A$503,">="&DATE($B$3,12,1),'경비 증빙 대장'!$A$4:$A$503,"<"&DATE($B$3,13,1))) | N12: =SUM(B12:M12)
A13: 지급수수료 | B13: =IF($A13="","",SUMIFS('경비 증빙 대장'!$H$4:$H$503,'경비 증빙 대장'!$F$4:$F$503,$A13,'경비 증빙 대장'!$A$4:$A$503,">="&DATE($B$3,1,1),'경비 증빙 대장'!$A$4:$A$503,"<"&DATE($B$3,2,1))) | C13: =IF($A13="","",SUMIFS('경비 증빙 대장'!$H$4:$H$503,'경비 증빙 대장'!$F$4:$F$503,$A13,'경비 증빙 대장'!$A$4:$A$503,">="&DATE($B$3,2,1),'경비 증빙 대장'!$A$4:$A$503,"<"&DATE($B$3,3,1))) | D13: =IF($A13="","",SUMIFS('경비 증빙 대장'!$H$4:$H$503,'경비 증빙 대장'!$F$4:$F$503,$A13,'경비 증빙 대장'!$A$4:$A$503,">="&DATE($B$3,3,1),'경비 증빙 대장'!$A$4:$A$503,"<"&DATE($B$3,4,1))) | E13: =IF($A13="","",SUMIFS('경비 증빙 대장'!$H$4:$H$503,'경비 증빙 대장'!$F$4:$F$503,$A13,'경비 증빙 대장'!$A$4:$A$503,">="&DATE($B$3,4,1),'경비 증빙 대장'!$A$4:$A$503,"<"&DATE($B$3,5,1))) | F13: =IF($A13="","",SUMIFS('경비 증빙 대장'!$H$4:$H$503,'경비 증빙 대장'!$F$4:$F$503,$A13,'경비 증빙 대장'!$A$4:$A$503,">="&DATE($B$3,5,1),'경비 증빙 대장'!$A$4:$A$503,"<"&DATE($B$3,6,1))) | G13: =IF($A13="","",SUMIFS('경비 증빙 대장'!$H$4:$H$503,'경비 증빙 대장'!$F$4:$F$503,$A13,'경비 증빙 대장'!$A$4:$A$503,">="&DATE($B$3,6,1),'경비 증빙 대장'!$A$4:$A$503,"<"&DATE($B$3,7,1))) | H13: =IF($A13="","",SUMIFS('경비 증빙 대장'!$H$4:$H$503,'경비 증빙 대장'!$F$4:$F$503,$A13,'경비 증빙 대장'!$A$4:$A$503,">="&DATE($B$3,7,1),'경비 증빙 대장'!$A$4:$A$503,"<"&DATE($B$3,8,1))) | I13: =IF($A13="","",SUMIFS('경비 증빙 대장'!$H$4:$H$503,'경비 증빙 대장'!$F$4:$F$503,$A13,'경비 증빙 대장'!$A$4:$A$503,">="&DATE($B$3,8,1),'경비 증빙 대장'!$A$4:$A$503,"<"&DATE($B$3,9,1))) | J13: =IF($A13="","",SUMIFS('경비 증빙 대장'!$H$4:$H$503,'경비 증빙 대장'!$F$4:$F$503,$A13,'경비 증빙 대장'!$A$4:$A$503,">="&DATE($B$3,9,1),'경비 증빙 대장'!$A$4:$A$503,"<"&DATE($B$3,10,1))) | K13: =IF($A13="","",SUMIFS('경비 증빙 대장'!$H$4:$H$503,'경비 증빙 대장'!$F$4:$F$503,$A13,'경비 증빙 대장'!$A$4:$A$503,">="&DATE($B$3,10,1),'경비 증빙 대장'!$A$4:$A$503,"<"&DATE($B$3,11,1))) | L13: =IF($A13="","",SUMIFS('경비 증빙 대장'!$H$4:$H$503,'경비 증빙 대장'!$F$4:$F$503,$A13,'경비 증빙 대장'!$A$4:$A$503,">="&DATE($B$3,11,1),'경비 증빙 대장'!$A$4:$A$503,"<"&DATE($B$3,12,1))) | M13: =IF($A13="","",SUMIFS('경비 증빙 대장'!$H$4:$H$503,'경비 증빙 대장'!$F$4:$F$503,$A13,'경비 증빙 대장'!$A$4:$A$503,">="&DATE($B$3,12,1),'경비 증빙 대장'!$A$4:$A$503,"<"&DATE($B$3,13,1))) | N13: =SUM(B13:M13)
A14: 수선비 | B14: =IF($A14="","",SUMIFS('경비 증빙 대장'!$H$4:$H$503,'경비 증빙 대장'!$F$4:$F$503,$A14,'경비 증빙 대장'!$A$4:$A$503,">="&DATE($B$3,1,1),'경비 증빙 대장'!$A$4:$A$503,"<"&DATE($B$3,2,1))) | C14: =IF($A14="","",SUMIFS('경비 증빙 대장'!$H$4:$H$503,'경비 증빙 대장'!$F$4:$F$503,$A14,'경비 증빙 대장'!$A$4:$A$503,">="&DATE($B$3,2,1),'경비 증빙 대장'!$A$4:$A$503,"<"&DATE($B$3,3,1))) | D14: =IF($A14="","",SUMIFS('경비 증빙 대장'!$H$4:$H$503,'경비 증빙 대장'!$F$4:$F$503,$A14,'경비 증빙 대장'!$A$4:$A$503,">="&DATE($B$3,3,1),'경비 증빙 대장'!$A$4:$A$503,"<"&DATE($B$3,4,1))) | E14: =IF($A14="","",SUMIFS('경비 증빙 대장'!$H$4:$H$503,'경비 증빙 대장'!$F$4:$F$503,$A14,'경비 증빙 대장'!$A$4:$A$503,">="&DATE($B$3,4,1),'경비 증빙 대장'!$A$4:$A$503,"<"&DATE($B$3,5,1))) | F14: =IF($A14="","",SUMIFS('경비 증빙 대장'!$H$4:$H$503,'경비 증빙 대장'!$F$4:$F$503,$A14,'경비 증빙 대장'!$A$4:$A$503,">="&DATE($B$3,5,1),'경비 증빙 대장'!$A$4:$A$503,"<"&DATE($B$3,6,1))) | G14: =IF($A14="","",SUMIFS('경비 증빙 대장'!$H$4:$H$503,'경비 증빙 대장'!$F$4:$F$503,$A14,'경비 증빙 대장'!$A$4:$A$503,">="&DATE($B$3,6,1),'경비 증빙 대장'!$A$4:$A$503,"<"&DATE($B$3,7,1))) | H14: =IF($A14="","",SUMIFS('경비 증빙 대장'!$H$4:$H$503,'경비 증빙 대장'!$F$4:$F$503,$A14,'경비 증빙 대장'!$A$4:$A$503,">="&DATE($B$3,7,1),'경비 증빙 대장'!$A$4:$A$503,"<"&DATE($B$3,8,1))) | I14: =IF($A14="","",SUMIFS('경비 증빙 대장'!$H$4:$H$503,'경비 증빙 대장'!$F$4:$F$503,$A14,'경비 증빙 대장'!$A$4:$A$503,">="&DATE($B$3,8,1),'경비 증빙 대장'!$A$4:$A$503,"<"&DATE($B$3,9,1))) | J14: =IF($A14="","",SUMIFS('경비 증빙 대장'!$H$4:$H$503,'경비 증빙 대장'!$F$4:$F$503,$A14,'경비 증빙 대장'!$A$4:$A$503,">="&DATE($B$3,9,1),'경비 증빙 대장'!$A$4:$A$503,"<"&DATE($B$3,10,1))) | K14: =IF($A14="","",SUMIFS('경비 증빙 대장'!$H$4:$H$503,'경비 증빙 대장'!$F$4:$F$503,$A14,'경비 증빙 대장'!$A$4:$A$503,">="&DATE($B$3,10,1),'경비 증빙 대장'!$A$4:$A$503,"<"&DATE($B$3,11,1))) | L14: =IF($A14="","",SUMIFS('경비 증빙 대장'!$H$4:$H$503,'경비 증빙 대장'!$F$4:$F$503,$A14,'경비 증빙 대장'!$A$4:$A$503,">="&DATE($B$3,11,1),'경비 증빙 대장'!$A$4:$A$503,"<"&DATE($B$3,12,1))) | M14: =IF($A14="","",SUMIFS('경비 증빙 대장'!$H$4:$H$503,'경비 증빙 대장'!$F$4:$F$503,$A14,'경비 증빙 대장'!$A$4:$A$503,">="&DATE($B$3,12,1),'경비 증빙 대장'!$A$4:$A$503,"<"&DATE($B$3,13,1))) | N14: =SUM(B14:M14)
A15: 도서인쇄비 | B15: =IF($A15="","",SUMIFS('경비 증빙 대장'!$H$4:$H$503,'경비 증빙 대장'!$F$4:$F$503,$A15,'경비 증빙 대장'!$A$4:$A$503,">="&DATE($B$3,1,1),'경비 증빙 대장'!$A$4:$A$503,"<"&DATE($B$3,2,1))) | C15: =IF($A15="","",SUMIFS('경비 증빙 대장'!$H$4:$H$503,'경비 증빙 대장'!$F$4:$F$503,$A15,'경비 증빙 대장'!$A$4:$A$503,">="&DATE($B$3,2,1),'경비 증빙 대장'!$A$4:$A$503,"<"&DATE($B$3,3,1))) | D15: =IF($A15="","",SUMIFS('경비 증빙 대장'!$H$4:$H$503,'경비 증빙 대장'!$F$4:$F$503,$A15,'경비 증빙 대장'!$A$4:$A$503,">="&DATE($B$3,3,1),'경비 증빙 대장'!$A$4:$A$503,"<"&DATE($B$3,4,1))) | E15: =IF($A15="","",SUMIFS('경비 증빙 대장'!$H$4:$H$503,'경비 증빙 대장'!$F$4:$F$503,$A15,'경비 증빙 대장'!$A$4:$A$503,">="&DATE($B$3,4,1),'경비 증빙 대장'!$A$4:$A$503,"<"&DATE($B$3,5,1))) | F15: =IF($A15="","",SUMIFS('경비 증빙 대장'!$H$4:$H$503,'경비 증빙 대장'!$F$4:$F$503,$A15,'경비 증빙 대장'!$A$4:$A$503,">="&DATE($B$3,5,1),'경비 증빙 대장'!$A$4:$A$503,"<"&DATE($B$3,6,1))) | G15: =IF($A15="","",SUMIFS('경비 증빙 대장'!$H$4:$H$503,'경비 증빙 대장'!$F$4:$F$503,$A15,'경비 증빙 대장'!$A$4:$A$503,">="&DATE($B$3,6,1),'경비 증빙 대장'!$A$4:$A$503,"<"&DATE($B$3,7,1))) | H15: =IF($A15="","",SUMIFS('경비 증빙 대장'!$H$4:$H$503,'경비 증빙 대장'!$F$4:$F$503,$A15,'경비 증빙 대장'!$A$4:$A$503,">="&DATE($B$3,7,1),'경비 증빙 대장'!$A$4:$A$503,"<"&DATE($B$3,8,1))) | I15: =IF($A15="","",SUMIFS('경비 증빙 대장'!$H$4:$H$503,'경비 증빙 대장'!$F$4:$F$503,$A15,'경비 증빙 대장'!$A$4:$A$503,">="&DATE($B$3,8,1),'경비 증빙 대장'!$A$4:$A$503,"<"&DATE($B$3,9,1))) | J15: =IF($A15="","",SUMIFS('경비 증빙 대장'!$H$4:$H$503,'경비 증빙 대장'!$F$4:$F$503,$A15,'경비 증빙 대장'!$A$4:$A$503,">="&DATE($B$3,9,1),'경비 증빙 대장'!$A$4:$A$503,"<"&DATE($B$3,10,1))) | K15: =IF($A15="","",SUMIFS('경비 증빙 대장'!$H$4:$H$503,'경비 증빙 대장'!$F$4:$F$503,$A15,'경비 증빙 대장'!$A$4:$A$503,">="&DATE($B$3,10,1),'경비 증빙 대장'!$A$4:$A$503,"<"&DATE($B$3,11,1))) | L15: =IF($A15="","",SUMIFS('경비 증빙 대장'!$H$4:$H$503,'경비 증빙 대장'!$F$4:$F$503,$A15,'경비 증빙 대장'!$A$4:$A$503,">="&DATE($B$3,11,1),'경비 증빙 대장'!$A$4:$A$503,"<"&DATE($B$3,12,1))) | M15: =IF($A15="","",SUMIFS('경비 증빙 대장'!$H$4:$H$503,'경비 증빙 대장'!$F$4:$F$503,$A15,'경비 증빙 대장'!$A$4:$A$503,">="&DATE($B$3,12,1),'경비 증빙 대장'!$A$4:$A$503,"<"&DATE($B$3,13,1))) | N15: =SUM(B15:M15)
A16: 광고선전비 | B16: =IF($A16="","",SUMIFS('경비 증빙 대장'!$H$4:$H$503,'경비 증빙 대장'!$F$4:$F$503,$A16,'경비 증빙 대장'!$A$4:$A$503,">="&DATE($B$3,1,1),'경비 증빙 대장'!$A$4:$A$503,"<"&DATE($B$3,2,1))) | C16: =IF($A16="","",SUMIFS('경비 증빙 대장'!$H$4:$H$503,'경비 증빙 대장'!$F$4:$F$503,$A16,'경비 증빙 대장'!$A$4:$A$503,">="&DATE($B$3,2,1),'경비 증빙 대장'!$A$4:$A$503,"<"&DATE($B$3,3,1))) | D16: =IF($A16="","",SUMIFS('경비 증빙 대장'!$H$4:$H$503,'경비 증빙 대장'!$F$4:$F$503,$A16,'경비 증빙 대장'!$A$4:$A$503,">="&DATE($B$3,3,1),'경비 증빙 대장'!$A$4:$A$503,"<"&DATE($B$3,4,1))) | E16: =IF($A16="","",SUMIFS('경비 증빙 대장'!$H$4:$H$503,'경비 증빙 대장'!$F$4:$F$503,$A16,'경비 증빙 대장'!$A$4:$A$503,">="&DATE($B$3,4,1),'경비 증빙 대장'!$A$4:$A$503,"<"&DATE($B$3,5,1))) | F16: =IF($A16="","",SUMIFS('경비 증빙 대장'!$H$4:$H$503,'경비 증빙 대장'!$F$4:$F$503,$A16,'경비 증빙 대장'!$A$4:$A$503,">="&DATE($B$3,5,1),'경비 증빙 대장'!$A$4:$A$503,"<"&DATE($B$3,6,1))) | G16: =IF($A16="","",SUMIFS('경비 증빙 대장'!$H$4:$H$503,'경비 증빙 대장'!$F$4:$F$503,$A16,'경비 증빙 대장'!$A$4:$A$503,">="&DATE($B$3,6,1),'경비 증빙 대장'!$A$4:$A$503,"<"&DATE($B$3,7,1))) | H16: =IF($A16="","",SUMIFS('경비 증빙 대장'!$H$4:$H$503,'경비 증빙 대장'!$F$4:$F$503,$A16,'경비 증빙 대장'!$A$4:$A$503,">="&DATE($B$3,7,1),'경비 증빙 대장'!$A$4:$A$503,"<"&DATE($B$3,8,1))) | I16: =IF($A16="","",SUMIFS('경비 증빙 대장'!$H$4:$H$503,'경비 증빙 대장'!$F$4:$F$503,$A16,'경비 증빙 대장'!$A$4:$A$503,">="&DATE($B$3,8,1),'경비 증빙 대장'!$A$4:$A$503,"<"&DATE($B$3,9,1))) | J16: =IF($A16="","",SUMIFS('경비 증빙 대장'!$H$4:$H$503,'경비 증빙 대장'!$F$4:$F$503,$A16,'경비 증빙 대장'!$A$4:$A$503,">="&DATE($B$3,9,1),'경비 증빙 대장'!$A$4:$A$503,"<"&DATE($B$3,10,1))) | K16: =IF($A16="","",SUMIFS('경비 증빙 대장'!$H$4:$H$503,'경비 증빙 대장'!$F$4:$F$503,$A16,'경비 증빙 대장'!$A$4:$A$503,">="&DATE($B$3,10,1),'경비 증빙 대장'!$A$4:$A$503,"<"&DATE($B$3,11,1))) | L16: =IF($A16="","",SUMIFS('경비 증빙 대장'!$H$4:$H$503,'경비 증빙 대장'!$F$4:$F$503,$A16,'경비 증빙 대장'!$A$4:$A$503,">="&DATE($B$3,11,1),'경비 증빙 대장'!$A$4:$A$503,"<"&DATE($B$3,12,1))) | M16: =IF($A16="","",SUMIFS('경비 증빙 대장'!$H$4:$H$503,'경비 증빙 대장'!$F$4:$F$503,$A16,'경비 증빙 대장'!$A$4:$A$503,">="&DATE($B$3,12,1),'경비 증빙 대장'!$A$4:$A$503,"<"&DATE($B$3,13,1))) | N16: =SUM(B16:M16)
A17: 교육훈련비 | B17: =IF($A17="","",SUMIFS('경비 증빙 대장'!$H$4:$H$503,'경비 증빙 대장'!$F$4:$F$503,$A17,'경비 증빙 대장'!$A$4:$A$503,">="&DATE($B$3,1,1),'경비 증빙 대장'!$A$4:$A$503,"<"&DATE($B$3,2,1))) | C17: =IF($A17="","",SUMIFS('경비 증빙 대장'!$H$4:$H$503,'경비 증빙 대장'!$F$4:$F$503,$A17,'경비 증빙 대장'!$A$4:$A$503,">="&DATE($B$3,2,1),'경비 증빙 대장'!$A$4:$A$503,"<"&DATE($B$3,3,1))) | D17: =IF($A17="","",SUMIFS('경비 증빙 대장'!$H$4:$H$503,'경비 증빙 대장'!$F$4:$F$503,$A17,'경비 증빙 대장'!$A$4:$A$503,">="&DATE($B$3,3,1),'경비 증빙 대장'!$A$4:$A$503,"<"&DATE($B$3,4,1))) | E17: =IF($A17="","",SUMIFS('경비 증빙 대장'!$H$4:$H$503,'경비 증빙 대장'!$F$4:$F$503,$A17,'경비 증빙 대장'!$A$4:$A$503,">="&DATE($B$3,4,1),'경비 증빙 대장'!$A$4:$A$503,"<"&DATE($B$3,5,1))) | F17: =IF($A17="","",SUMIFS('경비 증빙 대장'!$H$4:$H$503,'경비 증빙 대장'!$F$4:$F$503,$A17,'경비 증빙 대장'!$A$4:$A$503,">="&DATE($B$3,5,1),'경비 증빙 대장'!$A$4:$A$503,"<"&DATE($B$3,6,1))) | G17: =IF($A17="","",SUMIFS('경비 증빙 대장'!$H$4:$H$503,'경비 증빙 대장'!$F$4:$F$503,$A17,'경비 증빙 대장'!$A$4:$A$503,">="&DATE($B$3,6,1),'경비 증빙 대장'!$A$4:$A$503,"<"&DATE($B$3,7,1))) | H17: =IF($A17="","",SUMIFS('경비 증빙 대장'!$H$4:$H$503,'경비 증빙 대장'!$F$4:$F$503,$A17,'경비 증빙 대장'!$A$4:$A$503,">="&DATE($B$3,7,1),'경비 증빙 대장'!$A$4:$A$503,"<"&DATE($B$3,8,1))) | I17: =IF($A17="","",SUMIFS('경비 증빙 대장'!$H$4:$H$503,'경비 증빙 대장'!$F$4:$F$503,$A17,'경비 증빙 대장'!$A$4:$A$503,">="&DATE($B$3,8,1),'경비 증빙 대장'!$A$4:$A$503,"<"&DATE($B$3,9,1))) | J17: =IF($A17="","",SUMIFS('경비 증빙 대장'!$H$4:$H$503,'경비 증빙 대장'!$F$4:$F$503,$A17,'경비 증빙 대장'!$A$4:$A$503,">="&DATE($B$3,9,1),'경비 증빙 대장'!$A$4:$A$503,"<"&DATE($B$3,10,1))) | K17: =IF($A17="","",SUMIFS('경비 증빙 대장'!$H$4:$H$503,'경비 증빙 대장'!$F$4:$F$503,$A17,'경비 증빙 대장'!$A$4:$A$503,">="&DATE($B$3,10,1),'경비 증빙 대장'!$A$4:$A$503,"<"&DATE($B$3,11,1))) | L17: =IF($A17="","",SUMIFS('경비 증빙 대장'!$H$4:$H$503,'경비 증빙 대장'!$F$4:$F$503,$A17,'경비 증빙 대장'!$A$4:$A$503,">="&DATE($B$3,11,1),'경비 증빙 대장'!$A$4:$A$503,"<"&DATE($B$3,12,1))) | M17: =IF($A17="","",SUMIFS('경비 증빙 대장'!$H$4:$H$503,'경비 증빙 대장'!$F$4:$F$503,$A17,'경비 증빙 대장'!$A$4:$A$503,">="&DATE($B$3,12,1),'경비 증빙 대장'!$A$4:$A$503,"<"&DATE($B$3,13,1))) | N17: =SUM(B17:M17)
... A20: 기업업무추진비 | B20: =IF($A20="","",SUMIFS('경비 증빙 대장'!$H$4:$H$503,'경비 증빙 대장'!$F$4:$F$503,$A20,'경비 증빙 대장'!$A$4:$A$503,">="&DATE($B$3,1,1),'경비 증빙 대장'!$A$4:$A$503,"<"&DATE($B$3,2,1))) | C20: =IF($A20="","",SUMIFS('경비 증빙 대장'!$H$4:$H$503,'경비 증빙 대장'!$F$4:$F$503,$A20,'경비 증빙 대장'!$A$4:$A$503,">="&DATE($B$3,2,1),'경비 증빙 대장'!$A$4:$A$503,"<"&DATE($B$3,3,1))) | D20: =IF($A20="","",SUMIFS('경비 증빙 대장'!$H$4:$H$503,'경비 증빙 대장'!$F$4:$F$503,$A20,'경비 증빙 대장'!$A$4:$A$503,">="&DATE($B$3,3,1),'경비 증빙 대장'!$A$4:$A$503,"<"&DATE($B$3,4,1))) | E20: =IF($A20="","",SUMIFS('경비 증빙 대장'!$H$4:$H$503,'경비 증빙 대장'!$F$4:$F$503,$A20,'경비 증빙 대장'!$A$4:$A$503,">="&DATE($B$3,4,1),'경비 증빙 대장'!$A$4:$A$503,"<"&DATE($B$3,5,1))) | F20: =IF($A20="","",SUMIFS('경비 증빙 대장'!$H$4:$H$503,'경비 증빙 대장'!$F$4:$F$503,$A20,'경비 증빙 대장'!$A$4:$A$503,">="&DATE($B$3,5,1),'경비 증빙 대장'!$A$4:$A$503,"<"&DATE($B$3,6,1))) | G20: =IF($A20="","",SUMIFS('경비 증빙 대장'!$H$4:$H$503,'경비 증빙 대장'!$F$4:$F$503,$A20,'경비 증빙 대장'!$A$4:$A$503,">="&DATE($B$3,6,1),'경비 증빙 대장'!$A$4:$A$503,"<"&DATE($B$3,7,1))) | H20: =IF($A20="","",SUMIFS('경비 증빙 대장'!$H$4:$H$503,'경비 증빙 대장'!$F$4:$F$503,$A20,'경비 증빙 대장'!$A$4:$A$503,">="&DATE($B$3,7,1),'경비 증빙 대장'!$A$4:$A$503,"<"&DATE($B$3,8,1))) | I20: =IF($A20="","",SUMIFS('경비 증빙 대장'!$H$4:$H$503,'경비 증빙 대장'!$F$4:$F$503,$A20,'경비 증빙 대장'!$A$4:$A$503,">="&DATE($B$3,8,1),'경비 증빙 대장'!$A$4:$A$503,"<"&DATE($B$3,9,1))) | J20: =IF($A20="","",SUMIFS('경비 증빙 대장'!$H$4:$H$503,'경비 증빙 대장'!$F$4:$F$503,$A20,'경비 증빙 대장'!$A$4:$A$503,">="&DATE($B$3,9,1),'경비 증빙 대장'!$A$4:$A$503,"<"&DATE($B$3,10,1))) | K20: =IF($A20="","",SUMIFS('경비 증빙 대장'!$H$4:$H$503,'경비 증빙 대장'!$F$4:$F$503,$A20,'경비 증빙 대장'!$A$4:$A$503,">="&DATE($B$3,10,1),'경비 증빙 대장'!$A$4:$A$503,"<"&DATE($B$3,11,1))) | L20: =IF($A20="","",SUMIFS('경비 증빙 대장'!$H$4:$H$503,'경비 증빙 대장'!$F$4:$F$503,$A20,'경비 증빙 대장'!$A$4:$A$503,">="&DATE($B$3,11,1),'경비 증빙 대장'!$A$4:$A$503,"<"&DATE($B$3,12,1))) | M20: =IF($A20="","",SUMIFS('경비 증빙 대장'!$H$4:$H$503,'경비 증빙 대장'!$F$4:$F$503,$A20,'경비 증빙 대장'!$A$4:$A$503,">="&DATE($B$3,12,1),'경비 증빙 대장'!$A$4:$A$503,"<"&DATE($B$3,13,1))) | N20: =SUM(B20:M20)
B21: =IF($A21="","",SUMIFS('경비 증빙 대장'!$H$4:$H$503,'경비 증빙 대장'!$F$4:$F$503,$A21,'경비 증빙 대장'!$A$4:$A$503,">="&DATE($B$3,1,1),'경비 증빙 대장'!$A$4:$A$503,"<"&DATE($B$3,2,1))) | C21: =IF($A21="","",SUMIFS('경비 증빙 대장'!$H$4:$H$503,'경비 증빙 대장'!$F$4:$F$503,$A21,'경비 증빙 대장'!$A$4:$A$503,">="&DATE($B$3,2,1),'경비 증빙 대장'!$A$4:$A$503,"<"&DATE($B$3,3,1))) | D21: =IF($A21="","",SUMIFS('경비 증빙 대장'!$H$4:$H$503,'경비 증빙 대장'!$F$4:$F$503,$A21,'경비 증빙 대장'!$A$4:$A$503,">="&DATE($B$3,3,1),'경비 증빙 대장'!$A$4:$A$503,"<"&DATE($B$3,4,1))) | E21: =IF($A21="","",SUMIFS('경비 증빙 대장'!$H$4:$H$503,'경비 증빙 대장'!$F$4:$F$503,$A21,'경비 증빙 대장'!$A$4:$A$503,">="&DATE($B$3,4,1),'경비 증빙 대장'!$A$4:$A$503,"<"&DATE($B$3,5,1))) | F21: =IF($A21="","",SUMIFS('경비 증빙 대장'!$H$4:$H$503,'경비 증빙 대장'!$F$4:$F$503,$A21,'경비 증빙 대장'!$A$4:$A$503,">="&DATE($B$3,5,1),'경비 증빙 대장'!$A$4:$A$503,"<"&DATE($B$3,6,1))) | G21: =IF($A21="","",SUMIFS('경비 증빙 대장'!$H$4:$H$503,'경비 증빙 대장'!$F$4:$F$503,$A21,'경비 증빙 대장'!$A$4:$A$503,">="&DATE($B$3,6,1),'경비 증빙 대장'!$A$4:$A$503,"<"&DATE($B$3,7,1))) | H21: =IF($A21="","",SUMIFS('경비 증빙 대장'!$H$4:$H$503,'경비 증빙 대장'!$F$4:$F$503,$A21,'경비 증빙 대장'!$A$4:$A$503,">="&DATE($B$3,7,1),'경비 증빙 대장'!$A$4:$A$503,"<"&DATE($B$3,8,1))) | I21: =IF($A21="","",SUMIFS('경비 증빙 대장'!$H$4:$H$503,'경비 증빙 대장'!$F$4:$F$503,$A21,'경비 증빙 대장'!$A$4:$A$503,">="&DATE($B$3,8,1),'경비 증빙 대장'!$A$4:$A$503,"<"&DATE($B$3,9,1))) | J21: =IF($A21="","",SUMIFS('경비 증빙 대장'!$H$4:$H$503,'경비 증빙 대장'!$F$4:$F$503,$A21,'경비 증빙 대장'!$A$4:$A$503,">="&DATE($B$3,9,1),'경비 증빙 대장'!$A$4:$A$503,"<"&DATE($B$3,10,1))) | K21: =IF($A21="","",SUMIFS('경비 증빙 대장'!$H$4:$H$503,'경비 증빙 대장'!$F$4:$F$503,$A21,'경비 증빙 대장'!$A$4:$A$503,">="&DATE($B$3,10,1),'경비 증빙 대장'!$A$4:$A$503,"<"&DATE($B$3,11,1))) | L21: =IF($A21="","",SUMIFS('경비 증빙 대장'!$H$4:$H$503,'경비 증빙 대장'!$F$4:$F$503,$A21,'경비 증빙 대장'!$A$4:$A$503,">="&DATE($B$3,11,1),'경비 증빙 대장'!$A$4:$A$503,"<"&DATE($B$3,12,1))) | M21: =IF($A21="","",SUMIFS('경비 증빙 대장'!$H$4:$H$503,'경비 증빙 대장'!$F$4:$F$503,$A21,'경비 증빙 대장'!$A$4:$A$503,">="&DATE($B$3,12,1),'경비 증빙 대장'!$A$4:$A$503,"<"&DATE($B$3,13,1))) | N21: =SUM(B21:M21)
B22: =IF($A22="","",SUMIFS('경비 증빙 대장'!$H$4:$H$503,'경비 증빙 대장'!$F$4:$F$503,$A22,'경비 증빙 대장'!$A$4:$A$503,">="&DATE($B$3,1,1),'경비 증빙 대장'!$A$4:$A$503,"<"&DATE($B$3,2,1))) | C22: =IF($A22="","",SUMIFS('경비 증빙 대장'!$H$4:$H$503,'경비 증빙 대장'!$F$4:$F$503,$A22,'경비 증빙 대장'!$A$4:$A$503,">="&DATE($B$3,2,1),'경비 증빙 대장'!$A$4:$A$503,"<"&DATE($B$3,3,1))) | D22: =IF($A22="","",SUMIFS('경비 증빙 대장'!$H$4:$H$503,'경비 증빙 대장'!$F$4:$F$503,$A22,'경비 증빙 대장'!$A$4:$A$503,">="&DATE($B$3,3,1),'경비 증빙 대장'!$A$4:$A$503,"<"&DATE($B$3,4,1))) | E22: =IF($A22="","",SUMIFS('경비 증빙 대장'!$H$4:$H$503,'경비 증빙 대장'!$F$4:$F$503,$A22,'경비 증빙 대장'!$A$4:$A$503,">="&DATE($B$3,4,1),'경비 증빙 대장'!$A$4:$A$503,"<"&DATE($B$3,5,1))) | F22: =IF($A22="","",SUMIFS('경비 증빙 대장'!$H$4:$H$503,'경비 증빙 대장'!$F$4:$F$503,$A22,'경비 증빙 대장'!$A$4:$A$503,">="&DATE($B$3,5,1),'경비 증빙 대장'!$A$4:$A$503,"<"&DATE($B$3,6,1))) | G22: =IF($A22="","",SUMIFS('경비 증빙 대장'!$H$4:$H$503,'경비 증빙 대장'!$F$4:$F$503,$A22,'경비 증빙 대장'!$A$4:$A$503,">="&DATE($B$3,6,1),'경비 증빙 대장'!$A$4:$A$503,"<"&DATE($B$3,7,1))) | H22: =IF($A22="","",SUMIFS('경비 증빙 대장'!$H$4:$H$503,'경비 증빙 대장'!$F$4:$F$503,$A22,'경비 증빙 대장'!$A$4:$A$503,">="&DATE($B$3,7,1),'경비 증빙 대장'!$A$4:$A$503,"<"&DATE($B$3,8,1))) | I22: =IF($A22="","",SUMIFS('경비 증빙 대장'!$H$4:$H$503,'경비 증빙 대장'!$F$4:$F$503,$A22,'경비 증빙 대장'!$A$4:$A$503,">="&DATE($B$3,8,1),'경비 증빙 대장'!$A$4:$A$503,"<"&DATE($B$3,9,1))) | J22: =IF($A22="","",SUMIFS('경비 증빙 대장'!$H$4:$H$503,'경비 증빙 대장'!$F$4:$F$503,$A22,'경비 증빙 대장'!$A$4:$A$503,">="&DATE($B$3,9,1),'경비 증빙 대장'!$A$4:$A$503,"<"&DATE($B$3,10,1))) | K22: =IF($A22="","",SUMIFS('경비 증빙 대장'!$H$4:$H$503,'경비 증빙 대장'!$F$4:$F$503,$A22,'경비 증빙 대장'!$A$4:$A$503,">="&DATE($B$3,10,1),'경비 증빙 대장'!$A$4:$A$503,"<"&DATE($B$3,11,1))) | L22: =IF($A22="","",SUMIFS('경비 증빙 대장'!$H$4:$H$503,'경비 증빙 대장'!$F$4:$F$503,$A22,'경비 증빙 대장'!$A$4:$A$503,">="&DATE($B$3,11,1),'경비 증빙 대장'!$A$4:$A$503,"<"&DATE($B$3,12,1))) | M22: =IF($A22="","",SUMIFS('경비 증빙 대장'!$H$4:$H$503,'경비 증빙 대장'!$F$4:$F$503,$A22,'경비 증빙 대장'!$A$4:$A$503,">="&DATE($B$3,12,1),'경비 증빙 대장'!$A$4:$A$503,"<"&DATE($B$3,13,1))) | N22: =SUM(B22:M22)
B23: =IF($A23="","",SUMIFS('경비 증빙 대장'!$H$4:$H$503,'경비 증빙 대장'!$F$4:$F$503,$A23,'경비 증빙 대장'!$A$4:$A$503,">="&DATE($B$3,1,1),'경비 증빙 대장'!$A$4:$A$503,"<"&DATE($B$3,2,1))) | C23: =IF($A23="","",SUMIFS('경비 증빙 대장'!$H$4:$H$503,'경비 증빙 대장'!$F$4:$F$503,$A23,'경비 증빙 대장'!$A$4:$A$503,">="&DATE($B$3,2,1),'경비 증빙 대장'!$A$4:$A$503,"<"&DATE($B$3,3,1))) | D23: =IF($A23="","",SUMIFS('경비 증빙 대장'!$H$4:$H$503,'경비 증빙 대장'!$F$4:$F$503,$A23,'경비 증빙 대장'!$A$4:$A$503,">="&DATE($B$3,3,1),'경비 증빙 대장'!$A$4:$A$503,"<"&DATE($B$3,4,1))) | E23: =IF($A23="","",SUMIFS('경비 증빙 대장'!$H$4:$H$503,'경비 증빙 대장'!$F$4:$F$503,$A23,'경비 증빙 대장'!$A$4:$A$503,">="&DATE($B$3,4,1),'경비 증빙 대장'!$A$4:$A$503,"<"&DATE($B$3,5,1))) | F23: =IF($A23="","",SUMIFS('경비 증빙 대장'!$H$4:$H$503,'경비 증빙 대장'!$F$4:$F$503,$A23,'경비 증빙 대장'!$A$4:$A$503,">="&DATE($B$3,5,1),'경비 증빙 대장'!$A$4:$A$503,"<"&DATE($B$3,6,1))) | G23: =IF($A23="","",SUMIFS('경비 증빙 대장'!$H$4:$H$503,'경비 증빙 대장'!$F$4:$F$503,$A23,'경비 증빙 대장'!$A$4:$A$503,">="&DATE($B$3,6,1),'경비 증빙 대장'!$A$4:$A$503,"<"&DATE($B$3,7,1))) | H23: =IF($A23="","",SUMIFS('경비 증빙 대장'!$H$4:$H$503,'경비 증빙 대장'!$F$4:$F$503,$A23,'경비 증빙 대장'!$A$4:$A$503,">="&DATE($B$3,7,1),'경비 증빙 대장'!$A$4:$A$503,"<"&DATE($B$3,8,1))) | I23: =IF($A23="","",SUMIFS('경비 증빙 대장'!$H$4:$H$503,'경비 증빙 대장'!$F$4:$F$503,$A23,'경비 증빙 대장'!$A$4:$A$503,">="&DATE($B$3,8,1),'경비 증빙 대장'!$A$4:$A$503,"<"&DATE($B$3,9,1))) | J23: =IF($A23="","",SUMIFS('경비 증빙 대장'!$H$4:$H$503,'경비 증빙 대장'!$F$4:$F$503,$A23,'경비 증빙 대장'!$A$4:$A$503,">="&DATE($B$3,9,1),'경비 증빙 대장'!$A$4:$A$503,"<"&DATE($B$3,10,1))) | K23: =IF($A23="","",SUMIFS('경비 증빙 대장'!$H$4:$H$503,'경비 증빙 대장'!$F$4:$F$503,$A23,'경비 증빙 대장'!$A$4:$A$503,">="&DATE($B$3,10,1),'경비 증빙 대장'!$A$4:$A$503,"<"&DATE($B$3,11,1))) | L23: =IF($A23="","",SUMIFS('경비 증빙 대장'!$H$4:$H$503,'경비 증빙 대장'!$F$4:$F$503,$A23,'경비 증빙 대장'!$A$4:$A$503,">="&DATE($B$3,11,1),'경비 증빙 대장'!$A$4:$A$503,"<"&DATE($B$3,12,1))) | M23: =IF($A23="","",SUMIFS('경비 증빙 대장'!$H$4:$H$503,'경비 증빙 대장'!$F$4:$F$503,$A23,'경비 증빙 대장'!$A$4:$A$503,">="&DATE($B$3,12,1),'경비 증빙 대장'!$A$4:$A$503,"<"&DATE($B$3,13,1))) | N23: =SUM(B23:M23)
B24: =IF($A24="","",SUMIFS('경비 증빙 대장'!$H$4:$H$503,'경비 증빙 대장'!$F$4:$F$503,$A24,'경비 증빙 대장'!$A$4:$A$503,">="&DATE($B$3,1,1),'경비 증빙 대장'!$A$4:$A$503,"<"&DATE($B$3,2,1))) | C24: =IF($A24="","",SUMIFS('경비 증빙 대장'!$H$4:$H$503,'경비 증빙 대장'!$F$4:$F$503,$A24,'경비 증빙 대장'!$A$4:$A$503,">="&DATE($B$3,2,1),'경비 증빙 대장'!$A$4:$A$503,"<"&DATE($B$3,3,1))) | D24: =IF($A24="","",SUMIFS('경비 증빙 대장'!$H$4:$H$503,'경비 증빙 대장'!$F$4:$F$503,$A24,'경비 증빙 대장'!$A$4:$A$503,">="&DATE($B$3,3,1),'경비 증빙 대장'!$A$4:$A$503,"<"&DATE($B$3,4,1))) | E24: =IF($A24="","",SUMIFS('경비 증빙 대장'!$H$4:$H$503,'경비 증빙 대장'!$F$4:$F$503,$A24,'경비 증빙 대장'!$A$4:$A$503,">="&DATE($B$3,4,1),'경비 증빙 대장'!$A$4:$A$503,"<"&DATE($B$3,5,1))) | F24: =IF($A24="","",SUMIFS('경비 증빙 대장'!$H$4:$H$503,'경비 증빙 대장'!$F$4:$F$503,$A24,'경비 증빙 대장'!$A$4:$A$503,">="&DATE($B$3,5,1),'경비 증빙 대장'!$A$4:$A$503,"<"&DATE($B$3,6,1))) | G24: =IF($A24="","",SUMIFS('경비 증빙 대장'!$H$4:$H$503,'경비 증빙 대장'!$F$4:$F$503,$A24,'경비 증빙 대장'!$A$4:$A$503,">="&DATE($B$3,6,1),'경비 증빙 대장'!$A$4:$A$503,"<"&DATE($B$3,7,1))) | H24: =IF($A24="","",SUMIFS('경비 증빙 대장'!$H$4:$H$503,'경비 증빙 대장'!$F$4:$F$503,$A24,'경비 증빙 대장'!$A$4:$A$503,">="&DATE($B$3,7,1),'경비 증빙 대장'!$A$4:$A$503,"<"&DATE($B$3,8,1))) | I24: =IF($A24="","",SUMIFS('경비 증빙 대장'!$H$4:$H$503,'경비 증빙 대장'!$F$4:$F$503,$A24,'경비 증빙 대장'!$A$4:$A$503,">="&DATE($B$3,8,1),'경비 증빙 대장'!$A$4:$A$503,"<"&DATE($B$3,9,1))) | J24: =IF($A24="","",SUMIFS('경비 증빙 대장'!$H$4:$H$503,'경비 증빙 대장'!$F$4:$F$503,$A24,'경비 증빙 대장'!$A$4:$A$503,">="&DATE($B$3,9,1),'경비 증빙 대장'!$A$4:$A$503,"<"&DATE($B$3,10,1))) | K24: =IF($A24="","",SUMIFS('경비 증빙 대장'!$H$4:$H$503,'경비 증빙 대장'!$F$4:$F$503,$A24,'경비 증빙 대장'!$A$4:$A$503,">="&DATE($B$3,10,1),'경비 증빙 대장'!$A$4:$A$503,"<"&DATE($B$3,11,1))) | L24: =IF($A24="","",SUMIFS('경비 증빙 대장'!$H$4:$H$503,'경비 증빙 대장'!$F$4:$F$503,$A24,'경비 증빙 대장'!$A$4:$A$503,">="&DATE($B$3,11,1),'경비 증빙 대장'!$A$4:$A$503,"<"&DATE($B$3,12,1))) | M24: =IF($A24="","",SUMIFS('경비 증빙 대장'!$H$4:$H$503,'경비 증빙 대장'!$F$4:$F$503,$A24,'경비 증빙 대장'!$A$4:$A$503,">="&DATE($B$3,12,1),'경비 증빙 대장'!$A$4:$A$503,"<"&DATE($B$3,13,1))) | N24: =SUM(B24:M24)
B25: =IF($A25="","",SUMIFS('경비 증빙 대장'!$H$4:$H$503,'경비 증빙 대장'!$F$4:$F$503,$A25,'경비 증빙 대장'!$A$4:$A$503,">="&DATE($B$3,1,1),'경비 증빙 대장'!$A$4:$A$503,"<"&DATE($B$3,2,1))) | C25: =IF($A25="","",SUMIFS('경비 증빙 대장'!$H$4:$H$503,'경비 증빙 대장'!$F$4:$F$503,$A25,'경비 증빙 대장'!$A$4:$A$503,">="&DATE($B$3,2,1),'경비 증빙 대장'!$A$4:$A$503,"<"&DATE($B$3,3,1))) | D25: =IF($A25="","",SUMIFS('경비 증빙 대장'!$H$4:$H$503,'경비 증빙 대장'!$F$4:$F$503,$A25,'경비 증빙 대장'!$A$4:$A$503,">="&DATE($B$3,3,1),'경비 증빙 대장'!$A$4:$A$503,"<"&DATE($B$3,4,1))) | E25: =IF($A25="","",SUMIFS('경비 증빙 대장'!$H$4:$H$503,'경비 증빙 대장'!$F$4:$F$503,$A25,'경비 증빙 대장'!$A$4:$A$503,">="&DATE($B$3,4,1),'경비 증빙 대장'!$A$4:$A$503,"<"&DATE($B$3,5,1))) | F25: =IF($A25="","",SUMIFS('경비 증빙 대장'!$H$4:$H$503,'경비 증빙 대장'!$F$4:$F$503,$A25,'경비 증빙 대장'!$A$4:$A$503,">="&DATE($B$3,5,1),'경비 증빙 대장'!$A$4:$A$503,"<"&DATE($B$3,6,1))) | G25: =IF($A25="","",SUMIFS('경비 증빙 대장'!$H$4:$H$503,'경비 증빙 대장'!$F$4:$F$503,$A25,'경비 증빙 대장'!$A$4:$A$503,">="&DATE($B$3,6,1),'경비 증빙 대장'!$A$4:$A$503,"<"&DATE($B$3,7,1))) | H25: =IF($A25="","",SUMIFS('경비 증빙 대장'!$H$4:$H$503,'경비 증빙 대장'!$F$4:$F$503,$A25,'경비 증빙 대장'!$A$4:$A$503,">="&DATE($B$3,7,1),'경비 증빙 대장'!$A$4:$A$503,"<"&DATE($B$3,8,1))) | I25: =IF($A25="","",SUMIFS('경비 증빙 대장'!$H$4:$H$503,'경비 증빙 대장'!$F$4:$F$503,$A25,'경비 증빙 대장'!$A$4:$A$503,">="&DATE($B$3,8,1),'경비 증빙 대장'!$A$4:$A$503,"<"&DATE($B$3,9,1))) | J25: =IF($A25="","",SUMIFS('경비 증빙 대장'!$H$4:$H$503,'경비 증빙 대장'!$F$4:$F$503,$A25,'경비 증빙 대장'!$A$4:$A$503,">="&DATE($B$3,9,1),'경비 증빙 대장'!$A$4:$A$503,"<"&DATE($B$3,10,1))) | K25: =IF($A25="","",SUMIFS('경비 증빙 대장'!$H$4:$H$503,'경비 증빙 대장'!$F$4:$F$503,$A25,'경비 증빙 대장'!$A$4:$A$503,">="&DATE($B$3,10,1),'경비 증빙 대장'!$A$4:$A$503,"<"&DATE($B$3,11,1))) | L25: =IF($A25="","",SUMIFS('경비 증빙 대장'!$H$4:$H$503,'경비 증빙 대장'!$F$4:$F$503,$A25,'경비 증빙 대장'!$A$4:$A$503,">="&DATE($B$3,11,1),'경비 증빙 대장'!$A$4:$A$503,"<"&DATE($B$3,12,1))) | M25: =IF($A25="","",SUMIFS('경비 증빙 대장'!$H$4:$H$503,'경비 증빙 대장'!$F$4:$F$503,$A25,'경비 증빙 대장'!$A$4:$A$503,">="&DATE($B$3,12,1),'경비 증빙 대장'!$A$4:$A$503,"<"&DATE($B$3,13,1))) | N25: =SUM(B25:M25)
A26: (계정 빈칸) | B26: =SUMIFS('경비 증빙 대장'!$H$4:$H$503,'경비 증빙 대장'!$F$4:$F$503,"",'경비 증빙 대장'!$A$4:$A$503,">="&DATE($B$3,1,1),'경비 증빙 대장'!$A$4:$A$503,"<"&DATE($B$3,2,1)) | C26: =SUMIFS('경비 증빙 대장'!$H$4:$H$503,'경비 증빙 대장'!$F$4:$F$503,"",'경비 증빙 대장'!$A$4:$A$503,">="&DATE($B$3,2,1),'경비 증빙 대장'!$A$4:$A$503,"<"&DATE($B$3,3,1)) | D26: =SUMIFS('경비 증빙 대장'!$H$4:$H$503,'경비 증빙 대장'!$F$4:$F$503,"",'경비 증빙 대장'!$A$4:$A$503,">="&DATE($B$3,3,1),'경비 증빙 대장'!$A$4:$A$503,"<"&DATE($B$3,4,1)) | E26: =SUMIFS('경비 증빙 대장'!$H$4:$H$503,'경비 증빙 대장'!$F$4:$F$503,"",'경비 증빙 대장'!$A$4:$A$503,">="&DATE($B$3,4,1),'경비 증빙 대장'!$A$4:$A$503,"<"&DATE($B$3,5,1)) | F26: =SUMIFS('경비 증빙 대장'!$H$4:$H$503,'경비 증빙 대장'!$F$4:$F$503,"",'경비 증빙 대장'!$A$4:$A$503,">="&DATE($B$3,5,1),'경비 증빙 대장'!$A$4:$A$503,"<"&DATE($B$3,6,1)) | G26: =SUMIFS('경비 증빙 대장'!$H$4:$H$503,'경비 증빙 대장'!$F$4:$F$503,"",'경비 증빙 대장'!$A$4:$A$503,">="&DATE($B$3,6,1),'경비 증빙 대장'!$A$4:$A$503,"<"&DATE($B$3,7,1)) | H26: =SUMIFS('경비 증빙 대장'!$H$4:$H$503,'경비 증빙 대장'!$F$4:$F$503,"",'경비 증빙 대장'!$A$4:$A$503,">="&DATE($B$3,7,1),'경비 증빙 대장'!$A$4:$A$503,"<"&DATE($B$3,8,1)) | I26: =SUMIFS('경비 증빙 대장'!$H$4:$H$503,'경비 증빙 대장'!$F$4:$F$503,"",'경비 증빙 대장'!$A$4:$A$503,">="&DATE($B$3,8,1),'경비 증빙 대장'!$A$4:$A$503,"<"&DATE($B$3,9,1)) | J26: =SUMIFS('경비 증빙 대장'!$H$4:$H$503,'경비 증빙 대장'!$F$4:$F$503,"",'경비 증빙 대장'!$A$4:$A$503,">="&DATE($B$3,9,1),'경비 증빙 대장'!$A$4:$A$503,"<"&DATE($B$3,10,1)) | K26: =SUMIFS('경비 증빙 대장'!$H$4:$H$503,'경비 증빙 대장'!$F$4:$F$503,"",'경비 증빙 대장'!$A$4:$A$503,">="&DATE($B$3,10,1),'경비 증빙 대장'!$A$4:$A$503,"<"&DATE($B$3,11,1)) | L26: =SUMIFS('경비 증빙 대장'!$H$4:$H$503,'경비 증빙 대장'!$F$4:$F$503,"",'경비 증빙 대장'!$A$4:$A$503,">="&DATE($B$3,11,1),'경비 증빙 대장'!$A$4:$A$503,"<"&DATE($B$3,12,1)) | M26: =SUMIFS('경비 증빙 대장'!$H$4:$H$503,'경비 증빙 대장'!$F$4:$F$503,"",'경비 증빙 대장'!$A$4:$A$503,">="&DATE($B$3,12,1),'경비 증빙 대장'!$A$4:$A$503,"<"&DATE($B$3,13,1)) | N26: =SUM(B26:M26)
A27: 합계 | B27: =SUM(B6:B26) | C27: =SUM(C6:C26) | D27: =SUM(D6:D26) | E27: =SUM(E6:E26) | F27: =SUM(F6:F26) | G27: =SUM(G6:G26) | H27: =SUM(H6:H26) | I27: =SUM(I6:I26) | ... N27: =SUM(N6:N26)
A29: 월별 증빙 현황
A30: 월 | B30: 건수 | C30: 금액 | D30: 적격증빙 4종 | E30: 간이·기타 | F30: 증빙 없음 | G30: 증빙 빈칸 | H30: 3만 원 초과 | I30: 확인 필요
A31: 1 | B31: =COUNTIFS('경비 증빙 대장'!$A$4:$A$503,">="&DATE($B$3,$A31,1),'경비 증빙 대장'!$A$4:$A$503,"<"&DATE($B$3,$A31+1,1),'경비 증빙 대장'!$H$4:$H$503,"<>") | C31: =SUMIFS('경비 증빙 대장'!$H$4:$H$503,'경비 증빙 대장'!$A$4:$A$503,">="&DATE($B$3,$A31,1),'경비 증빙 대장'!$A$4:$A$503,"<"&DATE($B$3,$A31+1,1)) | D31: =SUMIFS('경비 증빙 대장'!$H$4:$H$503,'경비 증빙 대장'!$A$4:$A$503,">="&DATE($B$3,$A31,1),'경비 증빙 대장'!$A$4:$A$503,"<"&DATE($B$3,$A31+1,1),'경비 증빙 대장'!$K$4:$K$503,"적격증빙 4종") | E31: =SUMIFS('경비 증빙 대장'!$H$4:$H$503,'경비 증빙 대장'!$A$4:$A$503,">="&DATE($B$3,$A31,1),'경비 증빙 대장'!$A$4:$A$503,"<"&DATE($B$3,$A31+1,1),'경비 증빙 대장'!$K$4:$K$503,"간이·기타") | F31: =SUMIFS('경비 증빙 대장'!$H$4:$H$503,'경비 증빙 대장'!$A$4:$A$503,">="&DATE($B$3,$A31,1),'경비 증빙 대장'!$A$4:$A$503,"<"&DATE($B$3,$A31+1,1),'경비 증빙 대장'!$K$4:$K$503,"증빙 없음") | G31: =SUMIFS('경비 증빙 대장'!$H$4:$H$503,'경비 증빙 대장'!$A$4:$A$503,">="&DATE($B$3,$A31,1),'경비 증빙 대장'!$A$4:$A$503,"<"&DATE($B$3,$A31+1,1),'경비 증빙 대장'!$K$4:$K$503,"증빙 빈칸") | H31: =COUNTIFS('경비 증빙 대장'!$A$4:$A$503,">="&DATE($B$3,$A31,1),'경비 증빙 대장'!$A$4:$A$503,"<"&DATE($B$3,$A31+1,1),'경비 증빙 대장'!$L$4:$L$503,"초과") | I31: =COUNTIFS('경비 증빙 대장'!$A$4:$A$503,">="&DATE($B$3,$A31,1),'경비 증빙 대장'!$A$4:$A$503,"<"&DATE($B$3,$A31+1,1),'경비 증빙 대장'!$M$4:$M$503,"확인 필요")
A32: 2 | B32: =COUNTIFS('경비 증빙 대장'!$A$4:$A$503,">="&DATE($B$3,$A32,1),'경비 증빙 대장'!$A$4:$A$503,"<"&DATE($B$3,$A32+1,1),'경비 증빙 대장'!$H$4:$H$503,"<>") | C32: =SUMIFS('경비 증빙 대장'!$H$4:$H$503,'경비 증빙 대장'!$A$4:$A$503,">="&DATE($B$3,$A32,1),'경비 증빙 대장'!$A$4:$A$503,"<"&DATE($B$3,$A32+1,1)) | D32: =SUMIFS('경비 증빙 대장'!$H$4:$H$503,'경비 증빙 대장'!$A$4:$A$503,">="&DATE($B$3,$A32,1),'경비 증빙 대장'!$A$4:$A$503,"<"&DATE($B$3,$A32+1,1),'경비 증빙 대장'!$K$4:$K$503,"적격증빙 4종") | E32: =SUMIFS('경비 증빙 대장'!$H$4:$H$503,'경비 증빙 대장'!$A$4:$A$503,">="&DATE($B$3,$A32,1),'경비 증빙 대장'!$A$4:$A$503,"<"&DATE($B$3,$A32+1,1),'경비 증빙 대장'!$K$4:$K$503,"간이·기타") | F32: =SUMIFS('경비 증빙 대장'!$H$4:$H$503,'경비 증빙 대장'!$A$4:$A$503,">="&DATE($B$3,$A32,1),'경비 증빙 대장'!$A$4:$A$503,"<"&DATE($B$3,$A32+1,1),'경비 증빙 대장'!$K$4:$K$503,"증빙 없음") | G32: =SUMIFS('경비 증빙 대장'!$H$4:$H$503,'경비 증빙 대장'!$A$4:$A$503,">="&DATE($B$3,$A32,1),'경비 증빙 대장'!$A$4:$A$503,"<"&DATE($B$3,$A32+1,1),'경비 증빙 대장'!$K$4:$K$503,"증빙 빈칸") | H32: =COUNTIFS('경비 증빙 대장'!$A$4:$A$503,">="&DATE($B$3,$A32,1),'경비 증빙 대장'!$A$4:$A$503,"<"&DATE($B$3,$A32+1,1),'경비 증빙 대장'!$L$4:$L$503,"초과") | I32: =COUNTIFS('경비 증빙 대장'!$A$4:$A$503,">="&DATE($B$3,$A32,1),'경비 증빙 대장'!$A$4:$A$503,"<"&DATE($B$3,$A32+1,1),'경비 증빙 대장'!$M$4:$M$503,"확인 필요")
A33: 3 | B33: =COUNTIFS('경비 증빙 대장'!$A$4:$A$503,">="&DATE($B$3,$A33,1),'경비 증빙 대장'!$A$4:$A$503,"<"&DATE($B$3,$A33+1,1),'경비 증빙 대장'!$H$4:$H$503,"<>") | C33: =SUMIFS('경비 증빙 대장'!$H$4:$H$503,'경비 증빙 대장'!$A$4:$A$503,">="&DATE($B$3,$A33,1),'경비 증빙 대장'!$A$4:$A$503,"<"&DATE($B$3,$A33+1,1)) | D33: =SUMIFS('경비 증빙 대장'!$H$4:$H$503,'경비 증빙 대장'!$A$4:$A$503,">="&DATE($B$3,$A33,1),'경비 증빙 대장'!$A$4:$A$503,"<"&DATE($B$3,$A33+1,1),'경비 증빙 대장'!$K$4:$K$503,"적격증빙 4종") | E33: =SUMIFS('경비 증빙 대장'!$H$4:$H$503,'경비 증빙 대장'!$A$4:$A$503,">="&DATE($B$3,$A33,1),'경비 증빙 대장'!$A$4:$A$503,"<"&DATE($B$3,$A33+1,1),'경비 증빙 대장'!$K$4:$K$503,"간이·기타") | F33: =SUMIFS('경비 증빙 대장'!$H$4:$H$503,'경비 증빙 대장'!$A$4:$A$503,">="&DATE($B$3,$A33,1),'경비 증빙 대장'!$A$4:$A$503,"<"&DATE($B$3,$A33+1,1),'경비 증빙 대장'!$K$4:$K$503,"증빙 없음") | G33: =SUMIFS('경비 증빙 대장'!$H$4:$H$503,'경비 증빙 대장'!$A$4:$A$503,">="&DATE($B$3,$A33,1),'경비 증빙 대장'!$A$4:$A$503,"<"&DATE($B$3,$A33+1,1),'경비 증빙 대장'!$K$4:$K$503,"증빙 빈칸") | H33: =COUNTIFS('경비 증빙 대장'!$A$4:$A$503,">="&DATE($B$3,$A33,1),'경비 증빙 대장'!$A$4:$A$503,"<"&DATE($B$3,$A33+1,1),'경비 증빙 대장'!$L$4:$L$503,"초과") | I33: =COUNTIFS('경비 증빙 대장'!$A$4:$A$503,">="&DATE($B$3,$A33,1),'경비 증빙 대장'!$A$4:$A$503,"<"&DATE($B$3,$A33+1,1),'경비 증빙 대장'!$M$4:$M$503,"확인 필요")
A34: 4 | B34: =COUNTIFS('경비 증빙 대장'!$A$4:$A$503,">="&DATE($B$3,$A34,1),'경비 증빙 대장'!$A$4:$A$503,"<"&DATE($B$3,$A34+1,1),'경비 증빙 대장'!$H$4:$H$503,"<>") | C34: =SUMIFS('경비 증빙 대장'!$H$4:$H$503,'경비 증빙 대장'!$A$4:$A$503,">="&DATE($B$3,$A34,1),'경비 증빙 대장'!$A$4:$A$503,"<"&DATE($B$3,$A34+1,1)) | D34: =SUMIFS('경비 증빙 대장'!$H$4:$H$503,'경비 증빙 대장'!$A$4:$A$503,">="&DATE($B$3,$A34,1),'경비 증빙 대장'!$A$4:$A$503,"<"&DATE($B$3,$A34+1,1),'경비 증빙 대장'!$K$4:$K$503,"적격증빙 4종") | E34: =SUMIFS('경비 증빙 대장'!$H$4:$H$503,'경비 증빙 대장'!$A$4:$A$503,">="&DATE($B$3,$A34,1),'경비 증빙 대장'!$A$4:$A$503,"<"&DATE($B$3,$A34+1,1),'경비 증빙 대장'!$K$4:$K$503,"간이·기타") | F34: =SUMIFS('경비 증빙 대장'!$H$4:$H$503,'경비 증빙 대장'!$A$4:$A$503,">="&DATE($B$3,$A34,1),'경비 증빙 대장'!$A$4:$A$503,"<"&DATE($B$3,$A34+1,1),'경비 증빙 대장'!$K$4:$K$503,"증빙 없음") | G34: =SUMIFS('경비 증빙 대장'!$H$4:$H$503,'경비 증빙 대장'!$A$4:$A$503,">="&DATE($B$3,$A34,1),'경비 증빙 대장'!$A$4:$A$503,"<"&DATE($B$3,$A34+1,1),'경비 증빙 대장'!$K$4:$K$503,"증빙 빈칸") | H34: =COUNTIFS('경비 증빙 대장'!$A$4:$A$503,">="&DATE($B$3,$A34,1),'경비 증빙 대장'!$A$4:$A$503,"<"&DATE($B$3,$A34+1,1),'경비 증빙 대장'!$L$4:$L$503,"초과") | I34: =COUNTIFS('경비 증빙 대장'!$A$4:$A$503,">="&DATE($B$3,$A34,1),'경비 증빙 대장'!$A$4:$A$503,"<"&DATE($B$3,$A34+1,1),'경비 증빙 대장'!$M$4:$M$503,"확인 필요")
A35: 5 | B35: =COUNTIFS('경비 증빙 대장'!$A$4:$A$503,">="&DATE($B$3,$A35,1),'경비 증빙 대장'!$A$4:$A$503,"<"&DATE($B$3,$A35+1,1),'경비 증빙 대장'!$H$4:$H$503,"<>") | C35: =SUMIFS('경비 증빙 대장'!$H$4:$H$503,'경비 증빙 대장'!$A$4:$A$503,">="&DATE($B$3,$A35,1),'경비 증빙 대장'!$A$4:$A$503,"<"&DATE($B$3,$A35+1,1)) | D35: =SUMIFS('경비 증빙 대장'!$H$4:$H$503,'경비 증빙 대장'!$A$4:$A$503,">="&DATE($B$3,$A35,1),'경비 증빙 대장'!$A$4:$A$503,"<"&DATE($B$3,$A35+1,1),'경비 증빙 대장'!$K$4:$K$503,"적격증빙 4종") | E35: =SUMIFS('경비 증빙 대장'!$H$4:$H$503,'경비 증빙 대장'!$A$4:$A$503,">="&DATE($B$3,$A35,1),'경비 증빙 대장'!$A$4:$A$503,"<"&DATE($B$3,$A35+1,1),'경비 증빙 대장'!$K$4:$K$503,"간이·기타") | F35: =SUMIFS('경비 증빙 대장'!$H$4:$H$503,'경비 증빙 대장'!$A$4:$A$503,">="&DATE($B$3,$A35,1),'경비 증빙 대장'!$A$4:$A$503,"<"&DATE($B$3,$A35+1,1),'경비 증빙 대장'!$K$4:$K$503,"증빙 없음") | G35: =SUMIFS('경비 증빙 대장'!$H$4:$H$503,'경비 증빙 대장'!$A$4:$A$503,">="&DATE($B$3,$A35,1),'경비 증빙 대장'!$A$4:$A$503,"<"&DATE($B$3,$A35+1,1),'경비 증빙 대장'!$K$4:$K$503,"증빙 빈칸") | H35: =COUNTIFS('경비 증빙 대장'!$A$4:$A$503,">="&DATE($B$3,$A35,1),'경비 증빙 대장'!$A$4:$A$503,"<"&DATE($B$3,$A35+1,1),'경비 증빙 대장'!$L$4:$L$503,"초과") | I35: =COUNTIFS('경비 증빙 대장'!$A$4:$A$503,">="&DATE($B$3,$A35,1),'경비 증빙 대장'!$A$4:$A$503,"<"&DATE($B$3,$A35+1,1),'경비 증빙 대장'!$M$4:$M$503,"확인 필요")
A36: 6 | B36: =COUNTIFS('경비 증빙 대장'!$A$4:$A$503,">="&DATE($B$3,$A36,1),'경비 증빙 대장'!$A$4:$A$503,"<"&DATE($B$3,$A36+1,1),'경비 증빙 대장'!$H$4:$H$503,"<>") | C36: =SUMIFS('경비 증빙 대장'!$H$4:$H$503,'경비 증빙 대장'!$A$4:$A$503,">="&DATE($B$3,$A36,1),'경비 증빙 대장'!$A$4:$A$503,"<"&DATE($B$3,$A36+1,1)) | D36: =SUMIFS('경비 증빙 대장'!$H$4:$H$503,'경비 증빙 대장'!$A$4:$A$503,">="&DATE($B$3,$A36,1),'경비 증빙 대장'!$A$4:$A$503,"<"&DATE($B$3,$A36+1,1),'경비 증빙 대장'!$K$4:$K$503,"적격증빙 4종") | E36: =SUMIFS('경비 증빙 대장'!$H$4:$H$503,'경비 증빙 대장'!$A$4:$A$503,">="&DATE($B$3,$A36,1),'경비 증빙 대장'!$A$4:$A$503,"<"&DATE($B$3,$A36+1,1),'경비 증빙 대장'!$K$4:$K$503,"간이·기타") | F36: =SUMIFS('경비 증빙 대장'!$H$4:$H$503,'경비 증빙 대장'!$A$4:$A$503,">="&DATE($B$3,$A36,1),'경비 증빙 대장'!$A$4:$A$503,"<"&DATE($B$3,$A36+1,1),'경비 증빙 대장'!$K$4:$K$503,"증빙 없음") | G36: =SUMIFS('경비 증빙 대장'!$H$4:$H$503,'경비 증빙 대장'!$A$4:$A$503,">="&DATE($B$3,$A36,1),'경비 증빙 대장'!$A$4:$A$503,"<"&DATE($B$3,$A36+1,1),'경비 증빙 대장'!$K$4:$K$503,"증빙 빈칸") | H36: =COUNTIFS('경비 증빙 대장'!$A$4:$A$503,">="&DATE($B$3,$A36,1),'경비 증빙 대장'!$A$4:$A$503,"<"&DATE($B$3,$A36+1,1),'경비 증빙 대장'!$L$4:$L$503,"초과") | I36: =COUNTIFS('경비 증빙 대장'!$A$4:$A$503,">="&DATE($B$3,$A36,1),'경비 증빙 대장'!$A$4:$A$503,"<"&DATE($B$3,$A36+1,1),'경비 증빙 대장'!$M$4:$M$503,"확인 필요")
A37: 7 | B37: =COUNTIFS('경비 증빙 대장'!$A$4:$A$503,">="&DATE($B$3,$A37,1),'경비 증빙 대장'!$A$4:$A$503,"<"&DATE($B$3,$A37+1,1),'경비 증빙 대장'!$H$4:$H$503,"<>") | C37: =SUMIFS('경비 증빙 대장'!$H$4:$H$503,'경비 증빙 대장'!$A$4:$A$503,">="&DATE($B$3,$A37,1),'경비 증빙 대장'!$A$4:$A$503,"<"&DATE($B$3,$A37+1,1)) | D37: =SUMIFS('경비 증빙 대장'!$H$4:$H$503,'경비 증빙 대장'!$A$4:$A$503,">="&DATE($B$3,$A37,1),'경비 증빙 대장'!$A$4:$A$503,"<"&DATE($B$3,$A37+1,1),'경비 증빙 대장'!$K$4:$K$503,"적격증빙 4종") | E37: =SUMIFS('경비 증빙 대장'!$H$4:$H$503,'경비 증빙 대장'!$A$4:$A$503,">="&DATE($B$3,$A37,1),'경비 증빙 대장'!$A$4:$A$503,"<"&DATE($B$3,$A37+1,1),'경비 증빙 대장'!$K$4:$K$503,"간이·기타") | F37: =SUMIFS('경비 증빙 대장'!$H$4:$H$503,'경비 증빙 대장'!$A$4:$A$503,">="&DATE($B$3,$A37,1),'경비 증빙 대장'!$A$4:$A$503,"<"&DATE($B$3,$A37+1,1),'경비 증빙 대장'!$K$4:$K$503,"증빙 없음") | G37: =SUMIFS('경비 증빙 대장'!$H$4:$H$503,'경비 증빙 대장'!$A$4:$A$503,">="&DATE($B$3,$A37,1),'경비 증빙 대장'!$A$4:$A$503,"<"&DATE($B$3,$A37+1,1),'경비 증빙 대장'!$K$4:$K$503,"증빙 빈칸") | H37: =COUNTIFS('경비 증빙 대장'!$A$4:$A$503,">="&DATE($B$3,$A37,1),'경비 증빙 대장'!$A$4:$A$503,"<"&DATE($B$3,$A37+1,1),'경비 증빙 대장'!$L$4:$L$503,"초과") | I37: =COUNTIFS('경비 증빙 대장'!$A$4:$A$503,">="&DATE($B$3,$A37,1),'경비 증빙 대장'!$A$4:$A$503,"<"&DATE($B$3,$A37+1,1),'경비 증빙 대장'!$M$4:$M$503,"확인 필요")
A38: 8 | B38: =COUNTIFS('경비 증빙 대장'!$A$4:$A$503,">="&DATE($B$3,$A38,1),'경비 증빙 대장'!$A$4:$A$503,"<"&DATE($B$3,$A38+1,1),'경비 증빙 대장'!$H$4:$H$503,"<>") | C38: =SUMIFS('경비 증빙 대장'!$H$4:$H$503,'경비 증빙 대장'!$A$4:$A$503,">="&DATE($B$3,$A38,1),'경비 증빙 대장'!$A$4:$A$503,"<"&DATE($B$3,$A38+1,1)) | D38: =SUMIFS('경비 증빙 대장'!$H$4:$H$503,'경비 증빙 대장'!$A$4:$A$503,">="&DATE($B$3,$A38,1),'경비 증빙 대장'!$A$4:$A$503,"<"&DATE($B$3,$A38+1,1),'경비 증빙 대장'!$K$4:$K$503,"적격증빙 4종") | E38: =SUMIFS('경비 증빙 대장'!$H$4:$H$503,'경비 증빙 대장'!$A$4:$A$503,">="&DATE($B$3,$A38,1),'경비 증빙 대장'!$A$4:$A$503,"<"&DATE($B$3,$A38+1,1),'경비 증빙 대장'!$K$4:$K$503,"간이·기타") | F38: =SUMIFS('경비 증빙 대장'!$H$4:$H$503,'경비 증빙 대장'!$A$4:$A$503,">="&DATE($B$3,$A38,1),'경비 증빙 대장'!$A$4:$A$503,"<"&DATE($B$3,$A38+1,1),'경비 증빙 대장'!$K$4:$K$503,"증빙 없음") | G38: =SUMIFS('경비 증빙 대장'!$H$4:$H$503,'경비 증빙 대장'!$A$4:$A$503,">="&DATE($B$3,$A38,1),'경비 증빙 대장'!$A$4:$A$503,"<"&DATE($B$3,$A38+1,1),'경비 증빙 대장'!$K$4:$K$503,"증빙 빈칸") | H38: =COUNTIFS('경비 증빙 대장'!$A$4:$A$503,">="&DATE($B$3,$A38,1),'경비 증빙 대장'!$A$4:$A$503,"<"&DATE($B$3,$A38+1,1),'경비 증빙 대장'!$L$4:$L$503,"초과") | I38: =COUNTIFS('경비 증빙 대장'!$A$4:$A$503,">="&DATE($B$3,$A38,1),'경비 증빙 대장'!$A$4:$A$503,"<"&DATE($B$3,$A38+1,1),'경비 증빙 대장'!$M$4:$M$503,"확인 필요")
A39: 9 | B39: =COUNTIFS('경비 증빙 대장'!$A$4:$A$503,">="&DATE($B$3,$A39,1),'경비 증빙 대장'!$A$4:$A$503,"<"&DATE($B$3,$A39+1,1),'경비 증빙 대장'!$H$4:$H$503,"<>") | C39: =SUMIFS('경비 증빙 대장'!$H$4:$H$503,'경비 증빙 대장'!$A$4:$A$503,">="&DATE($B$3,$A39,1),'경비 증빙 대장'!$A$4:$A$503,"<"&DATE($B$3,$A39+1,1)) | D39: =SUMIFS('경비 증빙 대장'!$H$4:$H$503,'경비 증빙 대장'!$A$4:$A$503,">="&DATE($B$3,$A39,1),'경비 증빙 대장'!$A$4:$A$503,"<"&DATE($B$3,$A39+1,1),'경비 증빙 대장'!$K$4:$K$503,"적격증빙 4종") | E39: =SUMIFS('경비 증빙 대장'!$H$4:$H$503,'경비 증빙 대장'!$A$4:$A$503,">="&DATE($B$3,$A39,1),'경비 증빙 대장'!$A$4:$A$503,"<"&DATE($B$3,$A39+1,1),'경비 증빙 대장'!$K$4:$K$503,"간이·기타") | F39: =SUMIFS('경비 증빙 대장'!$H$4:$H$503,'경비 증빙 대장'!$A$4:$A$503,">="&DATE($B$3,$A39,1),'경비 증빙 대장'!$A$4:$A$503,"<"&DATE($B$3,$A39+1,1),'경비 증빙 대장'!$K$4:$K$503,"증빙 없음") | G39: =SUMIFS('경비 증빙 대장'!$H$4:$H$503,'경비 증빙 대장'!$A$4:$A$503,">="&DATE($B$3,$A39,1),'경비 증빙 대장'!$A$4:$A$503,"<"&DATE($B$3,$A39+1,1),'경비 증빙 대장'!$K$4:$K$503,"증빙 빈칸") | H39: =COUNTIFS('경비 증빙 대장'!$A$4:$A$503,">="&DATE($B$3,$A39,1),'경비 증빙 대장'!$A$4:$A$503,"<"&DATE($B$3,$A39+1,1),'경비 증빙 대장'!$L$4:$L$503,"초과") | I39: =COUNTIFS('경비 증빙 대장'!$A$4:$A$503,">="&DATE($B$3,$A39,1),'경비 증빙 대장'!$A$4:$A$503,"<"&DATE($B$3,$A39+1,1),'경비 증빙 대장'!$M$4:$M$503,"확인 필요")
A40: 10 | B40: =COUNTIFS('경비 증빙 대장'!$A$4:$A$503,">="&DATE($B$3,$A40,1),'경비 증빙 대장'!$A$4:$A$503,"<"&DATE($B$3,$A40+1,1),'경비 증빙 대장'!$H$4:$H$503,"<>") | C40: =SUMIFS('경비 증빙 대장'!$H$4:$H$503,'경비 증빙 대장'!$A$4:$A$503,">="&DATE($B$3,$A40,1),'경비 증빙 대장'!$A$4:$A$503,"<"&DATE($B$3,$A40+1,1)) | D40: =SUMIFS('경비 증빙 대장'!$H$4:$H$503,'경비 증빙 대장'!$A$4:$A$503,">="&DATE($B$3,$A40,1),'경비 증빙 대장'!$A$4:$A$503,"<"&DATE($B$3,$A40+1,1),'경비 증빙 대장'!$K$4:$K$503,"적격증빙 4종") | E40: =SUMIFS('경비 증빙 대장'!$H$4:$H$503,'경비 증빙 대장'!$A$4:$A$503,">="&DATE($B$3,$A40,1),'경비 증빙 대장'!$A$4:$A$503,"<"&DATE($B$3,$A40+1,1),'경비 증빙 대장'!$K$4:$K$503,"간이·기타") | F40: =SUMIFS('경비 증빙 대장'!$H$4:$H$503,'경비 증빙 대장'!$A$4:$A$503,">="&DATE($B$3,$A40,1),'경비 증빙 대장'!$A$4:$A$503,"<"&DATE($B$3,$A40+1,1),'경비 증빙 대장'!$K$4:$K$503,"증빙 없음") | G40: =SUMIFS('경비 증빙 대장'!$H$4:$H$503,'경비 증빙 대장'!$A$4:$A$503,">="&DATE($B$3,$A40,1),'경비 증빙 대장'!$A$4:$A$503,"<"&DATE($B$3,$A40+1,1),'경비 증빙 대장'!$K$4:$K$503,"증빙 빈칸") | H40: =COUNTIFS('경비 증빙 대장'!$A$4:$A$503,">="&DATE($B$3,$A40,1),'경비 증빙 대장'!$A$4:$A$503,"<"&DATE($B$3,$A40+1,1),'경비 증빙 대장'!$L$4:$L$503,"초과") | I40: =COUNTIFS('경비 증빙 대장'!$A$4:$A$503,">="&DATE($B$3,$A40,1),'경비 증빙 대장'!$A$4:$A$503,"<"&DATE($B$3,$A40+1,1),'경비 증빙 대장'!$M$4:$M$503,"확인 필요")
A41: 11 | B41: =COUNTIFS('경비 증빙 대장'!$A$4:$A$503,">="&DATE($B$3,$A41,1),'경비 증빙 대장'!$A$4:$A$503,"<"&DATE($B$3,$A41+1,1),'경비 증빙 대장'!$H$4:$H$503,"<>") | C41: =SUMIFS('경비 증빙 대장'!$H$4:$H$503,'경비 증빙 대장'!$A$4:$A$503,">="&DATE($B$3,$A41,1),'경비 증빙 대장'!$A$4:$A$503,"<"&DATE($B$3,$A41+1,1)) | D41: =SUMIFS('경비 증빙 대장'!$H$4:$H$503,'경비 증빙 대장'!$A$4:$A$503,">="&DATE($B$3,$A41,1),'경비 증빙 대장'!$A$4:$A$503,"<"&DATE($B$3,$A41+1,1),'경비 증빙 대장'!$K$4:$K$503,"적격증빙 4종") | E41: =SUMIFS('경비 증빙 대장'!$H$4:$H$503,'경비 증빙 대장'!$A$4:$A$503,">="&DATE($B$3,$A41,1),'경비 증빙 대장'!$A$4:$A$503,"<"&DATE($B$3,$A41+1,1),'경비 증빙 대장'!$K$4:$K$503,"간이·기타") | F41: =SUMIFS('경비 증빙 대장'!$H$4:$H$503,'경비 증빙 대장'!$A$4:$A$503,">="&DATE($B$3,$A41,1),'경비 증빙 대장'!$A$4:$A$503,"<"&DATE($B$3,$A41+1,1),'경비 증빙 대장'!$K$4:$K$503,"증빙 없음") | G41: =SUMIFS('경비 증빙 대장'!$H$4:$H$503,'경비 증빙 대장'!$A$4:$A$503,">="&DATE($B$3,$A41,1),'경비 증빙 대장'!$A$4:$A$503,"<"&DATE($B$3,$A41+1,1),'경비 증빙 대장'!$K$4:$K$503,"증빙 빈칸") | H41: =COUNTIFS('경비 증빙 대장'!$A$4:$A$503,">="&DATE($B$3,$A41,1),'경비 증빙 대장'!$A$4:$A$503,"<"&DATE($B$3,$A41+1,1),'경비 증빙 대장'!$L$4:$L$503,"초과") | I41: =COUNTIFS('경비 증빙 대장'!$A$4:$A$503,">="&DATE($B$3,$A41,1),'경비 증빙 대장'!$A$4:$A$503,"<"&DATE($B$3,$A41+1,1),'경비 증빙 대장'!$M$4:$M$503,"확인 필요")
A42: 12 | B42: =COUNTIFS('경비 증빙 대장'!$A$4:$A$503,">="&DATE($B$3,$A42,1),'경비 증빙 대장'!$A$4:$A$503,"<"&DATE($B$3,$A42+1,1),'경비 증빙 대장'!$H$4:$H$503,"<>") | C42: =SUMIFS('경비 증빙 대장'!$H$4:$H$503,'경비 증빙 대장'!$A$4:$A$503,">="&DATE($B$3,$A42,1),'경비 증빙 대장'!$A$4:$A$503,"<"&DATE($B$3,$A42+1,1)) | D42: =SUMIFS('경비 증빙 대장'!$H$4:$H$503,'경비 증빙 대장'!$A$4:$A$503,">="&DATE($B$3,$A42,1),'경비 증빙 대장'!$A$4:$A$503,"<"&DATE($B$3,$A42+1,1),'경비 증빙 대장'!$K$4:$K$503,"적격증빙 4종") | E42: =SUMIFS('경비 증빙 대장'!$H$4:$H$503,'경비 증빙 대장'!$A$4:$A$503,">="&DATE($B$3,$A42,1),'경비 증빙 대장'!$A$4:$A$503,"<"&DATE($B$3,$A42+1,1),'경비 증빙 대장'!$K$4:$K$503,"간이·기타") | F42: =SUMIFS('경비 증빙 대장'!$H$4:$H$503,'경비 증빙 대장'!$A$4:$A$503,">="&DATE($B$3,$A42,1),'경비 증빙 대장'!$A$4:$A$503,"<"&DATE($B$3,$A42+1,1),'경비 증빙 대장'!$K$4:$K$503,"증빙 없음") | G42: =SUMIFS('경비 증빙 대장'!$H$4:$H$503,'경비 증빙 대장'!$A$4:$A$503,">="&DATE($B$3,$A42,1),'경비 증빙 대장'!$A$4:$A$503,"<"&DATE($B$3,$A42+1,1),'경비 증빙 대장'!$K$4:$K$503,"증빙 빈칸") | H42: =COUNTIFS('경비 증빙 대장'!$A$4:$A$503,">="&DATE($B$3,$A42,1),'경비 증빙 대장'!$A$4:$A$503,"<"&DATE($B$3,$A42+1,1),'경비 증빙 대장'!$L$4:$L$503,"초과") | I42: =COUNTIFS('경비 증빙 대장'!$A$4:$A$503,">="&DATE($B$3,$A42,1),'경비 증빙 대장'!$A$4:$A$503,"<"&DATE($B$3,$A42+1,1),'경비 증빙 대장'!$M$4:$M$503,"확인 필요")
A43: 합계 | B43: =SUM(B31:B42) | C43: =SUM(C31:C42) | D43: =SUM(D31:D42) | E43: =SUM(E31:E42) | F43: =SUM(F31:F42) | G43: =SUM(G31:G42) | H43: =SUM(H31:H42) | I43: =SUM(I31:I42)
