Workbook

Sheet 기업업무추진비 관리대장
A1: 기업업무추진비 관리대장 | D1: 올해 누계 | E1: =SUMIFS($F$4:$F$503,$A$4:$A$503,">="&DATE(YEAR(TODAY()),1,1),$A$4:$A$503,"<"&DATE(YEAR(TODAY())+1,1,1)) | F1: 확인 필요 | G1: =COUNTIF($K$4:$K$503,"확인 필요") | H1: 개인카드 | I1: =COUNTIF($H$4:$H$503,"개인") | J1: 기준 초과는 '확인 필요' 표시일 뿐 손금 여부를 판단하지 않습니다. 한도·초과액은 세무사와 확인하세요.
A2: 합계 | B2: =SUBTOTAL(103,B4:B503)&"건" | F2: =SUBTOTAL(109,F4:F503)
A3: 일자 | B3: 상대 거래처 | C3: 참석자·대상 | D3: 목적 | E3: 지출 형태 | F3: 금액 (부가세 포함) | G3: 증빙 | H3: 카드 명의 | I3: 기준 금액(자동) | J3: 기준 초과(자동) | K3: 확인 필요(자동) | L3: 연 누계(자동) | M3: 지출결의서 번호 | N3: 비고
I4: =IF(OR(E4="",F4=""),"",IF(E4="경조금",200000,30000)) | J4: =IF(I4="","",IF(F4>I4,"초과","")) | K4: =IF(J4<>"초과","",IF(OR(G4="",G4="간이영수증",G4="없음(청첩장·부고만)",AND(G4="신용카드",H4<>"법인")),"확인 필요","")) | L4: =IF(OR(A4="",F4=""),"",SUMIFS($F$4:$F$503,$A$4:$A$503,">="&DATE(YEAR(A4),1,1),$A$4:$A$503,"<="&A4))
I5: =IF(OR(E5="",F5=""),"",IF(E5="경조금",200000,30000)) | J5: =IF(I5="","",IF(F5>I5,"초과","")) | K5: =IF(J5<>"초과","",IF(OR(G5="",G5="간이영수증",G5="없음(청첩장·부고만)",AND(G5="신용카드",H5<>"법인")),"확인 필요","")) | L5: =IF(OR(A5="",F5=""),"",SUMIFS($F$4:$F$503,$A$4:$A$503,">="&DATE(YEAR(A5),1,1),$A$4:$A$503,"<="&A5))
I6: =IF(OR(E6="",F6=""),"",IF(E6="경조금",200000,30000)) | J6: =IF(I6="","",IF(F6>I6,"초과","")) | K6: =IF(J6<>"초과","",IF(OR(G6="",G6="간이영수증",G6="없음(청첩장·부고만)",AND(G6="신용카드",H6<>"법인")),"확인 필요","")) | L6: =IF(OR(A6="",F6=""),"",SUMIFS($F$4:$F$503,$A$4:$A$503,">="&DATE(YEAR(A6),1,1),$A$4:$A$503,"<="&A6))
I7: =IF(OR(E7="",F7=""),"",IF(E7="경조금",200000,30000)) | J7: =IF(I7="","",IF(F7>I7,"초과","")) | K7: =IF(J7<>"초과","",IF(OR(G7="",G7="간이영수증",G7="없음(청첩장·부고만)",AND(G7="신용카드",H7<>"법인")),"확인 필요","")) | L7: =IF(OR(A7="",F7=""),"",SUMIFS($F$4:$F$503,$A$4:$A$503,">="&DATE(YEAR(A7),1,1),$A$4:$A$503,"<="&A7))
I8: =IF(OR(E8="",F8=""),"",IF(E8="경조금",200000,30000)) | J8: =IF(I8="","",IF(F8>I8,"초과","")) | K8: =IF(J8<>"초과","",IF(OR(G8="",G8="간이영수증",G8="없음(청첩장·부고만)",AND(G8="신용카드",H8<>"법인")),"확인 필요","")) | L8: =IF(OR(A8="",F8=""),"",SUMIFS($F$4:$F$503,$A$4:$A$503,">="&DATE(YEAR(A8),1,1),$A$4:$A$503,"<="&A8))
I9: =IF(OR(E9="",F9=""),"",IF(E9="경조금",200000,30000)) | J9: =IF(I9="","",IF(F9>I9,"초과","")) | K9: =IF(J9<>"초과","",IF(OR(G9="",G9="간이영수증",G9="없음(청첩장·부고만)",AND(G9="신용카드",H9<>"법인")),"확인 필요","")) | L9: =IF(OR(A9="",F9=""),"",SUMIFS($F$4:$F$503,$A$4:$A$503,">="&DATE(YEAR(A9),1,1),$A$4:$A$503,"<="&A9))
I10: =IF(OR(E10="",F10=""),"",IF(E10="경조금",200000,30000)) | J10: =IF(I10="","",IF(F10>I10,"초과","")) | K10: =IF(J10<>"초과","",IF(OR(G10="",G10="간이영수증",G10="없음(청첩장·부고만)",AND(G10="신용카드",H10<>"법인")),"확인 필요","")) | L10: =IF(OR(A10="",F10=""),"",SUMIFS($F$4:$F$503,$A$4:$A$503,">="&DATE(YEAR(A10),1,1),$A$4:$A$503,"<="&A10))
I11: =IF(OR(E11="",F11=""),"",IF(E11="경조금",200000,30000)) | J11: =IF(I11="","",IF(F11>I11,"초과","")) | K11: =IF(J11<>"초과","",IF(OR(G11="",G11="간이영수증",G11="없음(청첩장·부고만)",AND(G11="신용카드",H11<>"법인")),"확인 필요","")) | L11: =IF(OR(A11="",F11=""),"",SUMIFS($F$4:$F$503,$A$4:$A$503,">="&DATE(YEAR(A11),1,1),$A$4:$A$503,"<="&A11))
I12: =IF(OR(E12="",F12=""),"",IF(E12="경조금",200000,30000)) | J12: =IF(I12="","",IF(F12>I12,"초과","")) | K12: =IF(J12<>"초과","",IF(OR(G12="",G12="간이영수증",G12="없음(청첩장·부고만)",AND(G12="신용카드",H12<>"법인")),"확인 필요","")) | L12: =IF(OR(A12="",F12=""),"",SUMIFS($F$4:$F$503,$A$4:$A$503,">="&DATE(YEAR(A12),1,1),$A$4:$A$503,"<="&A12))
I13: =IF(OR(E13="",F13=""),"",IF(E13="경조금",200000,30000)) | J13: =IF(I13="","",IF(F13>I13,"초과","")) | K13: =IF(J13<>"초과","",IF(OR(G13="",G13="간이영수증",G13="없음(청첩장·부고만)",AND(G13="신용카드",H13<>"법인")),"확인 필요","")) | L13: =IF(OR(A13="",F13=""),"",SUMIFS($F$4:$F$503,$A$4:$A$503,">="&DATE(YEAR(A13),1,1),$A$4:$A$503,"<="&A13))
I14: =IF(OR(E14="",F14=""),"",IF(E14="경조금",200000,30000)) | J14: =IF(I14="","",IF(F14>I14,"초과","")) | K14: =IF(J14<>"초과","",IF(OR(G14="",G14="간이영수증",G14="없음(청첩장·부고만)",AND(G14="신용카드",H14<>"법인")),"확인 필요","")) | L14: =IF(OR(A14="",F14=""),"",SUMIFS($F$4:$F$503,$A$4:$A$503,">="&DATE(YEAR(A14),1,1),$A$4:$A$503,"<="&A14))
I15: =IF(OR(E15="",F15=""),"",IF(E15="경조금",200000,30000)) | J15: =IF(I15="","",IF(F15>I15,"초과","")) | K15: =IF(J15<>"초과","",IF(OR(G15="",G15="간이영수증",G15="없음(청첩장·부고만)",AND(G15="신용카드",H15<>"법인")),"확인 필요","")) | L15: =IF(OR(A15="",F15=""),"",SUMIFS($F$4:$F$503,$A$4:$A$503,">="&DATE(YEAR(A15),1,1),$A$4:$A$503,"<="&A15))
... I503: =IF(OR(E503="",F503=""),"",IF(E503="경조금",200000,30000)) | J503: =IF(I503="","",IF(F503>I503,"초과","")) | K503: =IF(J503<>"초과","",IF(OR(G503="",G503="간이영수증",G503="없음(청첩장·부고만)",AND(G503="신용카드",H503<>"법인")),"확인 필요","")) | L503: =IF(OR(A503="",F503=""),"",SUMIFS($F$4:$F$503,$A$4:$A$503,">="&DATE(YEAR(A503),1,1),$A$4:$A$503,"<="&A503))

Sheet 월별 집계
A1: 기업업무추진비 월별 집계
A2: '기업업무추진비 관리대장' 시트의 일자·지출 형태·금액으로 자동 계산됩니다. 이 시트는 고치지 않아도 됩니다.
A3: 연도 | B3: =YEAR(TODAY()) | C3: 올해로 자동 입력됩니다. 다른 해를 보려면 숫자(예: 2026)로 바꿔 적습니다.
A5: 월 | B5: 건수 | C5: 식대 | D5: 선물 | E5: 경조금 | F5: 기타 | G5: 합계 | H5: 누계 | I5: 확인 필요
A6: 1 | B6: =COUNTIFS('기업업무추진비 관리대장'!$A$4:$A$503,">="&DATE($B$3,$A6,1),'기업업무추진비 관리대장'!$A$4:$A$503,"<"&DATE($B$3,$A6+1,1),'기업업무추진비 관리대장'!$F$4:$F$503,"<>") | C6: =SUMIFS('기업업무추진비 관리대장'!$F$4:$F$503,'기업업무추진비 관리대장'!$A$4:$A$503,">="&DATE($B$3,$A6,1),'기업업무추진비 관리대장'!$A$4:$A$503,"<"&DATE($B$3,$A6+1,1),'기업업무추진비 관리대장'!$E$4:$E$503,"식대") | D6: =SUMIFS('기업업무추진비 관리대장'!$F$4:$F$503,'기업업무추진비 관리대장'!$A$4:$A$503,">="&DATE($B$3,$A6,1),'기업업무추진비 관리대장'!$A$4:$A$503,"<"&DATE($B$3,$A6+1,1),'기업업무추진비 관리대장'!$E$4:$E$503,"선물") | E6: =SUMIFS('기업업무추진비 관리대장'!$F$4:$F$503,'기업업무추진비 관리대장'!$A$4:$A$503,">="&DATE($B$3,$A6,1),'기업업무추진비 관리대장'!$A$4:$A$503,"<"&DATE($B$3,$A6+1,1),'기업업무추진비 관리대장'!$E$4:$E$503,"경조금") | F6: =SUMIFS('기업업무추진비 관리대장'!$F$4:$F$503,'기업업무추진비 관리대장'!$A$4:$A$503,">="&DATE($B$3,$A6,1),'기업업무추진비 관리대장'!$A$4:$A$503,"<"&DATE($B$3,$A6+1,1),'기업업무추진비 관리대장'!$E$4:$E$503,"기타") | G6: =SUM(C6:F6) | H6: =SUM($G$6:G6) | I6: =COUNTIFS('기업업무추진비 관리대장'!$A$4:$A$503,">="&DATE($B$3,$A6,1),'기업업무추진비 관리대장'!$A$4:$A$503,"<"&DATE($B$3,$A6+1,1),'기업업무추진비 관리대장'!$K$4:$K$503,"확인 필요")
A7: 2 | B7: =COUNTIFS('기업업무추진비 관리대장'!$A$4:$A$503,">="&DATE($B$3,$A7,1),'기업업무추진비 관리대장'!$A$4:$A$503,"<"&DATE($B$3,$A7+1,1),'기업업무추진비 관리대장'!$F$4:$F$503,"<>") | C7: =SUMIFS('기업업무추진비 관리대장'!$F$4:$F$503,'기업업무추진비 관리대장'!$A$4:$A$503,">="&DATE($B$3,$A7,1),'기업업무추진비 관리대장'!$A$4:$A$503,"<"&DATE($B$3,$A7+1,1),'기업업무추진비 관리대장'!$E$4:$E$503,"식대") | D7: =SUMIFS('기업업무추진비 관리대장'!$F$4:$F$503,'기업업무추진비 관리대장'!$A$4:$A$503,">="&DATE($B$3,$A7,1),'기업업무추진비 관리대장'!$A$4:$A$503,"<"&DATE($B$3,$A7+1,1),'기업업무추진비 관리대장'!$E$4:$E$503,"선물") | E7: =SUMIFS('기업업무추진비 관리대장'!$F$4:$F$503,'기업업무추진비 관리대장'!$A$4:$A$503,">="&DATE($B$3,$A7,1),'기업업무추진비 관리대장'!$A$4:$A$503,"<"&DATE($B$3,$A7+1,1),'기업업무추진비 관리대장'!$E$4:$E$503,"경조금") | F7: =SUMIFS('기업업무추진비 관리대장'!$F$4:$F$503,'기업업무추진비 관리대장'!$A$4:$A$503,">="&DATE($B$3,$A7,1),'기업업무추진비 관리대장'!$A$4:$A$503,"<"&DATE($B$3,$A7+1,1),'기업업무추진비 관리대장'!$E$4:$E$503,"기타") | G7: =SUM(C7:F7) | H7: =SUM($G$6:G7) | I7: =COUNTIFS('기업업무추진비 관리대장'!$A$4:$A$503,">="&DATE($B$3,$A7,1),'기업업무추진비 관리대장'!$A$4:$A$503,"<"&DATE($B$3,$A7+1,1),'기업업무추진비 관리대장'!$K$4:$K$503,"확인 필요")
A8: 3 | B8: =COUNTIFS('기업업무추진비 관리대장'!$A$4:$A$503,">="&DATE($B$3,$A8,1),'기업업무추진비 관리대장'!$A$4:$A$503,"<"&DATE($B$3,$A8+1,1),'기업업무추진비 관리대장'!$F$4:$F$503,"<>") | C8: =SUMIFS('기업업무추진비 관리대장'!$F$4:$F$503,'기업업무추진비 관리대장'!$A$4:$A$503,">="&DATE($B$3,$A8,1),'기업업무추진비 관리대장'!$A$4:$A$503,"<"&DATE($B$3,$A8+1,1),'기업업무추진비 관리대장'!$E$4:$E$503,"식대") | D8: =SUMIFS('기업업무추진비 관리대장'!$F$4:$F$503,'기업업무추진비 관리대장'!$A$4:$A$503,">="&DATE($B$3,$A8,1),'기업업무추진비 관리대장'!$A$4:$A$503,"<"&DATE($B$3,$A8+1,1),'기업업무추진비 관리대장'!$E$4:$E$503,"선물") | E8: =SUMIFS('기업업무추진비 관리대장'!$F$4:$F$503,'기업업무추진비 관리대장'!$A$4:$A$503,">="&DATE($B$3,$A8,1),'기업업무추진비 관리대장'!$A$4:$A$503,"<"&DATE($B$3,$A8+1,1),'기업업무추진비 관리대장'!$E$4:$E$503,"경조금") | F8: =SUMIFS('기업업무추진비 관리대장'!$F$4:$F$503,'기업업무추진비 관리대장'!$A$4:$A$503,">="&DATE($B$3,$A8,1),'기업업무추진비 관리대장'!$A$4:$A$503,"<"&DATE($B$3,$A8+1,1),'기업업무추진비 관리대장'!$E$4:$E$503,"기타") | G8: =SUM(C8:F8) | H8: =SUM($G$6:G8) | I8: =COUNTIFS('기업업무추진비 관리대장'!$A$4:$A$503,">="&DATE($B$3,$A8,1),'기업업무추진비 관리대장'!$A$4:$A$503,"<"&DATE($B$3,$A8+1,1),'기업업무추진비 관리대장'!$K$4:$K$503,"확인 필요")
A9: 4 | B9: =COUNTIFS('기업업무추진비 관리대장'!$A$4:$A$503,">="&DATE($B$3,$A9,1),'기업업무추진비 관리대장'!$A$4:$A$503,"<"&DATE($B$3,$A9+1,1),'기업업무추진비 관리대장'!$F$4:$F$503,"<>") | C9: =SUMIFS('기업업무추진비 관리대장'!$F$4:$F$503,'기업업무추진비 관리대장'!$A$4:$A$503,">="&DATE($B$3,$A9,1),'기업업무추진비 관리대장'!$A$4:$A$503,"<"&DATE($B$3,$A9+1,1),'기업업무추진비 관리대장'!$E$4:$E$503,"식대") | D9: =SUMIFS('기업업무추진비 관리대장'!$F$4:$F$503,'기업업무추진비 관리대장'!$A$4:$A$503,">="&DATE($B$3,$A9,1),'기업업무추진비 관리대장'!$A$4:$A$503,"<"&DATE($B$3,$A9+1,1),'기업업무추진비 관리대장'!$E$4:$E$503,"선물") | E9: =SUMIFS('기업업무추진비 관리대장'!$F$4:$F$503,'기업업무추진비 관리대장'!$A$4:$A$503,">="&DATE($B$3,$A9,1),'기업업무추진비 관리대장'!$A$4:$A$503,"<"&DATE($B$3,$A9+1,1),'기업업무추진비 관리대장'!$E$4:$E$503,"경조금") | F9: =SUMIFS('기업업무추진비 관리대장'!$F$4:$F$503,'기업업무추진비 관리대장'!$A$4:$A$503,">="&DATE($B$3,$A9,1),'기업업무추진비 관리대장'!$A$4:$A$503,"<"&DATE($B$3,$A9+1,1),'기업업무추진비 관리대장'!$E$4:$E$503,"기타") | G9: =SUM(C9:F9) | H9: =SUM($G$6:G9) | I9: =COUNTIFS('기업업무추진비 관리대장'!$A$4:$A$503,">="&DATE($B$3,$A9,1),'기업업무추진비 관리대장'!$A$4:$A$503,"<"&DATE($B$3,$A9+1,1),'기업업무추진비 관리대장'!$K$4:$K$503,"확인 필요")
A10: 5 | B10: =COUNTIFS('기업업무추진비 관리대장'!$A$4:$A$503,">="&DATE($B$3,$A10,1),'기업업무추진비 관리대장'!$A$4:$A$503,"<"&DATE($B$3,$A10+1,1),'기업업무추진비 관리대장'!$F$4:$F$503,"<>") | C10: =SUMIFS('기업업무추진비 관리대장'!$F$4:$F$503,'기업업무추진비 관리대장'!$A$4:$A$503,">="&DATE($B$3,$A10,1),'기업업무추진비 관리대장'!$A$4:$A$503,"<"&DATE($B$3,$A10+1,1),'기업업무추진비 관리대장'!$E$4:$E$503,"식대") | D10: =SUMIFS('기업업무추진비 관리대장'!$F$4:$F$503,'기업업무추진비 관리대장'!$A$4:$A$503,">="&DATE($B$3,$A10,1),'기업업무추진비 관리대장'!$A$4:$A$503,"<"&DATE($B$3,$A10+1,1),'기업업무추진비 관리대장'!$E$4:$E$503,"선물") | E10: =SUMIFS('기업업무추진비 관리대장'!$F$4:$F$503,'기업업무추진비 관리대장'!$A$4:$A$503,">="&DATE($B$3,$A10,1),'기업업무추진비 관리대장'!$A$4:$A$503,"<"&DATE($B$3,$A10+1,1),'기업업무추진비 관리대장'!$E$4:$E$503,"경조금") | F10: =SUMIFS('기업업무추진비 관리대장'!$F$4:$F$503,'기업업무추진비 관리대장'!$A$4:$A$503,">="&DATE($B$3,$A10,1),'기업업무추진비 관리대장'!$A$4:$A$503,"<"&DATE($B$3,$A10+1,1),'기업업무추진비 관리대장'!$E$4:$E$503,"기타") | G10: =SUM(C10:F10) | H10: =SUM($G$6:G10) | I10: =COUNTIFS('기업업무추진비 관리대장'!$A$4:$A$503,">="&DATE($B$3,$A10,1),'기업업무추진비 관리대장'!$A$4:$A$503,"<"&DATE($B$3,$A10+1,1),'기업업무추진비 관리대장'!$K$4:$K$503,"확인 필요")
A11: 6 | B11: =COUNTIFS('기업업무추진비 관리대장'!$A$4:$A$503,">="&DATE($B$3,$A11,1),'기업업무추진비 관리대장'!$A$4:$A$503,"<"&DATE($B$3,$A11+1,1),'기업업무추진비 관리대장'!$F$4:$F$503,"<>") | C11: =SUMIFS('기업업무추진비 관리대장'!$F$4:$F$503,'기업업무추진비 관리대장'!$A$4:$A$503,">="&DATE($B$3,$A11,1),'기업업무추진비 관리대장'!$A$4:$A$503,"<"&DATE($B$3,$A11+1,1),'기업업무추진비 관리대장'!$E$4:$E$503,"식대") | D11: =SUMIFS('기업업무추진비 관리대장'!$F$4:$F$503,'기업업무추진비 관리대장'!$A$4:$A$503,">="&DATE($B$3,$A11,1),'기업업무추진비 관리대장'!$A$4:$A$503,"<"&DATE($B$3,$A11+1,1),'기업업무추진비 관리대장'!$E$4:$E$503,"선물") | E11: =SUMIFS('기업업무추진비 관리대장'!$F$4:$F$503,'기업업무추진비 관리대장'!$A$4:$A$503,">="&DATE($B$3,$A11,1),'기업업무추진비 관리대장'!$A$4:$A$503,"<"&DATE($B$3,$A11+1,1),'기업업무추진비 관리대장'!$E$4:$E$503,"경조금") | F11: =SUMIFS('기업업무추진비 관리대장'!$F$4:$F$503,'기업업무추진비 관리대장'!$A$4:$A$503,">="&DATE($B$3,$A11,1),'기업업무추진비 관리대장'!$A$4:$A$503,"<"&DATE($B$3,$A11+1,1),'기업업무추진비 관리대장'!$E$4:$E$503,"기타") | G11: =SUM(C11:F11) | H11: =SUM($G$6:G11) | I11: =COUNTIFS('기업업무추진비 관리대장'!$A$4:$A$503,">="&DATE($B$3,$A11,1),'기업업무추진비 관리대장'!$A$4:$A$503,"<"&DATE($B$3,$A11+1,1),'기업업무추진비 관리대장'!$K$4:$K$503,"확인 필요")
A12: 7 | B12: =COUNTIFS('기업업무추진비 관리대장'!$A$4:$A$503,">="&DATE($B$3,$A12,1),'기업업무추진비 관리대장'!$A$4:$A$503,"<"&DATE($B$3,$A12+1,1),'기업업무추진비 관리대장'!$F$4:$F$503,"<>") | C12: =SUMIFS('기업업무추진비 관리대장'!$F$4:$F$503,'기업업무추진비 관리대장'!$A$4:$A$503,">="&DATE($B$3,$A12,1),'기업업무추진비 관리대장'!$A$4:$A$503,"<"&DATE($B$3,$A12+1,1),'기업업무추진비 관리대장'!$E$4:$E$503,"식대") | D12: =SUMIFS('기업업무추진비 관리대장'!$F$4:$F$503,'기업업무추진비 관리대장'!$A$4:$A$503,">="&DATE($B$3,$A12,1),'기업업무추진비 관리대장'!$A$4:$A$503,"<"&DATE($B$3,$A12+1,1),'기업업무추진비 관리대장'!$E$4:$E$503,"선물") | E12: =SUMIFS('기업업무추진비 관리대장'!$F$4:$F$503,'기업업무추진비 관리대장'!$A$4:$A$503,">="&DATE($B$3,$A12,1),'기업업무추진비 관리대장'!$A$4:$A$503,"<"&DATE($B$3,$A12+1,1),'기업업무추진비 관리대장'!$E$4:$E$503,"경조금") | F12: =SUMIFS('기업업무추진비 관리대장'!$F$4:$F$503,'기업업무추진비 관리대장'!$A$4:$A$503,">="&DATE($B$3,$A12,1),'기업업무추진비 관리대장'!$A$4:$A$503,"<"&DATE($B$3,$A12+1,1),'기업업무추진비 관리대장'!$E$4:$E$503,"기타") | G12: =SUM(C12:F12) | H12: =SUM($G$6:G12) | I12: =COUNTIFS('기업업무추진비 관리대장'!$A$4:$A$503,">="&DATE($B$3,$A12,1),'기업업무추진비 관리대장'!$A$4:$A$503,"<"&DATE($B$3,$A12+1,1),'기업업무추진비 관리대장'!$K$4:$K$503,"확인 필요")
A13: 8 | B13: =COUNTIFS('기업업무추진비 관리대장'!$A$4:$A$503,">="&DATE($B$3,$A13,1),'기업업무추진비 관리대장'!$A$4:$A$503,"<"&DATE($B$3,$A13+1,1),'기업업무추진비 관리대장'!$F$4:$F$503,"<>") | C13: =SUMIFS('기업업무추진비 관리대장'!$F$4:$F$503,'기업업무추진비 관리대장'!$A$4:$A$503,">="&DATE($B$3,$A13,1),'기업업무추진비 관리대장'!$A$4:$A$503,"<"&DATE($B$3,$A13+1,1),'기업업무추진비 관리대장'!$E$4:$E$503,"식대") | D13: =SUMIFS('기업업무추진비 관리대장'!$F$4:$F$503,'기업업무추진비 관리대장'!$A$4:$A$503,">="&DATE($B$3,$A13,1),'기업업무추진비 관리대장'!$A$4:$A$503,"<"&DATE($B$3,$A13+1,1),'기업업무추진비 관리대장'!$E$4:$E$503,"선물") | E13: =SUMIFS('기업업무추진비 관리대장'!$F$4:$F$503,'기업업무추진비 관리대장'!$A$4:$A$503,">="&DATE($B$3,$A13,1),'기업업무추진비 관리대장'!$A$4:$A$503,"<"&DATE($B$3,$A13+1,1),'기업업무추진비 관리대장'!$E$4:$E$503,"경조금") | F13: =SUMIFS('기업업무추진비 관리대장'!$F$4:$F$503,'기업업무추진비 관리대장'!$A$4:$A$503,">="&DATE($B$3,$A13,1),'기업업무추진비 관리대장'!$A$4:$A$503,"<"&DATE($B$3,$A13+1,1),'기업업무추진비 관리대장'!$E$4:$E$503,"기타") | G13: =SUM(C13:F13) | H13: =SUM($G$6:G13) | I13: =COUNTIFS('기업업무추진비 관리대장'!$A$4:$A$503,">="&DATE($B$3,$A13,1),'기업업무추진비 관리대장'!$A$4:$A$503,"<"&DATE($B$3,$A13+1,1),'기업업무추진비 관리대장'!$K$4:$K$503,"확인 필요")
A14: 9 | B14: =COUNTIFS('기업업무추진비 관리대장'!$A$4:$A$503,">="&DATE($B$3,$A14,1),'기업업무추진비 관리대장'!$A$4:$A$503,"<"&DATE($B$3,$A14+1,1),'기업업무추진비 관리대장'!$F$4:$F$503,"<>") | C14: =SUMIFS('기업업무추진비 관리대장'!$F$4:$F$503,'기업업무추진비 관리대장'!$A$4:$A$503,">="&DATE($B$3,$A14,1),'기업업무추진비 관리대장'!$A$4:$A$503,"<"&DATE($B$3,$A14+1,1),'기업업무추진비 관리대장'!$E$4:$E$503,"식대") | D14: =SUMIFS('기업업무추진비 관리대장'!$F$4:$F$503,'기업업무추진비 관리대장'!$A$4:$A$503,">="&DATE($B$3,$A14,1),'기업업무추진비 관리대장'!$A$4:$A$503,"<"&DATE($B$3,$A14+1,1),'기업업무추진비 관리대장'!$E$4:$E$503,"선물") | E14: =SUMIFS('기업업무추진비 관리대장'!$F$4:$F$503,'기업업무추진비 관리대장'!$A$4:$A$503,">="&DATE($B$3,$A14,1),'기업업무추진비 관리대장'!$A$4:$A$503,"<"&DATE($B$3,$A14+1,1),'기업업무추진비 관리대장'!$E$4:$E$503,"경조금") | F14: =SUMIFS('기업업무추진비 관리대장'!$F$4:$F$503,'기업업무추진비 관리대장'!$A$4:$A$503,">="&DATE($B$3,$A14,1),'기업업무추진비 관리대장'!$A$4:$A$503,"<"&DATE($B$3,$A14+1,1),'기업업무추진비 관리대장'!$E$4:$E$503,"기타") | G14: =SUM(C14:F14) | H14: =SUM($G$6:G14) | I14: =COUNTIFS('기업업무추진비 관리대장'!$A$4:$A$503,">="&DATE($B$3,$A14,1),'기업업무추진비 관리대장'!$A$4:$A$503,"<"&DATE($B$3,$A14+1,1),'기업업무추진비 관리대장'!$K$4:$K$503,"확인 필요")
A15: 10 | B15: =COUNTIFS('기업업무추진비 관리대장'!$A$4:$A$503,">="&DATE($B$3,$A15,1),'기업업무추진비 관리대장'!$A$4:$A$503,"<"&DATE($B$3,$A15+1,1),'기업업무추진비 관리대장'!$F$4:$F$503,"<>") | C15: =SUMIFS('기업업무추진비 관리대장'!$F$4:$F$503,'기업업무추진비 관리대장'!$A$4:$A$503,">="&DATE($B$3,$A15,1),'기업업무추진비 관리대장'!$A$4:$A$503,"<"&DATE($B$3,$A15+1,1),'기업업무추진비 관리대장'!$E$4:$E$503,"식대") | D15: =SUMIFS('기업업무추진비 관리대장'!$F$4:$F$503,'기업업무추진비 관리대장'!$A$4:$A$503,">="&DATE($B$3,$A15,1),'기업업무추진비 관리대장'!$A$4:$A$503,"<"&DATE($B$3,$A15+1,1),'기업업무추진비 관리대장'!$E$4:$E$503,"선물") | E15: =SUMIFS('기업업무추진비 관리대장'!$F$4:$F$503,'기업업무추진비 관리대장'!$A$4:$A$503,">="&DATE($B$3,$A15,1),'기업업무추진비 관리대장'!$A$4:$A$503,"<"&DATE($B$3,$A15+1,1),'기업업무추진비 관리대장'!$E$4:$E$503,"경조금") | F15: =SUMIFS('기업업무추진비 관리대장'!$F$4:$F$503,'기업업무추진비 관리대장'!$A$4:$A$503,">="&DATE($B$3,$A15,1),'기업업무추진비 관리대장'!$A$4:$A$503,"<"&DATE($B$3,$A15+1,1),'기업업무추진비 관리대장'!$E$4:$E$503,"기타") | G15: =SUM(C15:F15) | H15: =SUM($G$6:G15) | I15: =COUNTIFS('기업업무추진비 관리대장'!$A$4:$A$503,">="&DATE($B$3,$A15,1),'기업업무추진비 관리대장'!$A$4:$A$503,"<"&DATE($B$3,$A15+1,1),'기업업무추진비 관리대장'!$K$4:$K$503,"확인 필요")
A16: 11 | B16: =COUNTIFS('기업업무추진비 관리대장'!$A$4:$A$503,">="&DATE($B$3,$A16,1),'기업업무추진비 관리대장'!$A$4:$A$503,"<"&DATE($B$3,$A16+1,1),'기업업무추진비 관리대장'!$F$4:$F$503,"<>") | C16: =SUMIFS('기업업무추진비 관리대장'!$F$4:$F$503,'기업업무추진비 관리대장'!$A$4:$A$503,">="&DATE($B$3,$A16,1),'기업업무추진비 관리대장'!$A$4:$A$503,"<"&DATE($B$3,$A16+1,1),'기업업무추진비 관리대장'!$E$4:$E$503,"식대") | D16: =SUMIFS('기업업무추진비 관리대장'!$F$4:$F$503,'기업업무추진비 관리대장'!$A$4:$A$503,">="&DATE($B$3,$A16,1),'기업업무추진비 관리대장'!$A$4:$A$503,"<"&DATE($B$3,$A16+1,1),'기업업무추진비 관리대장'!$E$4:$E$503,"선물") | E16: =SUMIFS('기업업무추진비 관리대장'!$F$4:$F$503,'기업업무추진비 관리대장'!$A$4:$A$503,">="&DATE($B$3,$A16,1),'기업업무추진비 관리대장'!$A$4:$A$503,"<"&DATE($B$3,$A16+1,1),'기업업무추진비 관리대장'!$E$4:$E$503,"경조금") | F16: =SUMIFS('기업업무추진비 관리대장'!$F$4:$F$503,'기업업무추진비 관리대장'!$A$4:$A$503,">="&DATE($B$3,$A16,1),'기업업무추진비 관리대장'!$A$4:$A$503,"<"&DATE($B$3,$A16+1,1),'기업업무추진비 관리대장'!$E$4:$E$503,"기타") | G16: =SUM(C16:F16) | H16: =SUM($G$6:G16) | I16: =COUNTIFS('기업업무추진비 관리대장'!$A$4:$A$503,">="&DATE($B$3,$A16,1),'기업업무추진비 관리대장'!$A$4:$A$503,"<"&DATE($B$3,$A16+1,1),'기업업무추진비 관리대장'!$K$4:$K$503,"확인 필요")
A17: 12 | B17: =COUNTIFS('기업업무추진비 관리대장'!$A$4:$A$503,">="&DATE($B$3,$A17,1),'기업업무추진비 관리대장'!$A$4:$A$503,"<"&DATE($B$3,$A17+1,1),'기업업무추진비 관리대장'!$F$4:$F$503,"<>") | C17: =SUMIFS('기업업무추진비 관리대장'!$F$4:$F$503,'기업업무추진비 관리대장'!$A$4:$A$503,">="&DATE($B$3,$A17,1),'기업업무추진비 관리대장'!$A$4:$A$503,"<"&DATE($B$3,$A17+1,1),'기업업무추진비 관리대장'!$E$4:$E$503,"식대") | D17: =SUMIFS('기업업무추진비 관리대장'!$F$4:$F$503,'기업업무추진비 관리대장'!$A$4:$A$503,">="&DATE($B$3,$A17,1),'기업업무추진비 관리대장'!$A$4:$A$503,"<"&DATE($B$3,$A17+1,1),'기업업무추진비 관리대장'!$E$4:$E$503,"선물") | E17: =SUMIFS('기업업무추진비 관리대장'!$F$4:$F$503,'기업업무추진비 관리대장'!$A$4:$A$503,">="&DATE($B$3,$A17,1),'기업업무추진비 관리대장'!$A$4:$A$503,"<"&DATE($B$3,$A17+1,1),'기업업무추진비 관리대장'!$E$4:$E$503,"경조금") | F17: =SUMIFS('기업업무추진비 관리대장'!$F$4:$F$503,'기업업무추진비 관리대장'!$A$4:$A$503,">="&DATE($B$3,$A17,1),'기업업무추진비 관리대장'!$A$4:$A$503,"<"&DATE($B$3,$A17+1,1),'기업업무추진비 관리대장'!$E$4:$E$503,"기타") | G17: =SUM(C17:F17) | H17: =SUM($G$6:G17) | I17: =COUNTIFS('기업업무추진비 관리대장'!$A$4:$A$503,">="&DATE($B$3,$A17,1),'기업업무추진비 관리대장'!$A$4:$A$503,"<"&DATE($B$3,$A17+1,1),'기업업무추진비 관리대장'!$K$4:$K$503,"확인 필요")
A18: 합계 | B18: =SUM(B6:B17) | C18: =SUM(C6:C17) | D18: =SUM(D6:D17) | E18: =SUM(E6:E17) | F18: =SUM(F6:F17) | G18: =SUM(G6:G17) | I18: =SUM(I6:I17)
A20: 지출 형태를 고르지 않은 줄은 건수에만 들어가고 식대·선물·경조금·기타 합계에는 빠집니다.

Sheet 사용법
B2: 기업업무추진비 관리대장 사용법
B4: 1. 거래처 접대·선물·경조금을 쓸 때마다 '기업업무추진비 관리대장'에 한 줄씩 적습니다. 상대 거래처·참석자·목적을 함께 적어 두면 직원 회식비와 섞이지 않습니다.
B5: 2. 지출 형태(식대·선물·경조금·기타)를 고르고 금액(부가세 포함)을 적으면 기준 금액이 자동으로 들어갑니다. 경조금은 20만 원, 그 밖은 3만 원입니다.
B6: 3. 기준 금액을 넘었는데 증빙이 비어 있거나 간이영수증·'없음(청첩장·부고만)'이거나, 신용카드 명의가 '법인'이 아니면 '확인 필요'로 표시되고 줄이 노란색이 됩니다. 확인할 줄을 고르는 표시이며 손금 여부를 판단하지 않습니다.
B7: 4. 연 누계는 같은 해 1월 1일부터 그 줄의 일자까지 쓴 금액을 더합니다. 맨 위에는 올해 누계, 확인 필요 건수, 개인카드 건수가 나옵니다.
B8: 5. '월별 집계' 시트에 월별 건수·지출 형태별 합계·누계가 자동으로 나옵니다. 연도 칸(B3)은 올해로 자동 입력되며, 다른 해를 보려면 숫자로 바꿔 적습니다.
B9: 6. 분기마다 한 번 누계를 보면 연말에 몰아서 확인하는 일이 줄어듭니다.
B11: 법 기준: 한 번에 3만 원(경조금은 20만 원)을 넘게 쓰면서 신용카드(법인 명의)·현금영수증·세금계산서·계산서 등을 쓰지 않은 금액은 손금에 넣지 않습니다(법인세법 제25조②, 시행령 제41조①⑥). 다른 가맹점 명의의 매출전표는 인정되지 않습니다(법인세법 제25조③).
B12: 한도: 기본한도 1,200만 원(중소기업 3,600만 원) × 사업연도 월수 ÷ 12에 수입금액별 한도를 더합니다(법인세법 제25조④). 이 양식은 한도와 초과액을 계산하지 않습니다. 회사의 한도와 처리는 세무사와 확인하세요.
B13: 영수증·카드전표·청첩장 등 원본은 법정 기간 보관합니다. 시트는 찾기·집계·대조용입니다.
B15: 식당 영수증·청첩장 캡처를 대장에 옮겨 적고 있다면
B16: AiutoForm은 영수증·캡처를 처음 한 번 열을 확인·승인한 추가 시트에 한 줄씩 쌓습니다. 한도 계산·손금 판단은 하지 않고 기록만 합니다.
... B21: 무료 양식 제공: AiutoForm (aiutoform.co.kr)
