Workbook

Sheet 출력일보
A1: 출력일보 (일자·현장·인원) | F1: 한 사람의 하루 출력 = 한 줄. 공수는 하루 1, 반나절 0.5처럼 숫자로 적습니다.
A2: 합계 | B2: =SUBTOTAL(103,C4:C3003)&"명·일" | F2: =SUBTOTAL(109,F4:F3003)
A3: 일자 | B3: 현장 | C3: 성명 | D3: 구분 | E3: 공종·작업 | F3: 공수 | G3: 그날 현장 인원(자동) | H3: 근무월(자동) | I3: 비고 | J3: 확인(자동)
G4: =IF(OR(A4="",B4=""),"",COUNTIFS($A$4:$A$3003,A4,$B$4:$B$3003,B4)) | H4: =IF(A4="","",YEAR(A4)&"-"&TEXT(MONTH(A4),"00")) | J4: =IF(C4="","",IF(A4="","일자 미기재",IF(F4="","공수 미기재","")))
G5: =IF(OR(A5="",B5=""),"",COUNTIFS($A$4:$A$3003,A5,$B$4:$B$3003,B5)) | H5: =IF(A5="","",YEAR(A5)&"-"&TEXT(MONTH(A5),"00")) | J5: =IF(C5="","",IF(A5="","일자 미기재",IF(F5="","공수 미기재","")))
G6: =IF(OR(A6="",B6=""),"",COUNTIFS($A$4:$A$3003,A6,$B$4:$B$3003,B6)) | H6: =IF(A6="","",YEAR(A6)&"-"&TEXT(MONTH(A6),"00")) | J6: =IF(C6="","",IF(A6="","일자 미기재",IF(F6="","공수 미기재","")))
G7: =IF(OR(A7="",B7=""),"",COUNTIFS($A$4:$A$3003,A7,$B$4:$B$3003,B7)) | H7: =IF(A7="","",YEAR(A7)&"-"&TEXT(MONTH(A7),"00")) | J7: =IF(C7="","",IF(A7="","일자 미기재",IF(F7="","공수 미기재","")))
G8: =IF(OR(A8="",B8=""),"",COUNTIFS($A$4:$A$3003,A8,$B$4:$B$3003,B8)) | H8: =IF(A8="","",YEAR(A8)&"-"&TEXT(MONTH(A8),"00")) | J8: =IF(C8="","",IF(A8="","일자 미기재",IF(F8="","공수 미기재","")))
G9: =IF(OR(A9="",B9=""),"",COUNTIFS($A$4:$A$3003,A9,$B$4:$B$3003,B9)) | H9: =IF(A9="","",YEAR(A9)&"-"&TEXT(MONTH(A9),"00")) | J9: =IF(C9="","",IF(A9="","일자 미기재",IF(F9="","공수 미기재","")))
G10: =IF(OR(A10="",B10=""),"",COUNTIFS($A$4:$A$3003,A10,$B$4:$B$3003,B10)) | H10: =IF(A10="","",YEAR(A10)&"-"&TEXT(MONTH(A10),"00")) | J10: =IF(C10="","",IF(A10="","일자 미기재",IF(F10="","공수 미기재","")))
G11: =IF(OR(A11="",B11=""),"",COUNTIFS($A$4:$A$3003,A11,$B$4:$B$3003,B11)) | H11: =IF(A11="","",YEAR(A11)&"-"&TEXT(MONTH(A11),"00")) | J11: =IF(C11="","",IF(A11="","일자 미기재",IF(F11="","공수 미기재","")))
G12: =IF(OR(A12="",B12=""),"",COUNTIFS($A$4:$A$3003,A12,$B$4:$B$3003,B12)) | H12: =IF(A12="","",YEAR(A12)&"-"&TEXT(MONTH(A12),"00")) | J12: =IF(C12="","",IF(A12="","일자 미기재",IF(F12="","공수 미기재","")))
G13: =IF(OR(A13="",B13=""),"",COUNTIFS($A$4:$A$3003,A13,$B$4:$B$3003,B13)) | H13: =IF(A13="","",YEAR(A13)&"-"&TEXT(MONTH(A13),"00")) | J13: =IF(C13="","",IF(A13="","일자 미기재",IF(F13="","공수 미기재","")))
G14: =IF(OR(A14="",B14=""),"",COUNTIFS($A$4:$A$3003,A14,$B$4:$B$3003,B14)) | H14: =IF(A14="","",YEAR(A14)&"-"&TEXT(MONTH(A14),"00")) | J14: =IF(C14="","",IF(A14="","일자 미기재",IF(F14="","공수 미기재","")))
G15: =IF(OR(A15="",B15=""),"",COUNTIFS($A$4:$A$3003,A15,$B$4:$B$3003,B15)) | H15: =IF(A15="","",YEAR(A15)&"-"&TEXT(MONTH(A15),"00")) | J15: =IF(C15="","",IF(A15="","일자 미기재",IF(F15="","공수 미기재","")))
... G3003: =IF(OR(A3003="",B3003=""),"",COUNTIFS($A$4:$A$3003,A3003,$B$4:$B$3003,B3003)) | H3003: =IF(A3003="","",YEAR(A3003)&"-"&TEXT(MONTH(A3003),"00")) | J3003: =IF(C3003="","",IF(A3003="","일자 미기재",IF(F3003="","공수 미기재","")))

Sheet 지급 대장
A1: 일용직·사업소득 지급 대장 | F1: 일수 차이 | G1: =COUNTIF(P4:P1003,"근무일수*") | H1: 미반영 | I1: =COUNTIFS('지급 대장'!$B$4:$B$1003,"<>",'지급 대장'!$N$4:$N$1003,"<>반영") | J1: 한 사람의 한 달 지급 = 한 줄. 주민등록번호·계좌번호는 이 파일에 적지 않습니다.
A2: 합계 | B2: =SUBTOTAL(103,B4:B1003)&"건" | F2: =SUBTOTAL(109,F4:F1003) | G2: =SUBTOTAL(109,G4:G1003) | I2: =SUBTOTAL(109,I4:I1003) | J2: =SUBTOTAL(109,J4:J1003) | K2: =SUBTOTAL(109,K4:K1003)
A3: 근무월 | B3: 성명 | C3: 사번(선택) | D3: 구분 | E3: 현장·업무 | F3: 근무일수(확인서) | G3: 출력일보 공수(자동) | H3: 차이(자동) | I3: 지급액 | J3: 원천징수세액(옮겨 적기) | K3: 차인지급액(자동) | L3: 지급일 | M3: 다음 달 말일(참고, 자동) | N3: 신고 반영 여부 | O3: 비고 | P3: 확인(자동)
G4: =IF(OR(A4="",B4=""),"",IF(E4="",SUMIFS('출력일보'!$F$4:$F$3003,'출력일보'!$C$4:$C$3003,B4,'출력일보'!$A$4:$A$3003,">="&DATE(YEAR(A4),MONTH(A4),1),'출력일보'!$A$4:$A$3003,"<"&DATE(YEAR(A4),MONTH(A4)+1,1)),SUMIFS('출력일보'!$F$4:$F$3003,'출력일보'!$C$4:$C$3003,B4,'출력일보'!$B$4:$B$3003,E4,'출력일보'!$A$4:$A$3003,">="&DATE(YEAR(A4),MONTH(A4),1),'출력일보'!$A$4:$A$3003,"<"&DATE(YEAR(A4),MONTH(A4)+1,1)))) | H4: =IF(OR(F4="",G4=""),"",N(F4)-G4) | K4: =IF(I4="","",I4-N(J4)) | M4: =IF(OR(L4="",AND(D4<>"일용",D4<>"사업소득")),"",DATE(YEAR(L4),MONTH(L4)+2,0)) | P4: =IF(B4="","",IF(AND(H4<>"",H4<>0),"근무일수 ≠ 출력일보",IF(L4="","지급일 미기재",IF(AND(M4<>"",TODAY()>M4,N4<>"반영"),"기한 지남 · 반영 확인",""))))
G5: =IF(OR(A5="",B5=""),"",IF(E5="",SUMIFS('출력일보'!$F$4:$F$3003,'출력일보'!$C$4:$C$3003,B5,'출력일보'!$A$4:$A$3003,">="&DATE(YEAR(A5),MONTH(A5),1),'출력일보'!$A$4:$A$3003,"<"&DATE(YEAR(A5),MONTH(A5)+1,1)),SUMIFS('출력일보'!$F$4:$F$3003,'출력일보'!$C$4:$C$3003,B5,'출력일보'!$B$4:$B$3003,E5,'출력일보'!$A$4:$A$3003,">="&DATE(YEAR(A5),MONTH(A5),1),'출력일보'!$A$4:$A$3003,"<"&DATE(YEAR(A5),MONTH(A5)+1,1)))) | H5: =IF(OR(F5="",G5=""),"",N(F5)-G5) | K5: =IF(I5="","",I5-N(J5)) | M5: =IF(OR(L5="",AND(D5<>"일용",D5<>"사업소득")),"",DATE(YEAR(L5),MONTH(L5)+2,0)) | P5: =IF(B5="","",IF(AND(H5<>"",H5<>0),"근무일수 ≠ 출력일보",IF(L5="","지급일 미기재",IF(AND(M5<>"",TODAY()>M5,N5<>"반영"),"기한 지남 · 반영 확인",""))))
G6: =IF(OR(A6="",B6=""),"",IF(E6="",SUMIFS('출력일보'!$F$4:$F$3003,'출력일보'!$C$4:$C$3003,B6,'출력일보'!$A$4:$A$3003,">="&DATE(YEAR(A6),MONTH(A6),1),'출력일보'!$A$4:$A$3003,"<"&DATE(YEAR(A6),MONTH(A6)+1,1)),SUMIFS('출력일보'!$F$4:$F$3003,'출력일보'!$C$4:$C$3003,B6,'출력일보'!$B$4:$B$3003,E6,'출력일보'!$A$4:$A$3003,">="&DATE(YEAR(A6),MONTH(A6),1),'출력일보'!$A$4:$A$3003,"<"&DATE(YEAR(A6),MONTH(A6)+1,1)))) | H6: =IF(OR(F6="",G6=""),"",N(F6)-G6) | K6: =IF(I6="","",I6-N(J6)) | M6: =IF(OR(L6="",AND(D6<>"일용",D6<>"사업소득")),"",DATE(YEAR(L6),MONTH(L6)+2,0)) | P6: =IF(B6="","",IF(AND(H6<>"",H6<>0),"근무일수 ≠ 출력일보",IF(L6="","지급일 미기재",IF(AND(M6<>"",TODAY()>M6,N6<>"반영"),"기한 지남 · 반영 확인",""))))
G7: =IF(OR(A7="",B7=""),"",IF(E7="",SUMIFS('출력일보'!$F$4:$F$3003,'출력일보'!$C$4:$C$3003,B7,'출력일보'!$A$4:$A$3003,">="&DATE(YEAR(A7),MONTH(A7),1),'출력일보'!$A$4:$A$3003,"<"&DATE(YEAR(A7),MONTH(A7)+1,1)),SUMIFS('출력일보'!$F$4:$F$3003,'출력일보'!$C$4:$C$3003,B7,'출력일보'!$B$4:$B$3003,E7,'출력일보'!$A$4:$A$3003,">="&DATE(YEAR(A7),MONTH(A7),1),'출력일보'!$A$4:$A$3003,"<"&DATE(YEAR(A7),MONTH(A7)+1,1)))) | H7: =IF(OR(F7="",G7=""),"",N(F7)-G7) | K7: =IF(I7="","",I7-N(J7)) | M7: =IF(OR(L7="",AND(D7<>"일용",D7<>"사업소득")),"",DATE(YEAR(L7),MONTH(L7)+2,0)) | P7: =IF(B7="","",IF(AND(H7<>"",H7<>0),"근무일수 ≠ 출력일보",IF(L7="","지급일 미기재",IF(AND(M7<>"",TODAY()>M7,N7<>"반영"),"기한 지남 · 반영 확인",""))))
G8: =IF(OR(A8="",B8=""),"",IF(E8="",SUMIFS('출력일보'!$F$4:$F$3003,'출력일보'!$C$4:$C$3003,B8,'출력일보'!$A$4:$A$3003,">="&DATE(YEAR(A8),MONTH(A8),1),'출력일보'!$A$4:$A$3003,"<"&DATE(YEAR(A8),MONTH(A8)+1,1)),SUMIFS('출력일보'!$F$4:$F$3003,'출력일보'!$C$4:$C$3003,B8,'출력일보'!$B$4:$B$3003,E8,'출력일보'!$A$4:$A$3003,">="&DATE(YEAR(A8),MONTH(A8),1),'출력일보'!$A$4:$A$3003,"<"&DATE(YEAR(A8),MONTH(A8)+1,1)))) | H8: =IF(OR(F8="",G8=""),"",N(F8)-G8) | K8: =IF(I8="","",I8-N(J8)) | M8: =IF(OR(L8="",AND(D8<>"일용",D8<>"사업소득")),"",DATE(YEAR(L8),MONTH(L8)+2,0)) | P8: =IF(B8="","",IF(AND(H8<>"",H8<>0),"근무일수 ≠ 출력일보",IF(L8="","지급일 미기재",IF(AND(M8<>"",TODAY()>M8,N8<>"반영"),"기한 지남 · 반영 확인",""))))
G9: =IF(OR(A9="",B9=""),"",IF(E9="",SUMIFS('출력일보'!$F$4:$F$3003,'출력일보'!$C$4:$C$3003,B9,'출력일보'!$A$4:$A$3003,">="&DATE(YEAR(A9),MONTH(A9),1),'출력일보'!$A$4:$A$3003,"<"&DATE(YEAR(A9),MONTH(A9)+1,1)),SUMIFS('출력일보'!$F$4:$F$3003,'출력일보'!$C$4:$C$3003,B9,'출력일보'!$B$4:$B$3003,E9,'출력일보'!$A$4:$A$3003,">="&DATE(YEAR(A9),MONTH(A9),1),'출력일보'!$A$4:$A$3003,"<"&DATE(YEAR(A9),MONTH(A9)+1,1)))) | H9: =IF(OR(F9="",G9=""),"",N(F9)-G9) | K9: =IF(I9="","",I9-N(J9)) | M9: =IF(OR(L9="",AND(D9<>"일용",D9<>"사업소득")),"",DATE(YEAR(L9),MONTH(L9)+2,0)) | P9: =IF(B9="","",IF(AND(H9<>"",H9<>0),"근무일수 ≠ 출력일보",IF(L9="","지급일 미기재",IF(AND(M9<>"",TODAY()>M9,N9<>"반영"),"기한 지남 · 반영 확인",""))))
G10: =IF(OR(A10="",B10=""),"",IF(E10="",SUMIFS('출력일보'!$F$4:$F$3003,'출력일보'!$C$4:$C$3003,B10,'출력일보'!$A$4:$A$3003,">="&DATE(YEAR(A10),MONTH(A10),1),'출력일보'!$A$4:$A$3003,"<"&DATE(YEAR(A10),MONTH(A10)+1,1)),SUMIFS('출력일보'!$F$4:$F$3003,'출력일보'!$C$4:$C$3003,B10,'출력일보'!$B$4:$B$3003,E10,'출력일보'!$A$4:$A$3003,">="&DATE(YEAR(A10),MONTH(A10),1),'출력일보'!$A$4:$A$3003,"<"&DATE(YEAR(A10),MONTH(A10)+1,1)))) | H10: =IF(OR(F10="",G10=""),"",N(F10)-G10) | K10: =IF(I10="","",I10-N(J10)) | M10: =IF(OR(L10="",AND(D10<>"일용",D10<>"사업소득")),"",DATE(YEAR(L10),MONTH(L10)+2,0)) | P10: =IF(B10="","",IF(AND(H10<>"",H10<>0),"근무일수 ≠ 출력일보",IF(L10="","지급일 미기재",IF(AND(M10<>"",TODAY()>M10,N10<>"반영"),"기한 지남 · 반영 확인",""))))
G11: =IF(OR(A11="",B11=""),"",IF(E11="",SUMIFS('출력일보'!$F$4:$F$3003,'출력일보'!$C$4:$C$3003,B11,'출력일보'!$A$4:$A$3003,">="&DATE(YEAR(A11),MONTH(A11),1),'출력일보'!$A$4:$A$3003,"<"&DATE(YEAR(A11),MONTH(A11)+1,1)),SUMIFS('출력일보'!$F$4:$F$3003,'출력일보'!$C$4:$C$3003,B11,'출력일보'!$B$4:$B$3003,E11,'출력일보'!$A$4:$A$3003,">="&DATE(YEAR(A11),MONTH(A11),1),'출력일보'!$A$4:$A$3003,"<"&DATE(YEAR(A11),MONTH(A11)+1,1)))) | H11: =IF(OR(F11="",G11=""),"",N(F11)-G11) | K11: =IF(I11="","",I11-N(J11)) | M11: =IF(OR(L11="",AND(D11<>"일용",D11<>"사업소득")),"",DATE(YEAR(L11),MONTH(L11)+2,0)) | P11: =IF(B11="","",IF(AND(H11<>"",H11<>0),"근무일수 ≠ 출력일보",IF(L11="","지급일 미기재",IF(AND(M11<>"",TODAY()>M11,N11<>"반영"),"기한 지남 · 반영 확인",""))))
G12: =IF(OR(A12="",B12=""),"",IF(E12="",SUMIFS('출력일보'!$F$4:$F$3003,'출력일보'!$C$4:$C$3003,B12,'출력일보'!$A$4:$A$3003,">="&DATE(YEAR(A12),MONTH(A12),1),'출력일보'!$A$4:$A$3003,"<"&DATE(YEAR(A12),MONTH(A12)+1,1)),SUMIFS('출력일보'!$F$4:$F$3003,'출력일보'!$C$4:$C$3003,B12,'출력일보'!$B$4:$B$3003,E12,'출력일보'!$A$4:$A$3003,">="&DATE(YEAR(A12),MONTH(A12),1),'출력일보'!$A$4:$A$3003,"<"&DATE(YEAR(A12),MONTH(A12)+1,1)))) | H12: =IF(OR(F12="",G12=""),"",N(F12)-G12) | K12: =IF(I12="","",I12-N(J12)) | M12: =IF(OR(L12="",AND(D12<>"일용",D12<>"사업소득")),"",DATE(YEAR(L12),MONTH(L12)+2,0)) | P12: =IF(B12="","",IF(AND(H12<>"",H12<>0),"근무일수 ≠ 출력일보",IF(L12="","지급일 미기재",IF(AND(M12<>"",TODAY()>M12,N12<>"반영"),"기한 지남 · 반영 확인",""))))
G13: =IF(OR(A13="",B13=""),"",IF(E13="",SUMIFS('출력일보'!$F$4:$F$3003,'출력일보'!$C$4:$C$3003,B13,'출력일보'!$A$4:$A$3003,">="&DATE(YEAR(A13),MONTH(A13),1),'출력일보'!$A$4:$A$3003,"<"&DATE(YEAR(A13),MONTH(A13)+1,1)),SUMIFS('출력일보'!$F$4:$F$3003,'출력일보'!$C$4:$C$3003,B13,'출력일보'!$B$4:$B$3003,E13,'출력일보'!$A$4:$A$3003,">="&DATE(YEAR(A13),MONTH(A13),1),'출력일보'!$A$4:$A$3003,"<"&DATE(YEAR(A13),MONTH(A13)+1,1)))) | H13: =IF(OR(F13="",G13=""),"",N(F13)-G13) | K13: =IF(I13="","",I13-N(J13)) | M13: =IF(OR(L13="",AND(D13<>"일용",D13<>"사업소득")),"",DATE(YEAR(L13),MONTH(L13)+2,0)) | P13: =IF(B13="","",IF(AND(H13<>"",H13<>0),"근무일수 ≠ 출력일보",IF(L13="","지급일 미기재",IF(AND(M13<>"",TODAY()>M13,N13<>"반영"),"기한 지남 · 반영 확인",""))))
G14: =IF(OR(A14="",B14=""),"",IF(E14="",SUMIFS('출력일보'!$F$4:$F$3003,'출력일보'!$C$4:$C$3003,B14,'출력일보'!$A$4:$A$3003,">="&DATE(YEAR(A14),MONTH(A14),1),'출력일보'!$A$4:$A$3003,"<"&DATE(YEAR(A14),MONTH(A14)+1,1)),SUMIFS('출력일보'!$F$4:$F$3003,'출력일보'!$C$4:$C$3003,B14,'출력일보'!$B$4:$B$3003,E14,'출력일보'!$A$4:$A$3003,">="&DATE(YEAR(A14),MONTH(A14),1),'출력일보'!$A$4:$A$3003,"<"&DATE(YEAR(A14),MONTH(A14)+1,1)))) | H14: =IF(OR(F14="",G14=""),"",N(F14)-G14) | K14: =IF(I14="","",I14-N(J14)) | M14: =IF(OR(L14="",AND(D14<>"일용",D14<>"사업소득")),"",DATE(YEAR(L14),MONTH(L14)+2,0)) | P14: =IF(B14="","",IF(AND(H14<>"",H14<>0),"근무일수 ≠ 출력일보",IF(L14="","지급일 미기재",IF(AND(M14<>"",TODAY()>M14,N14<>"반영"),"기한 지남 · 반영 확인",""))))
G15: =IF(OR(A15="",B15=""),"",IF(E15="",SUMIFS('출력일보'!$F$4:$F$3003,'출력일보'!$C$4:$C$3003,B15,'출력일보'!$A$4:$A$3003,">="&DATE(YEAR(A15),MONTH(A15),1),'출력일보'!$A$4:$A$3003,"<"&DATE(YEAR(A15),MONTH(A15)+1,1)),SUMIFS('출력일보'!$F$4:$F$3003,'출력일보'!$C$4:$C$3003,B15,'출력일보'!$B$4:$B$3003,E15,'출력일보'!$A$4:$A$3003,">="&DATE(YEAR(A15),MONTH(A15),1),'출력일보'!$A$4:$A$3003,"<"&DATE(YEAR(A15),MONTH(A15)+1,1)))) | H15: =IF(OR(F15="",G15=""),"",N(F15)-G15) | K15: =IF(I15="","",I15-N(J15)) | M15: =IF(OR(L15="",AND(D15<>"일용",D15<>"사업소득")),"",DATE(YEAR(L15),MONTH(L15)+2,0)) | P15: =IF(B15="","",IF(AND(H15<>"",H15<>0),"근무일수 ≠ 출력일보",IF(L15="","지급일 미기재",IF(AND(M15<>"",TODAY()>M15,N15<>"반영"),"기한 지남 · 반영 확인",""))))
... G1003: =IF(OR(A1003="",B1003=""),"",IF(E1003="",SUMIFS('출력일보'!$F$4:$F$3003,'출력일보'!$C$4:$C$3003,B1003,'출력일보'!$A$4:$A$3003,">="&DATE(YEAR(A1003),MONTH(A1003),1),'출력일보'!$A$4:$A$3003,"<"&DATE(YEAR(A1003),MONTH(A1003)+1,1)),SUMIFS('출력일보'!$F$4:$F$3003,'출력일보'!$C$4:$C$3003,B1003,'출력일보'!$B$4:$B$3003,E1003,'출력일보'!$A$4:$A$3003,">="&DATE(YEAR(A1003),MONTH(A1003),1),'출력일보'!$A$4:$A$3003,"<"&DATE(YEAR(A1003),MONTH(A1003)+1,1)))) | H1003: =IF(OR(F1003="",G1003=""),"",N(F1003)-G1003) | K1003: =IF(I1003="","",I1003-N(J1003)) | M1003: =IF(OR(L1003="",AND(D1003<>"일용",D1003<>"사업소득")),"",DATE(YEAR(L1003),MONTH(L1003)+2,0)) | P1003: =IF(B1003="","",IF(AND(H1003<>"",H1003<>0),"근무일수 ≠ 출력일보",IF(L1003="","지급일 미기재",IF(AND(M1003<>"",TODAY()>M1003,N1003<>"반영"),"기한 지남 · 반영 확인",""))))

Sheet 사용법
B2: 출력일보·일용직 지급 대장 엑셀 양식 사용법
B4: 주민등록번호는 이 파일에 적지 마세요.
B5: 주민등록번호·계좌번호·신분증 사진은 급여 프로그램에만 두고, 이 파일은 성명과 사번 정도로 사람을 구분합니다. 파일을 볼 수 있는 사람도 담당자로 한정하세요.
B7: 1. '출력일보'에 현장 출력을 한 사람·하루마다 한 줄씩 적습니다(일자·현장·성명·구분·공종·공수). 그날 같은 현장의 인원이 자동으로 나옵니다.
B8: 2. 노임을 지급하면 '지급 대장'에 한 사람의 한 달 지급을 한 줄로 적습니다. 근무월은 2026-12-01처럼 그 달 1일로 적으면 2026-12로 보입니다.
B9: 3. 노임 지급 확인서의 근무일수를 적으면, 출력일보에서 같은 사람·같은 달(현장을 적으면 그 현장만)의 공수 합계를 자동으로 가져와 차이를 보여 줍니다.
B10: 4. 원천징수세액은 급여 프로그램이나 세무사가 계산한 값을 옮겨 적습니다. 이 양식은 세액을 계산하지 않습니다.
B11: 5. 지급일을 적으면 일용·사업소득 줄에 지급일이 속한 달의 다음 달 말일이 참고로 나옵니다. 지급명세서에 넣었으면 '신고 반영 여부'를 '반영'으로 바꿉니다.
B12: 6. 맨 위 '일수 차이'·'미반영' 건수와 확인 열을 보고, 어긋난 사람부터 출력일보와 확인서를 다시 맞춰 봅니다.
B14: 일용근로자 근로소득 지급명세서는 지급일이 속한 달의 다음 달 말일까지, 원천징수대상 사업소득·인적용역 기타소득 간이지급명세서는 매월 다음 달 말일까지 냅니다(소득세법 제164조①, 제164조의3①). 기한이 토·일·공휴일이면 그다음 날입니다(국세기본법 제5조①).
B15: '다음 달 말일' 칸은 휴일을 반영하지 않은 참고 날짜입니다. 제출 대상·기한·세액은 세무사와 확인하세요.
B17: 출력일보·노임 지급 확인서를 매번 옮겨 적고 있다면
... B23: 종이 원본은 법정 기간 동안 그대로 보관하세요. 이 파일은 찾기·집계·대조용입니다.
