Workbook

Sheet 연차관리대장
A1: 연차관리대장 | G1: 인원 | H1: =COUNTA(A5:A204) | I1: 잔여 합계 | J1: =SUM(H5:H204) | K1: 발생 연차는 회사 기준대로 직접 적습니다. 사용 합계·잔여·월별 사용은 '연차 사용 기록'에서 자동으로 더합니다(반차 0.5).
A2: 대상 기간 | C2: ~ | E2: ← 회계연도 기준이면 2026-01-01 ~ 2026-12-31처럼 적습니다. 이 기간 안의 사용일만 더하고, 기간이 끝나면 잔여가 '미사용 일수'로 표시됩니다.
A3: 합계 | B3: =SUBTOTAL(103,B5:B204)&"명" | E3: =SUBTOTAL(109,E5:E204) | F3: =SUBTOTAL(109,F5:F204) | G3: =SUBTOTAL(109,G5:G204) | H3: =SUBTOTAL(109,H5:H204) | L3: =SUBTOTAL(109,L5:L204) | O3: =SUBTOTAL(109,O5:O204) | P3: =SUBTOTAL(109,P5:P204) | Q3: =SUBTOTAL(109,Q5:Q204) | R3: =SUBTOTAL(109,R5:R204) | S3: =SUBTOTAL(109,S5:S204) | T3: =SUBTOTAL(109,T5:T204) | U3: =SUBTOTAL(109,U5:U204) | V3: =SUBTOTAL(109,V5:V204) | ... Z3: =SUBTOTAL(109,Z5:Z204)
A4: 사번 | B4: 성명 | C4: 부서 | D4: 입사일 | E4: 발생 연차(일) | F4: 조정·이월(일) | G4: 사용 합계(자동) | H4: 잔여(자동) | I4: 사용률(자동) | J4: 촉진 1차 통보일 | K4: 촉진 2차 지정 통보일 | L4: 미사용 일수(기간 끝난 뒤, 자동) | M4: 수당 지급 여부 | N4: 비고 | O4: =IF($B$2="","1번째 달",MONTH(DATE(YEAR($B$2),MONTH($B$2)+0,1))&"월") | P4: =IF($B$2="","2번째 달",MONTH(DATE(YEAR($B$2),MONTH($B$2)+1,1))&"월") | Q4: =IF($B$2="","3번째 달",MONTH(DATE(YEAR($B$2),MONTH($B$2)+2,1))&"월") | R4: =IF($B$2="","4번째 달",MONTH(DATE(YEAR($B$2),MONTH($B$2)+3,1))&"월") | S4: =IF($B$2="","5번째 달",MONTH(DATE(YEAR($B$2),MONTH($B$2)+4,1))&"월") | T4: =IF($B$2="","6번째 달",MONTH(DATE(YEAR($B$2),MONTH($B$2)+5,1))&"월") | U4: =IF($B$2="","7번째 달",MONTH(DATE(YEAR($B$2),MONTH($B$2)+6,1))&"월") | V4: =IF($B$2="","8번째 달",MONTH(DATE(YEAR($B$2),MONTH($B$2)+7,1))&"월") | W4: =IF($B$2="","9번째 달",MONTH(DATE(YEAR($B$2),MONTH($B$2)+8,1))&"월") | X4: =IF($B$2="","10번째 달",MONTH(DATE(YEAR($B$2),MONTH($B$2)+9,1))&"월") | Y4: =IF($B$2="","11번째 달",MONTH(DATE(YEAR($B$2),MONTH($B$2)+10,1))&"월") | Z4: =IF($B$2="","12번째 달",MONTH(DATE(YEAR($B$2),MONTH($B$2)+11,1))&"월")
G5: =IF(A5="","",SUMIFS('연차 사용 기록'!$H$4:$H$1503,'연차 사용 기록'!$C$4:$C$1503,A5,'연차 사용 기록'!$A$4:$A$1503,">="&IF($B$2="",0,$B$2),'연차 사용 기록'!$A$4:$A$1503,"<="&IF($D$2="",2958465,$D$2))) | H5: =IF(A5="","",(N(E5)+N(F5))-N(G5)) | I5: =IF(OR(A5="",(N(E5)+N(F5))=0),"",G5/(N(E5)+N(F5))) | L5: =IF(OR(A5="",$D$2=""),"",IF(TODAY()>$D$2,H5,"")) | O5: =IF(OR($A5="",$B$2=""),"",SUMIFS('연차 사용 기록'!$H$4:$H$1503,'연차 사용 기록'!$C$4:$C$1503,$A5,'연차 사용 기록'!$A$4:$A$1503,">="&DATE(YEAR($B$2),MONTH($B$2)+0,1),'연차 사용 기록'!$A$4:$A$1503,"<"&DATE(YEAR($B$2),MONTH($B$2)+1,1))) | P5: =IF(OR($A5="",$B$2=""),"",SUMIFS('연차 사용 기록'!$H$4:$H$1503,'연차 사용 기록'!$C$4:$C$1503,$A5,'연차 사용 기록'!$A$4:$A$1503,">="&DATE(YEAR($B$2),MONTH($B$2)+1,1),'연차 사용 기록'!$A$4:$A$1503,"<"&DATE(YEAR($B$2),MONTH($B$2)+2,1))) | Q5: =IF(OR($A5="",$B$2=""),"",SUMIFS('연차 사용 기록'!$H$4:$H$1503,'연차 사용 기록'!$C$4:$C$1503,$A5,'연차 사용 기록'!$A$4:$A$1503,">="&DATE(YEAR($B$2),MONTH($B$2)+2,1),'연차 사용 기록'!$A$4:$A$1503,"<"&DATE(YEAR($B$2),MONTH($B$2)+3,1))) | R5: =IF(OR($A5="",$B$2=""),"",SUMIFS('연차 사용 기록'!$H$4:$H$1503,'연차 사용 기록'!$C$4:$C$1503,$A5,'연차 사용 기록'!$A$4:$A$1503,">="&DATE(YEAR($B$2),MONTH($B$2)+3,1),'연차 사용 기록'!$A$4:$A$1503,"<"&DATE(YEAR($B$2),MONTH($B$2)+4,1))) | S5: =IF(OR($A5="",$B$2=""),"",SUMIFS('연차 사용 기록'!$H$4:$H$1503,'연차 사용 기록'!$C$4:$C$1503,$A5,'연차 사용 기록'!$A$4:$A$1503,">="&DATE(YEAR($B$2),MONTH($B$2)+4,1),'연차 사용 기록'!$A$4:$A$1503,"<"&DATE(YEAR($B$2),MONTH($B$2)+5,1))) | T5: =IF(OR($A5="",$B$2=""),"",SUMIFS('연차 사용 기록'!$H$4:$H$1503,'연차 사용 기록'!$C$4:$C$1503,$A5,'연차 사용 기록'!$A$4:$A$1503,">="&DATE(YEAR($B$2),MONTH($B$2)+5,1),'연차 사용 기록'!$A$4:$A$1503,"<"&DATE(YEAR($B$2),MONTH($B$2)+6,1))) | U5: =IF(OR($A5="",$B$2=""),"",SUMIFS('연차 사용 기록'!$H$4:$H$1503,'연차 사용 기록'!$C$4:$C$1503,$A5,'연차 사용 기록'!$A$4:$A$1503,">="&DATE(YEAR($B$2),MONTH($B$2)+6,1),'연차 사용 기록'!$A$4:$A$1503,"<"&DATE(YEAR($B$2),MONTH($B$2)+7,1))) | V5: =IF(OR($A5="",$B$2=""),"",SUMIFS('연차 사용 기록'!$H$4:$H$1503,'연차 사용 기록'!$C$4:$C$1503,$A5,'연차 사용 기록'!$A$4:$A$1503,">="&DATE(YEAR($B$2),MONTH($B$2)+7,1),'연차 사용 기록'!$A$4:$A$1503,"<"&DATE(YEAR($B$2),MONTH($B$2)+8,1))) | W5: =IF(OR($A5="",$B$2=""),"",SUMIFS('연차 사용 기록'!$H$4:$H$1503,'연차 사용 기록'!$C$4:$C$1503,$A5,'연차 사용 기록'!$A$4:$A$1503,">="&DATE(YEAR($B$2),MONTH($B$2)+8,1),'연차 사용 기록'!$A$4:$A$1503,"<"&DATE(YEAR($B$2),MONTH($B$2)+9,1))) | X5: =IF(OR($A5="",$B$2=""),"",SUMIFS('연차 사용 기록'!$H$4:$H$1503,'연차 사용 기록'!$C$4:$C$1503,$A5,'연차 사용 기록'!$A$4:$A$1503,">="&DATE(YEAR($B$2),MONTH($B$2)+9,1),'연차 사용 기록'!$A$4:$A$1503,"<"&DATE(YEAR($B$2),MONTH($B$2)+10,1))) | Y5: =IF(OR($A5="",$B$2=""),"",SUMIFS('연차 사용 기록'!$H$4:$H$1503,'연차 사용 기록'!$C$4:$C$1503,$A5,'연차 사용 기록'!$A$4:$A$1503,">="&DATE(YEAR($B$2),MONTH($B$2)+10,1),'연차 사용 기록'!$A$4:$A$1503,"<"&DATE(YEAR($B$2),MONTH($B$2)+11,1))) | Z5: =IF(OR($A5="",$B$2=""),"",SUMIFS('연차 사용 기록'!$H$4:$H$1503,'연차 사용 기록'!$C$4:$C$1503,$A5,'연차 사용 기록'!$A$4:$A$1503,">="&DATE(YEAR($B$2),MONTH($B$2)+11,1),'연차 사용 기록'!$A$4:$A$1503,"<"&DATE(YEAR($B$2),MONTH($B$2)+12,1)))
G6: =IF(A6="","",SUMIFS('연차 사용 기록'!$H$4:$H$1503,'연차 사용 기록'!$C$4:$C$1503,A6,'연차 사용 기록'!$A$4:$A$1503,">="&IF($B$2="",0,$B$2),'연차 사용 기록'!$A$4:$A$1503,"<="&IF($D$2="",2958465,$D$2))) | H6: =IF(A6="","",(N(E6)+N(F6))-N(G6)) | I6: =IF(OR(A6="",(N(E6)+N(F6))=0),"",G6/(N(E6)+N(F6))) | L6: =IF(OR(A6="",$D$2=""),"",IF(TODAY()>$D$2,H6,"")) | O6: =IF(OR($A6="",$B$2=""),"",SUMIFS('연차 사용 기록'!$H$4:$H$1503,'연차 사용 기록'!$C$4:$C$1503,$A6,'연차 사용 기록'!$A$4:$A$1503,">="&DATE(YEAR($B$2),MONTH($B$2)+0,1),'연차 사용 기록'!$A$4:$A$1503,"<"&DATE(YEAR($B$2),MONTH($B$2)+1,1))) | P6: =IF(OR($A6="",$B$2=""),"",SUMIFS('연차 사용 기록'!$H$4:$H$1503,'연차 사용 기록'!$C$4:$C$1503,$A6,'연차 사용 기록'!$A$4:$A$1503,">="&DATE(YEAR($B$2),MONTH($B$2)+1,1),'연차 사용 기록'!$A$4:$A$1503,"<"&DATE(YEAR($B$2),MONTH($B$2)+2,1))) | Q6: =IF(OR($A6="",$B$2=""),"",SUMIFS('연차 사용 기록'!$H$4:$H$1503,'연차 사용 기록'!$C$4:$C$1503,$A6,'연차 사용 기록'!$A$4:$A$1503,">="&DATE(YEAR($B$2),MONTH($B$2)+2,1),'연차 사용 기록'!$A$4:$A$1503,"<"&DATE(YEAR($B$2),MONTH($B$2)+3,1))) | R6: =IF(OR($A6="",$B$2=""),"",SUMIFS('연차 사용 기록'!$H$4:$H$1503,'연차 사용 기록'!$C$4:$C$1503,$A6,'연차 사용 기록'!$A$4:$A$1503,">="&DATE(YEAR($B$2),MONTH($B$2)+3,1),'연차 사용 기록'!$A$4:$A$1503,"<"&DATE(YEAR($B$2),MONTH($B$2)+4,1))) | S6: =IF(OR($A6="",$B$2=""),"",SUMIFS('연차 사용 기록'!$H$4:$H$1503,'연차 사용 기록'!$C$4:$C$1503,$A6,'연차 사용 기록'!$A$4:$A$1503,">="&DATE(YEAR($B$2),MONTH($B$2)+4,1),'연차 사용 기록'!$A$4:$A$1503,"<"&DATE(YEAR($B$2),MONTH($B$2)+5,1))) | T6: =IF(OR($A6="",$B$2=""),"",SUMIFS('연차 사용 기록'!$H$4:$H$1503,'연차 사용 기록'!$C$4:$C$1503,$A6,'연차 사용 기록'!$A$4:$A$1503,">="&DATE(YEAR($B$2),MONTH($B$2)+5,1),'연차 사용 기록'!$A$4:$A$1503,"<"&DATE(YEAR($B$2),MONTH($B$2)+6,1))) | U6: =IF(OR($A6="",$B$2=""),"",SUMIFS('연차 사용 기록'!$H$4:$H$1503,'연차 사용 기록'!$C$4:$C$1503,$A6,'연차 사용 기록'!$A$4:$A$1503,">="&DATE(YEAR($B$2),MONTH($B$2)+6,1),'연차 사용 기록'!$A$4:$A$1503,"<"&DATE(YEAR($B$2),MONTH($B$2)+7,1))) | V6: =IF(OR($A6="",$B$2=""),"",SUMIFS('연차 사용 기록'!$H$4:$H$1503,'연차 사용 기록'!$C$4:$C$1503,$A6,'연차 사용 기록'!$A$4:$A$1503,">="&DATE(YEAR($B$2),MONTH($B$2)+7,1),'연차 사용 기록'!$A$4:$A$1503,"<"&DATE(YEAR($B$2),MONTH($B$2)+8,1))) | W6: =IF(OR($A6="",$B$2=""),"",SUMIFS('연차 사용 기록'!$H$4:$H$1503,'연차 사용 기록'!$C$4:$C$1503,$A6,'연차 사용 기록'!$A$4:$A$1503,">="&DATE(YEAR($B$2),MONTH($B$2)+8,1),'연차 사용 기록'!$A$4:$A$1503,"<"&DATE(YEAR($B$2),MONTH($B$2)+9,1))) | X6: =IF(OR($A6="",$B$2=""),"",SUMIFS('연차 사용 기록'!$H$4:$H$1503,'연차 사용 기록'!$C$4:$C$1503,$A6,'연차 사용 기록'!$A$4:$A$1503,">="&DATE(YEAR($B$2),MONTH($B$2)+9,1),'연차 사용 기록'!$A$4:$A$1503,"<"&DATE(YEAR($B$2),MONTH($B$2)+10,1))) | Y6: =IF(OR($A6="",$B$2=""),"",SUMIFS('연차 사용 기록'!$H$4:$H$1503,'연차 사용 기록'!$C$4:$C$1503,$A6,'연차 사용 기록'!$A$4:$A$1503,">="&DATE(YEAR($B$2),MONTH($B$2)+10,1),'연차 사용 기록'!$A$4:$A$1503,"<"&DATE(YEAR($B$2),MONTH($B$2)+11,1))) | Z6: =IF(OR($A6="",$B$2=""),"",SUMIFS('연차 사용 기록'!$H$4:$H$1503,'연차 사용 기록'!$C$4:$C$1503,$A6,'연차 사용 기록'!$A$4:$A$1503,">="&DATE(YEAR($B$2),MONTH($B$2)+11,1),'연차 사용 기록'!$A$4:$A$1503,"<"&DATE(YEAR($B$2),MONTH($B$2)+12,1)))
G7: =IF(A7="","",SUMIFS('연차 사용 기록'!$H$4:$H$1503,'연차 사용 기록'!$C$4:$C$1503,A7,'연차 사용 기록'!$A$4:$A$1503,">="&IF($B$2="",0,$B$2),'연차 사용 기록'!$A$4:$A$1503,"<="&IF($D$2="",2958465,$D$2))) | H7: =IF(A7="","",(N(E7)+N(F7))-N(G7)) | I7: =IF(OR(A7="",(N(E7)+N(F7))=0),"",G7/(N(E7)+N(F7))) | L7: =IF(OR(A7="",$D$2=""),"",IF(TODAY()>$D$2,H7,"")) | O7: =IF(OR($A7="",$B$2=""),"",SUMIFS('연차 사용 기록'!$H$4:$H$1503,'연차 사용 기록'!$C$4:$C$1503,$A7,'연차 사용 기록'!$A$4:$A$1503,">="&DATE(YEAR($B$2),MONTH($B$2)+0,1),'연차 사용 기록'!$A$4:$A$1503,"<"&DATE(YEAR($B$2),MONTH($B$2)+1,1))) | P7: =IF(OR($A7="",$B$2=""),"",SUMIFS('연차 사용 기록'!$H$4:$H$1503,'연차 사용 기록'!$C$4:$C$1503,$A7,'연차 사용 기록'!$A$4:$A$1503,">="&DATE(YEAR($B$2),MONTH($B$2)+1,1),'연차 사용 기록'!$A$4:$A$1503,"<"&DATE(YEAR($B$2),MONTH($B$2)+2,1))) | Q7: =IF(OR($A7="",$B$2=""),"",SUMIFS('연차 사용 기록'!$H$4:$H$1503,'연차 사용 기록'!$C$4:$C$1503,$A7,'연차 사용 기록'!$A$4:$A$1503,">="&DATE(YEAR($B$2),MONTH($B$2)+2,1),'연차 사용 기록'!$A$4:$A$1503,"<"&DATE(YEAR($B$2),MONTH($B$2)+3,1))) | R7: =IF(OR($A7="",$B$2=""),"",SUMIFS('연차 사용 기록'!$H$4:$H$1503,'연차 사용 기록'!$C$4:$C$1503,$A7,'연차 사용 기록'!$A$4:$A$1503,">="&DATE(YEAR($B$2),MONTH($B$2)+3,1),'연차 사용 기록'!$A$4:$A$1503,"<"&DATE(YEAR($B$2),MONTH($B$2)+4,1))) | S7: =IF(OR($A7="",$B$2=""),"",SUMIFS('연차 사용 기록'!$H$4:$H$1503,'연차 사용 기록'!$C$4:$C$1503,$A7,'연차 사용 기록'!$A$4:$A$1503,">="&DATE(YEAR($B$2),MONTH($B$2)+4,1),'연차 사용 기록'!$A$4:$A$1503,"<"&DATE(YEAR($B$2),MONTH($B$2)+5,1))) | T7: =IF(OR($A7="",$B$2=""),"",SUMIFS('연차 사용 기록'!$H$4:$H$1503,'연차 사용 기록'!$C$4:$C$1503,$A7,'연차 사용 기록'!$A$4:$A$1503,">="&DATE(YEAR($B$2),MONTH($B$2)+5,1),'연차 사용 기록'!$A$4:$A$1503,"<"&DATE(YEAR($B$2),MONTH($B$2)+6,1))) | U7: =IF(OR($A7="",$B$2=""),"",SUMIFS('연차 사용 기록'!$H$4:$H$1503,'연차 사용 기록'!$C$4:$C$1503,$A7,'연차 사용 기록'!$A$4:$A$1503,">="&DATE(YEAR($B$2),MONTH($B$2)+6,1),'연차 사용 기록'!$A$4:$A$1503,"<"&DATE(YEAR($B$2),MONTH($B$2)+7,1))) | V7: =IF(OR($A7="",$B$2=""),"",SUMIFS('연차 사용 기록'!$H$4:$H$1503,'연차 사용 기록'!$C$4:$C$1503,$A7,'연차 사용 기록'!$A$4:$A$1503,">="&DATE(YEAR($B$2),MONTH($B$2)+7,1),'연차 사용 기록'!$A$4:$A$1503,"<"&DATE(YEAR($B$2),MONTH($B$2)+8,1))) | W7: =IF(OR($A7="",$B$2=""),"",SUMIFS('연차 사용 기록'!$H$4:$H$1503,'연차 사용 기록'!$C$4:$C$1503,$A7,'연차 사용 기록'!$A$4:$A$1503,">="&DATE(YEAR($B$2),MONTH($B$2)+8,1),'연차 사용 기록'!$A$4:$A$1503,"<"&DATE(YEAR($B$2),MONTH($B$2)+9,1))) | X7: =IF(OR($A7="",$B$2=""),"",SUMIFS('연차 사용 기록'!$H$4:$H$1503,'연차 사용 기록'!$C$4:$C$1503,$A7,'연차 사용 기록'!$A$4:$A$1503,">="&DATE(YEAR($B$2),MONTH($B$2)+9,1),'연차 사용 기록'!$A$4:$A$1503,"<"&DATE(YEAR($B$2),MONTH($B$2)+10,1))) | Y7: =IF(OR($A7="",$B$2=""),"",SUMIFS('연차 사용 기록'!$H$4:$H$1503,'연차 사용 기록'!$C$4:$C$1503,$A7,'연차 사용 기록'!$A$4:$A$1503,">="&DATE(YEAR($B$2),MONTH($B$2)+10,1),'연차 사용 기록'!$A$4:$A$1503,"<"&DATE(YEAR($B$2),MONTH($B$2)+11,1))) | Z7: =IF(OR($A7="",$B$2=""),"",SUMIFS('연차 사용 기록'!$H$4:$H$1503,'연차 사용 기록'!$C$4:$C$1503,$A7,'연차 사용 기록'!$A$4:$A$1503,">="&DATE(YEAR($B$2),MONTH($B$2)+11,1),'연차 사용 기록'!$A$4:$A$1503,"<"&DATE(YEAR($B$2),MONTH($B$2)+12,1)))
G8: =IF(A8="","",SUMIFS('연차 사용 기록'!$H$4:$H$1503,'연차 사용 기록'!$C$4:$C$1503,A8,'연차 사용 기록'!$A$4:$A$1503,">="&IF($B$2="",0,$B$2),'연차 사용 기록'!$A$4:$A$1503,"<="&IF($D$2="",2958465,$D$2))) | H8: =IF(A8="","",(N(E8)+N(F8))-N(G8)) | I8: =IF(OR(A8="",(N(E8)+N(F8))=0),"",G8/(N(E8)+N(F8))) | L8: =IF(OR(A8="",$D$2=""),"",IF(TODAY()>$D$2,H8,"")) | O8: =IF(OR($A8="",$B$2=""),"",SUMIFS('연차 사용 기록'!$H$4:$H$1503,'연차 사용 기록'!$C$4:$C$1503,$A8,'연차 사용 기록'!$A$4:$A$1503,">="&DATE(YEAR($B$2),MONTH($B$2)+0,1),'연차 사용 기록'!$A$4:$A$1503,"<"&DATE(YEAR($B$2),MONTH($B$2)+1,1))) | P8: =IF(OR($A8="",$B$2=""),"",SUMIFS('연차 사용 기록'!$H$4:$H$1503,'연차 사용 기록'!$C$4:$C$1503,$A8,'연차 사용 기록'!$A$4:$A$1503,">="&DATE(YEAR($B$2),MONTH($B$2)+1,1),'연차 사용 기록'!$A$4:$A$1503,"<"&DATE(YEAR($B$2),MONTH($B$2)+2,1))) | Q8: =IF(OR($A8="",$B$2=""),"",SUMIFS('연차 사용 기록'!$H$4:$H$1503,'연차 사용 기록'!$C$4:$C$1503,$A8,'연차 사용 기록'!$A$4:$A$1503,">="&DATE(YEAR($B$2),MONTH($B$2)+2,1),'연차 사용 기록'!$A$4:$A$1503,"<"&DATE(YEAR($B$2),MONTH($B$2)+3,1))) | R8: =IF(OR($A8="",$B$2=""),"",SUMIFS('연차 사용 기록'!$H$4:$H$1503,'연차 사용 기록'!$C$4:$C$1503,$A8,'연차 사용 기록'!$A$4:$A$1503,">="&DATE(YEAR($B$2),MONTH($B$2)+3,1),'연차 사용 기록'!$A$4:$A$1503,"<"&DATE(YEAR($B$2),MONTH($B$2)+4,1))) | S8: =IF(OR($A8="",$B$2=""),"",SUMIFS('연차 사용 기록'!$H$4:$H$1503,'연차 사용 기록'!$C$4:$C$1503,$A8,'연차 사용 기록'!$A$4:$A$1503,">="&DATE(YEAR($B$2),MONTH($B$2)+4,1),'연차 사용 기록'!$A$4:$A$1503,"<"&DATE(YEAR($B$2),MONTH($B$2)+5,1))) | T8: =IF(OR($A8="",$B$2=""),"",SUMIFS('연차 사용 기록'!$H$4:$H$1503,'연차 사용 기록'!$C$4:$C$1503,$A8,'연차 사용 기록'!$A$4:$A$1503,">="&DATE(YEAR($B$2),MONTH($B$2)+5,1),'연차 사용 기록'!$A$4:$A$1503,"<"&DATE(YEAR($B$2),MONTH($B$2)+6,1))) | U8: =IF(OR($A8="",$B$2=""),"",SUMIFS('연차 사용 기록'!$H$4:$H$1503,'연차 사용 기록'!$C$4:$C$1503,$A8,'연차 사용 기록'!$A$4:$A$1503,">="&DATE(YEAR($B$2),MONTH($B$2)+6,1),'연차 사용 기록'!$A$4:$A$1503,"<"&DATE(YEAR($B$2),MONTH($B$2)+7,1))) | V8: =IF(OR($A8="",$B$2=""),"",SUMIFS('연차 사용 기록'!$H$4:$H$1503,'연차 사용 기록'!$C$4:$C$1503,$A8,'연차 사용 기록'!$A$4:$A$1503,">="&DATE(YEAR($B$2),MONTH($B$2)+7,1),'연차 사용 기록'!$A$4:$A$1503,"<"&DATE(YEAR($B$2),MONTH($B$2)+8,1))) | W8: =IF(OR($A8="",$B$2=""),"",SUMIFS('연차 사용 기록'!$H$4:$H$1503,'연차 사용 기록'!$C$4:$C$1503,$A8,'연차 사용 기록'!$A$4:$A$1503,">="&DATE(YEAR($B$2),MONTH($B$2)+8,1),'연차 사용 기록'!$A$4:$A$1503,"<"&DATE(YEAR($B$2),MONTH($B$2)+9,1))) | X8: =IF(OR($A8="",$B$2=""),"",SUMIFS('연차 사용 기록'!$H$4:$H$1503,'연차 사용 기록'!$C$4:$C$1503,$A8,'연차 사용 기록'!$A$4:$A$1503,">="&DATE(YEAR($B$2),MONTH($B$2)+9,1),'연차 사용 기록'!$A$4:$A$1503,"<"&DATE(YEAR($B$2),MONTH($B$2)+10,1))) | Y8: =IF(OR($A8="",$B$2=""),"",SUMIFS('연차 사용 기록'!$H$4:$H$1503,'연차 사용 기록'!$C$4:$C$1503,$A8,'연차 사용 기록'!$A$4:$A$1503,">="&DATE(YEAR($B$2),MONTH($B$2)+10,1),'연차 사용 기록'!$A$4:$A$1503,"<"&DATE(YEAR($B$2),MONTH($B$2)+11,1))) | Z8: =IF(OR($A8="",$B$2=""),"",SUMIFS('연차 사용 기록'!$H$4:$H$1503,'연차 사용 기록'!$C$4:$C$1503,$A8,'연차 사용 기록'!$A$4:$A$1503,">="&DATE(YEAR($B$2),MONTH($B$2)+11,1),'연차 사용 기록'!$A$4:$A$1503,"<"&DATE(YEAR($B$2),MONTH($B$2)+12,1)))
G9: =IF(A9="","",SUMIFS('연차 사용 기록'!$H$4:$H$1503,'연차 사용 기록'!$C$4:$C$1503,A9,'연차 사용 기록'!$A$4:$A$1503,">="&IF($B$2="",0,$B$2),'연차 사용 기록'!$A$4:$A$1503,"<="&IF($D$2="",2958465,$D$2))) | H9: =IF(A9="","",(N(E9)+N(F9))-N(G9)) | I9: =IF(OR(A9="",(N(E9)+N(F9))=0),"",G9/(N(E9)+N(F9))) | L9: =IF(OR(A9="",$D$2=""),"",IF(TODAY()>$D$2,H9,"")) | O9: =IF(OR($A9="",$B$2=""),"",SUMIFS('연차 사용 기록'!$H$4:$H$1503,'연차 사용 기록'!$C$4:$C$1503,$A9,'연차 사용 기록'!$A$4:$A$1503,">="&DATE(YEAR($B$2),MONTH($B$2)+0,1),'연차 사용 기록'!$A$4:$A$1503,"<"&DATE(YEAR($B$2),MONTH($B$2)+1,1))) | P9: =IF(OR($A9="",$B$2=""),"",SUMIFS('연차 사용 기록'!$H$4:$H$1503,'연차 사용 기록'!$C$4:$C$1503,$A9,'연차 사용 기록'!$A$4:$A$1503,">="&DATE(YEAR($B$2),MONTH($B$2)+1,1),'연차 사용 기록'!$A$4:$A$1503,"<"&DATE(YEAR($B$2),MONTH($B$2)+2,1))) | Q9: =IF(OR($A9="",$B$2=""),"",SUMIFS('연차 사용 기록'!$H$4:$H$1503,'연차 사용 기록'!$C$4:$C$1503,$A9,'연차 사용 기록'!$A$4:$A$1503,">="&DATE(YEAR($B$2),MONTH($B$2)+2,1),'연차 사용 기록'!$A$4:$A$1503,"<"&DATE(YEAR($B$2),MONTH($B$2)+3,1))) | R9: =IF(OR($A9="",$B$2=""),"",SUMIFS('연차 사용 기록'!$H$4:$H$1503,'연차 사용 기록'!$C$4:$C$1503,$A9,'연차 사용 기록'!$A$4:$A$1503,">="&DATE(YEAR($B$2),MONTH($B$2)+3,1),'연차 사용 기록'!$A$4:$A$1503,"<"&DATE(YEAR($B$2),MONTH($B$2)+4,1))) | S9: =IF(OR($A9="",$B$2=""),"",SUMIFS('연차 사용 기록'!$H$4:$H$1503,'연차 사용 기록'!$C$4:$C$1503,$A9,'연차 사용 기록'!$A$4:$A$1503,">="&DATE(YEAR($B$2),MONTH($B$2)+4,1),'연차 사용 기록'!$A$4:$A$1503,"<"&DATE(YEAR($B$2),MONTH($B$2)+5,1))) | T9: =IF(OR($A9="",$B$2=""),"",SUMIFS('연차 사용 기록'!$H$4:$H$1503,'연차 사용 기록'!$C$4:$C$1503,$A9,'연차 사용 기록'!$A$4:$A$1503,">="&DATE(YEAR($B$2),MONTH($B$2)+5,1),'연차 사용 기록'!$A$4:$A$1503,"<"&DATE(YEAR($B$2),MONTH($B$2)+6,1))) | U9: =IF(OR($A9="",$B$2=""),"",SUMIFS('연차 사용 기록'!$H$4:$H$1503,'연차 사용 기록'!$C$4:$C$1503,$A9,'연차 사용 기록'!$A$4:$A$1503,">="&DATE(YEAR($B$2),MONTH($B$2)+6,1),'연차 사용 기록'!$A$4:$A$1503,"<"&DATE(YEAR($B$2),MONTH($B$2)+7,1))) | V9: =IF(OR($A9="",$B$2=""),"",SUMIFS('연차 사용 기록'!$H$4:$H$1503,'연차 사용 기록'!$C$4:$C$1503,$A9,'연차 사용 기록'!$A$4:$A$1503,">="&DATE(YEAR($B$2),MONTH($B$2)+7,1),'연차 사용 기록'!$A$4:$A$1503,"<"&DATE(YEAR($B$2),MONTH($B$2)+8,1))) | W9: =IF(OR($A9="",$B$2=""),"",SUMIFS('연차 사용 기록'!$H$4:$H$1503,'연차 사용 기록'!$C$4:$C$1503,$A9,'연차 사용 기록'!$A$4:$A$1503,">="&DATE(YEAR($B$2),MONTH($B$2)+8,1),'연차 사용 기록'!$A$4:$A$1503,"<"&DATE(YEAR($B$2),MONTH($B$2)+9,1))) | X9: =IF(OR($A9="",$B$2=""),"",SUMIFS('연차 사용 기록'!$H$4:$H$1503,'연차 사용 기록'!$C$4:$C$1503,$A9,'연차 사용 기록'!$A$4:$A$1503,">="&DATE(YEAR($B$2),MONTH($B$2)+9,1),'연차 사용 기록'!$A$4:$A$1503,"<"&DATE(YEAR($B$2),MONTH($B$2)+10,1))) | Y9: =IF(OR($A9="",$B$2=""),"",SUMIFS('연차 사용 기록'!$H$4:$H$1503,'연차 사용 기록'!$C$4:$C$1503,$A9,'연차 사용 기록'!$A$4:$A$1503,">="&DATE(YEAR($B$2),MONTH($B$2)+10,1),'연차 사용 기록'!$A$4:$A$1503,"<"&DATE(YEAR($B$2),MONTH($B$2)+11,1))) | Z9: =IF(OR($A9="",$B$2=""),"",SUMIFS('연차 사용 기록'!$H$4:$H$1503,'연차 사용 기록'!$C$4:$C$1503,$A9,'연차 사용 기록'!$A$4:$A$1503,">="&DATE(YEAR($B$2),MONTH($B$2)+11,1),'연차 사용 기록'!$A$4:$A$1503,"<"&DATE(YEAR($B$2),MONTH($B$2)+12,1)))
G10: =IF(A10="","",SUMIFS('연차 사용 기록'!$H$4:$H$1503,'연차 사용 기록'!$C$4:$C$1503,A10,'연차 사용 기록'!$A$4:$A$1503,">="&IF($B$2="",0,$B$2),'연차 사용 기록'!$A$4:$A$1503,"<="&IF($D$2="",2958465,$D$2))) | H10: =IF(A10="","",(N(E10)+N(F10))-N(G10)) | I10: =IF(OR(A10="",(N(E10)+N(F10))=0),"",G10/(N(E10)+N(F10))) | L10: =IF(OR(A10="",$D$2=""),"",IF(TODAY()>$D$2,H10,"")) | O10: =IF(OR($A10="",$B$2=""),"",SUMIFS('연차 사용 기록'!$H$4:$H$1503,'연차 사용 기록'!$C$4:$C$1503,$A10,'연차 사용 기록'!$A$4:$A$1503,">="&DATE(YEAR($B$2),MONTH($B$2)+0,1),'연차 사용 기록'!$A$4:$A$1503,"<"&DATE(YEAR($B$2),MONTH($B$2)+1,1))) | P10: =IF(OR($A10="",$B$2=""),"",SUMIFS('연차 사용 기록'!$H$4:$H$1503,'연차 사용 기록'!$C$4:$C$1503,$A10,'연차 사용 기록'!$A$4:$A$1503,">="&DATE(YEAR($B$2),MONTH($B$2)+1,1),'연차 사용 기록'!$A$4:$A$1503,"<"&DATE(YEAR($B$2),MONTH($B$2)+2,1))) | Q10: =IF(OR($A10="",$B$2=""),"",SUMIFS('연차 사용 기록'!$H$4:$H$1503,'연차 사용 기록'!$C$4:$C$1503,$A10,'연차 사용 기록'!$A$4:$A$1503,">="&DATE(YEAR($B$2),MONTH($B$2)+2,1),'연차 사용 기록'!$A$4:$A$1503,"<"&DATE(YEAR($B$2),MONTH($B$2)+3,1))) | R10: =IF(OR($A10="",$B$2=""),"",SUMIFS('연차 사용 기록'!$H$4:$H$1503,'연차 사용 기록'!$C$4:$C$1503,$A10,'연차 사용 기록'!$A$4:$A$1503,">="&DATE(YEAR($B$2),MONTH($B$2)+3,1),'연차 사용 기록'!$A$4:$A$1503,"<"&DATE(YEAR($B$2),MONTH($B$2)+4,1))) | S10: =IF(OR($A10="",$B$2=""),"",SUMIFS('연차 사용 기록'!$H$4:$H$1503,'연차 사용 기록'!$C$4:$C$1503,$A10,'연차 사용 기록'!$A$4:$A$1503,">="&DATE(YEAR($B$2),MONTH($B$2)+4,1),'연차 사용 기록'!$A$4:$A$1503,"<"&DATE(YEAR($B$2),MONTH($B$2)+5,1))) | T10: =IF(OR($A10="",$B$2=""),"",SUMIFS('연차 사용 기록'!$H$4:$H$1503,'연차 사용 기록'!$C$4:$C$1503,$A10,'연차 사용 기록'!$A$4:$A$1503,">="&DATE(YEAR($B$2),MONTH($B$2)+5,1),'연차 사용 기록'!$A$4:$A$1503,"<"&DATE(YEAR($B$2),MONTH($B$2)+6,1))) | U10: =IF(OR($A10="",$B$2=""),"",SUMIFS('연차 사용 기록'!$H$4:$H$1503,'연차 사용 기록'!$C$4:$C$1503,$A10,'연차 사용 기록'!$A$4:$A$1503,">="&DATE(YEAR($B$2),MONTH($B$2)+6,1),'연차 사용 기록'!$A$4:$A$1503,"<"&DATE(YEAR($B$2),MONTH($B$2)+7,1))) | V10: =IF(OR($A10="",$B$2=""),"",SUMIFS('연차 사용 기록'!$H$4:$H$1503,'연차 사용 기록'!$C$4:$C$1503,$A10,'연차 사용 기록'!$A$4:$A$1503,">="&DATE(YEAR($B$2),MONTH($B$2)+7,1),'연차 사용 기록'!$A$4:$A$1503,"<"&DATE(YEAR($B$2),MONTH($B$2)+8,1))) | W10: =IF(OR($A10="",$B$2=""),"",SUMIFS('연차 사용 기록'!$H$4:$H$1503,'연차 사용 기록'!$C$4:$C$1503,$A10,'연차 사용 기록'!$A$4:$A$1503,">="&DATE(YEAR($B$2),MONTH($B$2)+8,1),'연차 사용 기록'!$A$4:$A$1503,"<"&DATE(YEAR($B$2),MONTH($B$2)+9,1))) | X10: =IF(OR($A10="",$B$2=""),"",SUMIFS('연차 사용 기록'!$H$4:$H$1503,'연차 사용 기록'!$C$4:$C$1503,$A10,'연차 사용 기록'!$A$4:$A$1503,">="&DATE(YEAR($B$2),MONTH($B$2)+9,1),'연차 사용 기록'!$A$4:$A$1503,"<"&DATE(YEAR($B$2),MONTH($B$2)+10,1))) | Y10: =IF(OR($A10="",$B$2=""),"",SUMIFS('연차 사용 기록'!$H$4:$H$1503,'연차 사용 기록'!$C$4:$C$1503,$A10,'연차 사용 기록'!$A$4:$A$1503,">="&DATE(YEAR($B$2),MONTH($B$2)+10,1),'연차 사용 기록'!$A$4:$A$1503,"<"&DATE(YEAR($B$2),MONTH($B$2)+11,1))) | Z10: =IF(OR($A10="",$B$2=""),"",SUMIFS('연차 사용 기록'!$H$4:$H$1503,'연차 사용 기록'!$C$4:$C$1503,$A10,'연차 사용 기록'!$A$4:$A$1503,">="&DATE(YEAR($B$2),MONTH($B$2)+11,1),'연차 사용 기록'!$A$4:$A$1503,"<"&DATE(YEAR($B$2),MONTH($B$2)+12,1)))
G11: =IF(A11="","",SUMIFS('연차 사용 기록'!$H$4:$H$1503,'연차 사용 기록'!$C$4:$C$1503,A11,'연차 사용 기록'!$A$4:$A$1503,">="&IF($B$2="",0,$B$2),'연차 사용 기록'!$A$4:$A$1503,"<="&IF($D$2="",2958465,$D$2))) | H11: =IF(A11="","",(N(E11)+N(F11))-N(G11)) | I11: =IF(OR(A11="",(N(E11)+N(F11))=0),"",G11/(N(E11)+N(F11))) | L11: =IF(OR(A11="",$D$2=""),"",IF(TODAY()>$D$2,H11,"")) | O11: =IF(OR($A11="",$B$2=""),"",SUMIFS('연차 사용 기록'!$H$4:$H$1503,'연차 사용 기록'!$C$4:$C$1503,$A11,'연차 사용 기록'!$A$4:$A$1503,">="&DATE(YEAR($B$2),MONTH($B$2)+0,1),'연차 사용 기록'!$A$4:$A$1503,"<"&DATE(YEAR($B$2),MONTH($B$2)+1,1))) | P11: =IF(OR($A11="",$B$2=""),"",SUMIFS('연차 사용 기록'!$H$4:$H$1503,'연차 사용 기록'!$C$4:$C$1503,$A11,'연차 사용 기록'!$A$4:$A$1503,">="&DATE(YEAR($B$2),MONTH($B$2)+1,1),'연차 사용 기록'!$A$4:$A$1503,"<"&DATE(YEAR($B$2),MONTH($B$2)+2,1))) | Q11: =IF(OR($A11="",$B$2=""),"",SUMIFS('연차 사용 기록'!$H$4:$H$1503,'연차 사용 기록'!$C$4:$C$1503,$A11,'연차 사용 기록'!$A$4:$A$1503,">="&DATE(YEAR($B$2),MONTH($B$2)+2,1),'연차 사용 기록'!$A$4:$A$1503,"<"&DATE(YEAR($B$2),MONTH($B$2)+3,1))) | R11: =IF(OR($A11="",$B$2=""),"",SUMIFS('연차 사용 기록'!$H$4:$H$1503,'연차 사용 기록'!$C$4:$C$1503,$A11,'연차 사용 기록'!$A$4:$A$1503,">="&DATE(YEAR($B$2),MONTH($B$2)+3,1),'연차 사용 기록'!$A$4:$A$1503,"<"&DATE(YEAR($B$2),MONTH($B$2)+4,1))) | S11: =IF(OR($A11="",$B$2=""),"",SUMIFS('연차 사용 기록'!$H$4:$H$1503,'연차 사용 기록'!$C$4:$C$1503,$A11,'연차 사용 기록'!$A$4:$A$1503,">="&DATE(YEAR($B$2),MONTH($B$2)+4,1),'연차 사용 기록'!$A$4:$A$1503,"<"&DATE(YEAR($B$2),MONTH($B$2)+5,1))) | T11: =IF(OR($A11="",$B$2=""),"",SUMIFS('연차 사용 기록'!$H$4:$H$1503,'연차 사용 기록'!$C$4:$C$1503,$A11,'연차 사용 기록'!$A$4:$A$1503,">="&DATE(YEAR($B$2),MONTH($B$2)+5,1),'연차 사용 기록'!$A$4:$A$1503,"<"&DATE(YEAR($B$2),MONTH($B$2)+6,1))) | U11: =IF(OR($A11="",$B$2=""),"",SUMIFS('연차 사용 기록'!$H$4:$H$1503,'연차 사용 기록'!$C$4:$C$1503,$A11,'연차 사용 기록'!$A$4:$A$1503,">="&DATE(YEAR($B$2),MONTH($B$2)+6,1),'연차 사용 기록'!$A$4:$A$1503,"<"&DATE(YEAR($B$2),MONTH($B$2)+7,1))) | V11: =IF(OR($A11="",$B$2=""),"",SUMIFS('연차 사용 기록'!$H$4:$H$1503,'연차 사용 기록'!$C$4:$C$1503,$A11,'연차 사용 기록'!$A$4:$A$1503,">="&DATE(YEAR($B$2),MONTH($B$2)+7,1),'연차 사용 기록'!$A$4:$A$1503,"<"&DATE(YEAR($B$2),MONTH($B$2)+8,1))) | W11: =IF(OR($A11="",$B$2=""),"",SUMIFS('연차 사용 기록'!$H$4:$H$1503,'연차 사용 기록'!$C$4:$C$1503,$A11,'연차 사용 기록'!$A$4:$A$1503,">="&DATE(YEAR($B$2),MONTH($B$2)+8,1),'연차 사용 기록'!$A$4:$A$1503,"<"&DATE(YEAR($B$2),MONTH($B$2)+9,1))) | X11: =IF(OR($A11="",$B$2=""),"",SUMIFS('연차 사용 기록'!$H$4:$H$1503,'연차 사용 기록'!$C$4:$C$1503,$A11,'연차 사용 기록'!$A$4:$A$1503,">="&DATE(YEAR($B$2),MONTH($B$2)+9,1),'연차 사용 기록'!$A$4:$A$1503,"<"&DATE(YEAR($B$2),MONTH($B$2)+10,1))) | Y11: =IF(OR($A11="",$B$2=""),"",SUMIFS('연차 사용 기록'!$H$4:$H$1503,'연차 사용 기록'!$C$4:$C$1503,$A11,'연차 사용 기록'!$A$4:$A$1503,">="&DATE(YEAR($B$2),MONTH($B$2)+10,1),'연차 사용 기록'!$A$4:$A$1503,"<"&DATE(YEAR($B$2),MONTH($B$2)+11,1))) | Z11: =IF(OR($A11="",$B$2=""),"",SUMIFS('연차 사용 기록'!$H$4:$H$1503,'연차 사용 기록'!$C$4:$C$1503,$A11,'연차 사용 기록'!$A$4:$A$1503,">="&DATE(YEAR($B$2),MONTH($B$2)+11,1),'연차 사용 기록'!$A$4:$A$1503,"<"&DATE(YEAR($B$2),MONTH($B$2)+12,1)))
G12: =IF(A12="","",SUMIFS('연차 사용 기록'!$H$4:$H$1503,'연차 사용 기록'!$C$4:$C$1503,A12,'연차 사용 기록'!$A$4:$A$1503,">="&IF($B$2="",0,$B$2),'연차 사용 기록'!$A$4:$A$1503,"<="&IF($D$2="",2958465,$D$2))) | H12: =IF(A12="","",(N(E12)+N(F12))-N(G12)) | I12: =IF(OR(A12="",(N(E12)+N(F12))=0),"",G12/(N(E12)+N(F12))) | L12: =IF(OR(A12="",$D$2=""),"",IF(TODAY()>$D$2,H12,"")) | O12: =IF(OR($A12="",$B$2=""),"",SUMIFS('연차 사용 기록'!$H$4:$H$1503,'연차 사용 기록'!$C$4:$C$1503,$A12,'연차 사용 기록'!$A$4:$A$1503,">="&DATE(YEAR($B$2),MONTH($B$2)+0,1),'연차 사용 기록'!$A$4:$A$1503,"<"&DATE(YEAR($B$2),MONTH($B$2)+1,1))) | P12: =IF(OR($A12="",$B$2=""),"",SUMIFS('연차 사용 기록'!$H$4:$H$1503,'연차 사용 기록'!$C$4:$C$1503,$A12,'연차 사용 기록'!$A$4:$A$1503,">="&DATE(YEAR($B$2),MONTH($B$2)+1,1),'연차 사용 기록'!$A$4:$A$1503,"<"&DATE(YEAR($B$2),MONTH($B$2)+2,1))) | Q12: =IF(OR($A12="",$B$2=""),"",SUMIFS('연차 사용 기록'!$H$4:$H$1503,'연차 사용 기록'!$C$4:$C$1503,$A12,'연차 사용 기록'!$A$4:$A$1503,">="&DATE(YEAR($B$2),MONTH($B$2)+2,1),'연차 사용 기록'!$A$4:$A$1503,"<"&DATE(YEAR($B$2),MONTH($B$2)+3,1))) | R12: =IF(OR($A12="",$B$2=""),"",SUMIFS('연차 사용 기록'!$H$4:$H$1503,'연차 사용 기록'!$C$4:$C$1503,$A12,'연차 사용 기록'!$A$4:$A$1503,">="&DATE(YEAR($B$2),MONTH($B$2)+3,1),'연차 사용 기록'!$A$4:$A$1503,"<"&DATE(YEAR($B$2),MONTH($B$2)+4,1))) | S12: =IF(OR($A12="",$B$2=""),"",SUMIFS('연차 사용 기록'!$H$4:$H$1503,'연차 사용 기록'!$C$4:$C$1503,$A12,'연차 사용 기록'!$A$4:$A$1503,">="&DATE(YEAR($B$2),MONTH($B$2)+4,1),'연차 사용 기록'!$A$4:$A$1503,"<"&DATE(YEAR($B$2),MONTH($B$2)+5,1))) | T12: =IF(OR($A12="",$B$2=""),"",SUMIFS('연차 사용 기록'!$H$4:$H$1503,'연차 사용 기록'!$C$4:$C$1503,$A12,'연차 사용 기록'!$A$4:$A$1503,">="&DATE(YEAR($B$2),MONTH($B$2)+5,1),'연차 사용 기록'!$A$4:$A$1503,"<"&DATE(YEAR($B$2),MONTH($B$2)+6,1))) | U12: =IF(OR($A12="",$B$2=""),"",SUMIFS('연차 사용 기록'!$H$4:$H$1503,'연차 사용 기록'!$C$4:$C$1503,$A12,'연차 사용 기록'!$A$4:$A$1503,">="&DATE(YEAR($B$2),MONTH($B$2)+6,1),'연차 사용 기록'!$A$4:$A$1503,"<"&DATE(YEAR($B$2),MONTH($B$2)+7,1))) | V12: =IF(OR($A12="",$B$2=""),"",SUMIFS('연차 사용 기록'!$H$4:$H$1503,'연차 사용 기록'!$C$4:$C$1503,$A12,'연차 사용 기록'!$A$4:$A$1503,">="&DATE(YEAR($B$2),MONTH($B$2)+7,1),'연차 사용 기록'!$A$4:$A$1503,"<"&DATE(YEAR($B$2),MONTH($B$2)+8,1))) | W12: =IF(OR($A12="",$B$2=""),"",SUMIFS('연차 사용 기록'!$H$4:$H$1503,'연차 사용 기록'!$C$4:$C$1503,$A12,'연차 사용 기록'!$A$4:$A$1503,">="&DATE(YEAR($B$2),MONTH($B$2)+8,1),'연차 사용 기록'!$A$4:$A$1503,"<"&DATE(YEAR($B$2),MONTH($B$2)+9,1))) | X12: =IF(OR($A12="",$B$2=""),"",SUMIFS('연차 사용 기록'!$H$4:$H$1503,'연차 사용 기록'!$C$4:$C$1503,$A12,'연차 사용 기록'!$A$4:$A$1503,">="&DATE(YEAR($B$2),MONTH($B$2)+9,1),'연차 사용 기록'!$A$4:$A$1503,"<"&DATE(YEAR($B$2),MONTH($B$2)+10,1))) | Y12: =IF(OR($A12="",$B$2=""),"",SUMIFS('연차 사용 기록'!$H$4:$H$1503,'연차 사용 기록'!$C$4:$C$1503,$A12,'연차 사용 기록'!$A$4:$A$1503,">="&DATE(YEAR($B$2),MONTH($B$2)+10,1),'연차 사용 기록'!$A$4:$A$1503,"<"&DATE(YEAR($B$2),MONTH($B$2)+11,1))) | Z12: =IF(OR($A12="",$B$2=""),"",SUMIFS('연차 사용 기록'!$H$4:$H$1503,'연차 사용 기록'!$C$4:$C$1503,$A12,'연차 사용 기록'!$A$4:$A$1503,">="&DATE(YEAR($B$2),MONTH($B$2)+11,1),'연차 사용 기록'!$A$4:$A$1503,"<"&DATE(YEAR($B$2),MONTH($B$2)+12,1)))
G13: =IF(A13="","",SUMIFS('연차 사용 기록'!$H$4:$H$1503,'연차 사용 기록'!$C$4:$C$1503,A13,'연차 사용 기록'!$A$4:$A$1503,">="&IF($B$2="",0,$B$2),'연차 사용 기록'!$A$4:$A$1503,"<="&IF($D$2="",2958465,$D$2))) | H13: =IF(A13="","",(N(E13)+N(F13))-N(G13)) | I13: =IF(OR(A13="",(N(E13)+N(F13))=0),"",G13/(N(E13)+N(F13))) | L13: =IF(OR(A13="",$D$2=""),"",IF(TODAY()>$D$2,H13,"")) | O13: =IF(OR($A13="",$B$2=""),"",SUMIFS('연차 사용 기록'!$H$4:$H$1503,'연차 사용 기록'!$C$4:$C$1503,$A13,'연차 사용 기록'!$A$4:$A$1503,">="&DATE(YEAR($B$2),MONTH($B$2)+0,1),'연차 사용 기록'!$A$4:$A$1503,"<"&DATE(YEAR($B$2),MONTH($B$2)+1,1))) | P13: =IF(OR($A13="",$B$2=""),"",SUMIFS('연차 사용 기록'!$H$4:$H$1503,'연차 사용 기록'!$C$4:$C$1503,$A13,'연차 사용 기록'!$A$4:$A$1503,">="&DATE(YEAR($B$2),MONTH($B$2)+1,1),'연차 사용 기록'!$A$4:$A$1503,"<"&DATE(YEAR($B$2),MONTH($B$2)+2,1))) | Q13: =IF(OR($A13="",$B$2=""),"",SUMIFS('연차 사용 기록'!$H$4:$H$1503,'연차 사용 기록'!$C$4:$C$1503,$A13,'연차 사용 기록'!$A$4:$A$1503,">="&DATE(YEAR($B$2),MONTH($B$2)+2,1),'연차 사용 기록'!$A$4:$A$1503,"<"&DATE(YEAR($B$2),MONTH($B$2)+3,1))) | R13: =IF(OR($A13="",$B$2=""),"",SUMIFS('연차 사용 기록'!$H$4:$H$1503,'연차 사용 기록'!$C$4:$C$1503,$A13,'연차 사용 기록'!$A$4:$A$1503,">="&DATE(YEAR($B$2),MONTH($B$2)+3,1),'연차 사용 기록'!$A$4:$A$1503,"<"&DATE(YEAR($B$2),MONTH($B$2)+4,1))) | S13: =IF(OR($A13="",$B$2=""),"",SUMIFS('연차 사용 기록'!$H$4:$H$1503,'연차 사용 기록'!$C$4:$C$1503,$A13,'연차 사용 기록'!$A$4:$A$1503,">="&DATE(YEAR($B$2),MONTH($B$2)+4,1),'연차 사용 기록'!$A$4:$A$1503,"<"&DATE(YEAR($B$2),MONTH($B$2)+5,1))) | T13: =IF(OR($A13="",$B$2=""),"",SUMIFS('연차 사용 기록'!$H$4:$H$1503,'연차 사용 기록'!$C$4:$C$1503,$A13,'연차 사용 기록'!$A$4:$A$1503,">="&DATE(YEAR($B$2),MONTH($B$2)+5,1),'연차 사용 기록'!$A$4:$A$1503,"<"&DATE(YEAR($B$2),MONTH($B$2)+6,1))) | U13: =IF(OR($A13="",$B$2=""),"",SUMIFS('연차 사용 기록'!$H$4:$H$1503,'연차 사용 기록'!$C$4:$C$1503,$A13,'연차 사용 기록'!$A$4:$A$1503,">="&DATE(YEAR($B$2),MONTH($B$2)+6,1),'연차 사용 기록'!$A$4:$A$1503,"<"&DATE(YEAR($B$2),MONTH($B$2)+7,1))) | V13: =IF(OR($A13="",$B$2=""),"",SUMIFS('연차 사용 기록'!$H$4:$H$1503,'연차 사용 기록'!$C$4:$C$1503,$A13,'연차 사용 기록'!$A$4:$A$1503,">="&DATE(YEAR($B$2),MONTH($B$2)+7,1),'연차 사용 기록'!$A$4:$A$1503,"<"&DATE(YEAR($B$2),MONTH($B$2)+8,1))) | W13: =IF(OR($A13="",$B$2=""),"",SUMIFS('연차 사용 기록'!$H$4:$H$1503,'연차 사용 기록'!$C$4:$C$1503,$A13,'연차 사용 기록'!$A$4:$A$1503,">="&DATE(YEAR($B$2),MONTH($B$2)+8,1),'연차 사용 기록'!$A$4:$A$1503,"<"&DATE(YEAR($B$2),MONTH($B$2)+9,1))) | X13: =IF(OR($A13="",$B$2=""),"",SUMIFS('연차 사용 기록'!$H$4:$H$1503,'연차 사용 기록'!$C$4:$C$1503,$A13,'연차 사용 기록'!$A$4:$A$1503,">="&DATE(YEAR($B$2),MONTH($B$2)+9,1),'연차 사용 기록'!$A$4:$A$1503,"<"&DATE(YEAR($B$2),MONTH($B$2)+10,1))) | Y13: =IF(OR($A13="",$B$2=""),"",SUMIFS('연차 사용 기록'!$H$4:$H$1503,'연차 사용 기록'!$C$4:$C$1503,$A13,'연차 사용 기록'!$A$4:$A$1503,">="&DATE(YEAR($B$2),MONTH($B$2)+10,1),'연차 사용 기록'!$A$4:$A$1503,"<"&DATE(YEAR($B$2),MONTH($B$2)+11,1))) | Z13: =IF(OR($A13="",$B$2=""),"",SUMIFS('연차 사용 기록'!$H$4:$H$1503,'연차 사용 기록'!$C$4:$C$1503,$A13,'연차 사용 기록'!$A$4:$A$1503,">="&DATE(YEAR($B$2),MONTH($B$2)+11,1),'연차 사용 기록'!$A$4:$A$1503,"<"&DATE(YEAR($B$2),MONTH($B$2)+12,1)))
G14: =IF(A14="","",SUMIFS('연차 사용 기록'!$H$4:$H$1503,'연차 사용 기록'!$C$4:$C$1503,A14,'연차 사용 기록'!$A$4:$A$1503,">="&IF($B$2="",0,$B$2),'연차 사용 기록'!$A$4:$A$1503,"<="&IF($D$2="",2958465,$D$2))) | H14: =IF(A14="","",(N(E14)+N(F14))-N(G14)) | I14: =IF(OR(A14="",(N(E14)+N(F14))=0),"",G14/(N(E14)+N(F14))) | L14: =IF(OR(A14="",$D$2=""),"",IF(TODAY()>$D$2,H14,"")) | O14: =IF(OR($A14="",$B$2=""),"",SUMIFS('연차 사용 기록'!$H$4:$H$1503,'연차 사용 기록'!$C$4:$C$1503,$A14,'연차 사용 기록'!$A$4:$A$1503,">="&DATE(YEAR($B$2),MONTH($B$2)+0,1),'연차 사용 기록'!$A$4:$A$1503,"<"&DATE(YEAR($B$2),MONTH($B$2)+1,1))) | P14: =IF(OR($A14="",$B$2=""),"",SUMIFS('연차 사용 기록'!$H$4:$H$1503,'연차 사용 기록'!$C$4:$C$1503,$A14,'연차 사용 기록'!$A$4:$A$1503,">="&DATE(YEAR($B$2),MONTH($B$2)+1,1),'연차 사용 기록'!$A$4:$A$1503,"<"&DATE(YEAR($B$2),MONTH($B$2)+2,1))) | Q14: =IF(OR($A14="",$B$2=""),"",SUMIFS('연차 사용 기록'!$H$4:$H$1503,'연차 사용 기록'!$C$4:$C$1503,$A14,'연차 사용 기록'!$A$4:$A$1503,">="&DATE(YEAR($B$2),MONTH($B$2)+2,1),'연차 사용 기록'!$A$4:$A$1503,"<"&DATE(YEAR($B$2),MONTH($B$2)+3,1))) | R14: =IF(OR($A14="",$B$2=""),"",SUMIFS('연차 사용 기록'!$H$4:$H$1503,'연차 사용 기록'!$C$4:$C$1503,$A14,'연차 사용 기록'!$A$4:$A$1503,">="&DATE(YEAR($B$2),MONTH($B$2)+3,1),'연차 사용 기록'!$A$4:$A$1503,"<"&DATE(YEAR($B$2),MONTH($B$2)+4,1))) | S14: =IF(OR($A14="",$B$2=""),"",SUMIFS('연차 사용 기록'!$H$4:$H$1503,'연차 사용 기록'!$C$4:$C$1503,$A14,'연차 사용 기록'!$A$4:$A$1503,">="&DATE(YEAR($B$2),MONTH($B$2)+4,1),'연차 사용 기록'!$A$4:$A$1503,"<"&DATE(YEAR($B$2),MONTH($B$2)+5,1))) | T14: =IF(OR($A14="",$B$2=""),"",SUMIFS('연차 사용 기록'!$H$4:$H$1503,'연차 사용 기록'!$C$4:$C$1503,$A14,'연차 사용 기록'!$A$4:$A$1503,">="&DATE(YEAR($B$2),MONTH($B$2)+5,1),'연차 사용 기록'!$A$4:$A$1503,"<"&DATE(YEAR($B$2),MONTH($B$2)+6,1))) | U14: =IF(OR($A14="",$B$2=""),"",SUMIFS('연차 사용 기록'!$H$4:$H$1503,'연차 사용 기록'!$C$4:$C$1503,$A14,'연차 사용 기록'!$A$4:$A$1503,">="&DATE(YEAR($B$2),MONTH($B$2)+6,1),'연차 사용 기록'!$A$4:$A$1503,"<"&DATE(YEAR($B$2),MONTH($B$2)+7,1))) | V14: =IF(OR($A14="",$B$2=""),"",SUMIFS('연차 사용 기록'!$H$4:$H$1503,'연차 사용 기록'!$C$4:$C$1503,$A14,'연차 사용 기록'!$A$4:$A$1503,">="&DATE(YEAR($B$2),MONTH($B$2)+7,1),'연차 사용 기록'!$A$4:$A$1503,"<"&DATE(YEAR($B$2),MONTH($B$2)+8,1))) | W14: =IF(OR($A14="",$B$2=""),"",SUMIFS('연차 사용 기록'!$H$4:$H$1503,'연차 사용 기록'!$C$4:$C$1503,$A14,'연차 사용 기록'!$A$4:$A$1503,">="&DATE(YEAR($B$2),MONTH($B$2)+8,1),'연차 사용 기록'!$A$4:$A$1503,"<"&DATE(YEAR($B$2),MONTH($B$2)+9,1))) | X14: =IF(OR($A14="",$B$2=""),"",SUMIFS('연차 사용 기록'!$H$4:$H$1503,'연차 사용 기록'!$C$4:$C$1503,$A14,'연차 사용 기록'!$A$4:$A$1503,">="&DATE(YEAR($B$2),MONTH($B$2)+9,1),'연차 사용 기록'!$A$4:$A$1503,"<"&DATE(YEAR($B$2),MONTH($B$2)+10,1))) | Y14: =IF(OR($A14="",$B$2=""),"",SUMIFS('연차 사용 기록'!$H$4:$H$1503,'연차 사용 기록'!$C$4:$C$1503,$A14,'연차 사용 기록'!$A$4:$A$1503,">="&DATE(YEAR($B$2),MONTH($B$2)+10,1),'연차 사용 기록'!$A$4:$A$1503,"<"&DATE(YEAR($B$2),MONTH($B$2)+11,1))) | Z14: =IF(OR($A14="",$B$2=""),"",SUMIFS('연차 사용 기록'!$H$4:$H$1503,'연차 사용 기록'!$C$4:$C$1503,$A14,'연차 사용 기록'!$A$4:$A$1503,">="&DATE(YEAR($B$2),MONTH($B$2)+11,1),'연차 사용 기록'!$A$4:$A$1503,"<"&DATE(YEAR($B$2),MONTH($B$2)+12,1)))
G15: =IF(A15="","",SUMIFS('연차 사용 기록'!$H$4:$H$1503,'연차 사용 기록'!$C$4:$C$1503,A15,'연차 사용 기록'!$A$4:$A$1503,">="&IF($B$2="",0,$B$2),'연차 사용 기록'!$A$4:$A$1503,"<="&IF($D$2="",2958465,$D$2))) | H15: =IF(A15="","",(N(E15)+N(F15))-N(G15)) | I15: =IF(OR(A15="",(N(E15)+N(F15))=0),"",G15/(N(E15)+N(F15))) | L15: =IF(OR(A15="",$D$2=""),"",IF(TODAY()>$D$2,H15,"")) | O15: =IF(OR($A15="",$B$2=""),"",SUMIFS('연차 사용 기록'!$H$4:$H$1503,'연차 사용 기록'!$C$4:$C$1503,$A15,'연차 사용 기록'!$A$4:$A$1503,">="&DATE(YEAR($B$2),MONTH($B$2)+0,1),'연차 사용 기록'!$A$4:$A$1503,"<"&DATE(YEAR($B$2),MONTH($B$2)+1,1))) | P15: =IF(OR($A15="",$B$2=""),"",SUMIFS('연차 사용 기록'!$H$4:$H$1503,'연차 사용 기록'!$C$4:$C$1503,$A15,'연차 사용 기록'!$A$4:$A$1503,">="&DATE(YEAR($B$2),MONTH($B$2)+1,1),'연차 사용 기록'!$A$4:$A$1503,"<"&DATE(YEAR($B$2),MONTH($B$2)+2,1))) | Q15: =IF(OR($A15="",$B$2=""),"",SUMIFS('연차 사용 기록'!$H$4:$H$1503,'연차 사용 기록'!$C$4:$C$1503,$A15,'연차 사용 기록'!$A$4:$A$1503,">="&DATE(YEAR($B$2),MONTH($B$2)+2,1),'연차 사용 기록'!$A$4:$A$1503,"<"&DATE(YEAR($B$2),MONTH($B$2)+3,1))) | R15: =IF(OR($A15="",$B$2=""),"",SUMIFS('연차 사용 기록'!$H$4:$H$1503,'연차 사용 기록'!$C$4:$C$1503,$A15,'연차 사용 기록'!$A$4:$A$1503,">="&DATE(YEAR($B$2),MONTH($B$2)+3,1),'연차 사용 기록'!$A$4:$A$1503,"<"&DATE(YEAR($B$2),MONTH($B$2)+4,1))) | S15: =IF(OR($A15="",$B$2=""),"",SUMIFS('연차 사용 기록'!$H$4:$H$1503,'연차 사용 기록'!$C$4:$C$1503,$A15,'연차 사용 기록'!$A$4:$A$1503,">="&DATE(YEAR($B$2),MONTH($B$2)+4,1),'연차 사용 기록'!$A$4:$A$1503,"<"&DATE(YEAR($B$2),MONTH($B$2)+5,1))) | T15: =IF(OR($A15="",$B$2=""),"",SUMIFS('연차 사용 기록'!$H$4:$H$1503,'연차 사용 기록'!$C$4:$C$1503,$A15,'연차 사용 기록'!$A$4:$A$1503,">="&DATE(YEAR($B$2),MONTH($B$2)+5,1),'연차 사용 기록'!$A$4:$A$1503,"<"&DATE(YEAR($B$2),MONTH($B$2)+6,1))) | U15: =IF(OR($A15="",$B$2=""),"",SUMIFS('연차 사용 기록'!$H$4:$H$1503,'연차 사용 기록'!$C$4:$C$1503,$A15,'연차 사용 기록'!$A$4:$A$1503,">="&DATE(YEAR($B$2),MONTH($B$2)+6,1),'연차 사용 기록'!$A$4:$A$1503,"<"&DATE(YEAR($B$2),MONTH($B$2)+7,1))) | V15: =IF(OR($A15="",$B$2=""),"",SUMIFS('연차 사용 기록'!$H$4:$H$1503,'연차 사용 기록'!$C$4:$C$1503,$A15,'연차 사용 기록'!$A$4:$A$1503,">="&DATE(YEAR($B$2),MONTH($B$2)+7,1),'연차 사용 기록'!$A$4:$A$1503,"<"&DATE(YEAR($B$2),MONTH($B$2)+8,1))) | W15: =IF(OR($A15="",$B$2=""),"",SUMIFS('연차 사용 기록'!$H$4:$H$1503,'연차 사용 기록'!$C$4:$C$1503,$A15,'연차 사용 기록'!$A$4:$A$1503,">="&DATE(YEAR($B$2),MONTH($B$2)+8,1),'연차 사용 기록'!$A$4:$A$1503,"<"&DATE(YEAR($B$2),MONTH($B$2)+9,1))) | X15: =IF(OR($A15="",$B$2=""),"",SUMIFS('연차 사용 기록'!$H$4:$H$1503,'연차 사용 기록'!$C$4:$C$1503,$A15,'연차 사용 기록'!$A$4:$A$1503,">="&DATE(YEAR($B$2),MONTH($B$2)+9,1),'연차 사용 기록'!$A$4:$A$1503,"<"&DATE(YEAR($B$2),MONTH($B$2)+10,1))) | Y15: =IF(OR($A15="",$B$2=""),"",SUMIFS('연차 사용 기록'!$H$4:$H$1503,'연차 사용 기록'!$C$4:$C$1503,$A15,'연차 사용 기록'!$A$4:$A$1503,">="&DATE(YEAR($B$2),MONTH($B$2)+10,1),'연차 사용 기록'!$A$4:$A$1503,"<"&DATE(YEAR($B$2),MONTH($B$2)+11,1))) | Z15: =IF(OR($A15="",$B$2=""),"",SUMIFS('연차 사용 기록'!$H$4:$H$1503,'연차 사용 기록'!$C$4:$C$1503,$A15,'연차 사용 기록'!$A$4:$A$1503,">="&DATE(YEAR($B$2),MONTH($B$2)+11,1),'연차 사용 기록'!$A$4:$A$1503,"<"&DATE(YEAR($B$2),MONTH($B$2)+12,1)))
G16: =IF(A16="","",SUMIFS('연차 사용 기록'!$H$4:$H$1503,'연차 사용 기록'!$C$4:$C$1503,A16,'연차 사용 기록'!$A$4:$A$1503,">="&IF($B$2="",0,$B$2),'연차 사용 기록'!$A$4:$A$1503,"<="&IF($D$2="",2958465,$D$2))) | H16: =IF(A16="","",(N(E16)+N(F16))-N(G16)) | I16: =IF(OR(A16="",(N(E16)+N(F16))=0),"",G16/(N(E16)+N(F16))) | L16: =IF(OR(A16="",$D$2=""),"",IF(TODAY()>$D$2,H16,"")) | O16: =IF(OR($A16="",$B$2=""),"",SUMIFS('연차 사용 기록'!$H$4:$H$1503,'연차 사용 기록'!$C$4:$C$1503,$A16,'연차 사용 기록'!$A$4:$A$1503,">="&DATE(YEAR($B$2),MONTH($B$2)+0,1),'연차 사용 기록'!$A$4:$A$1503,"<"&DATE(YEAR($B$2),MONTH($B$2)+1,1))) | P16: =IF(OR($A16="",$B$2=""),"",SUMIFS('연차 사용 기록'!$H$4:$H$1503,'연차 사용 기록'!$C$4:$C$1503,$A16,'연차 사용 기록'!$A$4:$A$1503,">="&DATE(YEAR($B$2),MONTH($B$2)+1,1),'연차 사용 기록'!$A$4:$A$1503,"<"&DATE(YEAR($B$2),MONTH($B$2)+2,1))) | Q16: =IF(OR($A16="",$B$2=""),"",SUMIFS('연차 사용 기록'!$H$4:$H$1503,'연차 사용 기록'!$C$4:$C$1503,$A16,'연차 사용 기록'!$A$4:$A$1503,">="&DATE(YEAR($B$2),MONTH($B$2)+2,1),'연차 사용 기록'!$A$4:$A$1503,"<"&DATE(YEAR($B$2),MONTH($B$2)+3,1))) | R16: =IF(OR($A16="",$B$2=""),"",SUMIFS('연차 사용 기록'!$H$4:$H$1503,'연차 사용 기록'!$C$4:$C$1503,$A16,'연차 사용 기록'!$A$4:$A$1503,">="&DATE(YEAR($B$2),MONTH($B$2)+3,1),'연차 사용 기록'!$A$4:$A$1503,"<"&DATE(YEAR($B$2),MONTH($B$2)+4,1))) | S16: =IF(OR($A16="",$B$2=""),"",SUMIFS('연차 사용 기록'!$H$4:$H$1503,'연차 사용 기록'!$C$4:$C$1503,$A16,'연차 사용 기록'!$A$4:$A$1503,">="&DATE(YEAR($B$2),MONTH($B$2)+4,1),'연차 사용 기록'!$A$4:$A$1503,"<"&DATE(YEAR($B$2),MONTH($B$2)+5,1))) | T16: =IF(OR($A16="",$B$2=""),"",SUMIFS('연차 사용 기록'!$H$4:$H$1503,'연차 사용 기록'!$C$4:$C$1503,$A16,'연차 사용 기록'!$A$4:$A$1503,">="&DATE(YEAR($B$2),MONTH($B$2)+5,1),'연차 사용 기록'!$A$4:$A$1503,"<"&DATE(YEAR($B$2),MONTH($B$2)+6,1))) | U16: =IF(OR($A16="",$B$2=""),"",SUMIFS('연차 사용 기록'!$H$4:$H$1503,'연차 사용 기록'!$C$4:$C$1503,$A16,'연차 사용 기록'!$A$4:$A$1503,">="&DATE(YEAR($B$2),MONTH($B$2)+6,1),'연차 사용 기록'!$A$4:$A$1503,"<"&DATE(YEAR($B$2),MONTH($B$2)+7,1))) | V16: =IF(OR($A16="",$B$2=""),"",SUMIFS('연차 사용 기록'!$H$4:$H$1503,'연차 사용 기록'!$C$4:$C$1503,$A16,'연차 사용 기록'!$A$4:$A$1503,">="&DATE(YEAR($B$2),MONTH($B$2)+7,1),'연차 사용 기록'!$A$4:$A$1503,"<"&DATE(YEAR($B$2),MONTH($B$2)+8,1))) | W16: =IF(OR($A16="",$B$2=""),"",SUMIFS('연차 사용 기록'!$H$4:$H$1503,'연차 사용 기록'!$C$4:$C$1503,$A16,'연차 사용 기록'!$A$4:$A$1503,">="&DATE(YEAR($B$2),MONTH($B$2)+8,1),'연차 사용 기록'!$A$4:$A$1503,"<"&DATE(YEAR($B$2),MONTH($B$2)+9,1))) | X16: =IF(OR($A16="",$B$2=""),"",SUMIFS('연차 사용 기록'!$H$4:$H$1503,'연차 사용 기록'!$C$4:$C$1503,$A16,'연차 사용 기록'!$A$4:$A$1503,">="&DATE(YEAR($B$2),MONTH($B$2)+9,1),'연차 사용 기록'!$A$4:$A$1503,"<"&DATE(YEAR($B$2),MONTH($B$2)+10,1))) | Y16: =IF(OR($A16="",$B$2=""),"",SUMIFS('연차 사용 기록'!$H$4:$H$1503,'연차 사용 기록'!$C$4:$C$1503,$A16,'연차 사용 기록'!$A$4:$A$1503,">="&DATE(YEAR($B$2),MONTH($B$2)+10,1),'연차 사용 기록'!$A$4:$A$1503,"<"&DATE(YEAR($B$2),MONTH($B$2)+11,1))) | Z16: =IF(OR($A16="",$B$2=""),"",SUMIFS('연차 사용 기록'!$H$4:$H$1503,'연차 사용 기록'!$C$4:$C$1503,$A16,'연차 사용 기록'!$A$4:$A$1503,">="&DATE(YEAR($B$2),MONTH($B$2)+11,1),'연차 사용 기록'!$A$4:$A$1503,"<"&DATE(YEAR($B$2),MONTH($B$2)+12,1)))
... G204: =IF(A204="","",SUMIFS('연차 사용 기록'!$H$4:$H$1503,'연차 사용 기록'!$C$4:$C$1503,A204,'연차 사용 기록'!$A$4:$A$1503,">="&IF($B$2="",0,$B$2),'연차 사용 기록'!$A$4:$A$1503,"<="&IF($D$2="",2958465,$D$2))) | H204: =IF(A204="","",(N(E204)+N(F204))-N(G204)) | I204: =IF(OR(A204="",(N(E204)+N(F204))=0),"",G204/(N(E204)+N(F204))) | L204: =IF(OR(A204="",$D$2=""),"",IF(TODAY()>$D$2,H204,"")) | O204: =IF(OR($A204="",$B$2=""),"",SUMIFS('연차 사용 기록'!$H$4:$H$1503,'연차 사용 기록'!$C$4:$C$1503,$A204,'연차 사용 기록'!$A$4:$A$1503,">="&DATE(YEAR($B$2),MONTH($B$2)+0,1),'연차 사용 기록'!$A$4:$A$1503,"<"&DATE(YEAR($B$2),MONTH($B$2)+1,1))) | P204: =IF(OR($A204="",$B$2=""),"",SUMIFS('연차 사용 기록'!$H$4:$H$1503,'연차 사용 기록'!$C$4:$C$1503,$A204,'연차 사용 기록'!$A$4:$A$1503,">="&DATE(YEAR($B$2),MONTH($B$2)+1,1),'연차 사용 기록'!$A$4:$A$1503,"<"&DATE(YEAR($B$2),MONTH($B$2)+2,1))) | Q204: =IF(OR($A204="",$B$2=""),"",SUMIFS('연차 사용 기록'!$H$4:$H$1503,'연차 사용 기록'!$C$4:$C$1503,$A204,'연차 사용 기록'!$A$4:$A$1503,">="&DATE(YEAR($B$2),MONTH($B$2)+2,1),'연차 사용 기록'!$A$4:$A$1503,"<"&DATE(YEAR($B$2),MONTH($B$2)+3,1))) | R204: =IF(OR($A204="",$B$2=""),"",SUMIFS('연차 사용 기록'!$H$4:$H$1503,'연차 사용 기록'!$C$4:$C$1503,$A204,'연차 사용 기록'!$A$4:$A$1503,">="&DATE(YEAR($B$2),MONTH($B$2)+3,1),'연차 사용 기록'!$A$4:$A$1503,"<"&DATE(YEAR($B$2),MONTH($B$2)+4,1))) | S204: =IF(OR($A204="",$B$2=""),"",SUMIFS('연차 사용 기록'!$H$4:$H$1503,'연차 사용 기록'!$C$4:$C$1503,$A204,'연차 사용 기록'!$A$4:$A$1503,">="&DATE(YEAR($B$2),MONTH($B$2)+4,1),'연차 사용 기록'!$A$4:$A$1503,"<"&DATE(YEAR($B$2),MONTH($B$2)+5,1))) | T204: =IF(OR($A204="",$B$2=""),"",SUMIFS('연차 사용 기록'!$H$4:$H$1503,'연차 사용 기록'!$C$4:$C$1503,$A204,'연차 사용 기록'!$A$4:$A$1503,">="&DATE(YEAR($B$2),MONTH($B$2)+5,1),'연차 사용 기록'!$A$4:$A$1503,"<"&DATE(YEAR($B$2),MONTH($B$2)+6,1))) | U204: =IF(OR($A204="",$B$2=""),"",SUMIFS('연차 사용 기록'!$H$4:$H$1503,'연차 사용 기록'!$C$4:$C$1503,$A204,'연차 사용 기록'!$A$4:$A$1503,">="&DATE(YEAR($B$2),MONTH($B$2)+6,1),'연차 사용 기록'!$A$4:$A$1503,"<"&DATE(YEAR($B$2),MONTH($B$2)+7,1))) | V204: =IF(OR($A204="",$B$2=""),"",SUMIFS('연차 사용 기록'!$H$4:$H$1503,'연차 사용 기록'!$C$4:$C$1503,$A204,'연차 사용 기록'!$A$4:$A$1503,">="&DATE(YEAR($B$2),MONTH($B$2)+7,1),'연차 사용 기록'!$A$4:$A$1503,"<"&DATE(YEAR($B$2),MONTH($B$2)+8,1))) | W204: =IF(OR($A204="",$B$2=""),"",SUMIFS('연차 사용 기록'!$H$4:$H$1503,'연차 사용 기록'!$C$4:$C$1503,$A204,'연차 사용 기록'!$A$4:$A$1503,">="&DATE(YEAR($B$2),MONTH($B$2)+8,1),'연차 사용 기록'!$A$4:$A$1503,"<"&DATE(YEAR($B$2),MONTH($B$2)+9,1))) | X204: =IF(OR($A204="",$B$2=""),"",SUMIFS('연차 사용 기록'!$H$4:$H$1503,'연차 사용 기록'!$C$4:$C$1503,$A204,'연차 사용 기록'!$A$4:$A$1503,">="&DATE(YEAR($B$2),MONTH($B$2)+9,1),'연차 사용 기록'!$A$4:$A$1503,"<"&DATE(YEAR($B$2),MONTH($B$2)+10,1))) | Y204: =IF(OR($A204="",$B$2=""),"",SUMIFS('연차 사용 기록'!$H$4:$H$1503,'연차 사용 기록'!$C$4:$C$1503,$A204,'연차 사용 기록'!$A$4:$A$1503,">="&DATE(YEAR($B$2),MONTH($B$2)+10,1),'연차 사용 기록'!$A$4:$A$1503,"<"&DATE(YEAR($B$2),MONTH($B$2)+11,1))) | Z204: =IF(OR($A204="",$B$2=""),"",SUMIFS('연차 사용 기록'!$H$4:$H$1503,'연차 사용 기록'!$C$4:$C$1503,$A204,'연차 사용 기록'!$A$4:$A$1503,">="&DATE(YEAR($B$2),MONTH($B$2)+11,1),'연차 사용 기록'!$A$4:$A$1503,"<"&DATE(YEAR($B$2),MONTH($B$2)+12,1)))

Sheet 연차 사용 기록
A1: 연차 사용 기록 | G1: 신청서 한 장 = 한 줄. 일수는 1, 0.5처럼 숫자로. 달을 넘기는 휴가는 달마다 나눠 적습니다.
A2: 합계 | B2: =SUBTOTAL(103,F4:F1503)&"건" | G2: =SUBTOTAL(109,G4:G1503) | H2: =SUBTOTAL(109,H4:H1503)
A3: 사용 시작일 | B3: 사용 끝일 | C3: 사번 | D3: 성명(자동) | E3: 부서(자동) | F3: 휴가 종류 | G3: 일수 | H3: 연차 차감(자동) | I3: 신청일 | J3: 승인자 | K3: 신청 경로 | L3: 비고 | M3: 확인(자동)
D4: =IF(C4="","",IFERROR(INDEX('연차관리대장'!$B$5:$B$204,MATCH(C4,'연차관리대장'!$A$5:$A$204,0)),"")) | E4: =IF(C4="","",IFERROR(INDEX('연차관리대장'!$C$5:$C$204,MATCH(C4,'연차관리대장'!$A$5:$A$204,0)),"")) | H4: =IF(F4="","",IF(OR(F4="오전 반차",F4="오후 반차"),0.5,IF(F4="연차",N(G4),0))) | M4: =IF(AND(C4="",F4=""),"",IF(C4="","사번 미기재",IF(ISNA(MATCH(C4,'연차관리대장'!$A$5:$A$204,0)),"대장에 없는 사번",IF(A4="","사용일 미기재",IF(AND(F4="연차",G4=""),"일수 미기재",IF(AND(G4<>"",ISNUMBER(SEARCH("반차",F4)),N(G4)<>0.5),"반차는 0.5일",""))))))
D5: =IF(C5="","",IFERROR(INDEX('연차관리대장'!$B$5:$B$204,MATCH(C5,'연차관리대장'!$A$5:$A$204,0)),"")) | E5: =IF(C5="","",IFERROR(INDEX('연차관리대장'!$C$5:$C$204,MATCH(C5,'연차관리대장'!$A$5:$A$204,0)),"")) | H5: =IF(F5="","",IF(OR(F5="오전 반차",F5="오후 반차"),0.5,IF(F5="연차",N(G5),0))) | M5: =IF(AND(C5="",F5=""),"",IF(C5="","사번 미기재",IF(ISNA(MATCH(C5,'연차관리대장'!$A$5:$A$204,0)),"대장에 없는 사번",IF(A5="","사용일 미기재",IF(AND(F5="연차",G5=""),"일수 미기재",IF(AND(G5<>"",ISNUMBER(SEARCH("반차",F5)),N(G5)<>0.5),"반차는 0.5일",""))))))
D6: =IF(C6="","",IFERROR(INDEX('연차관리대장'!$B$5:$B$204,MATCH(C6,'연차관리대장'!$A$5:$A$204,0)),"")) | E6: =IF(C6="","",IFERROR(INDEX('연차관리대장'!$C$5:$C$204,MATCH(C6,'연차관리대장'!$A$5:$A$204,0)),"")) | H6: =IF(F6="","",IF(OR(F6="오전 반차",F6="오후 반차"),0.5,IF(F6="연차",N(G6),0))) | M6: =IF(AND(C6="",F6=""),"",IF(C6="","사번 미기재",IF(ISNA(MATCH(C6,'연차관리대장'!$A$5:$A$204,0)),"대장에 없는 사번",IF(A6="","사용일 미기재",IF(AND(F6="연차",G6=""),"일수 미기재",IF(AND(G6<>"",ISNUMBER(SEARCH("반차",F6)),N(G6)<>0.5),"반차는 0.5일",""))))))
D7: =IF(C7="","",IFERROR(INDEX('연차관리대장'!$B$5:$B$204,MATCH(C7,'연차관리대장'!$A$5:$A$204,0)),"")) | E7: =IF(C7="","",IFERROR(INDEX('연차관리대장'!$C$5:$C$204,MATCH(C7,'연차관리대장'!$A$5:$A$204,0)),"")) | H7: =IF(F7="","",IF(OR(F7="오전 반차",F7="오후 반차"),0.5,IF(F7="연차",N(G7),0))) | M7: =IF(AND(C7="",F7=""),"",IF(C7="","사번 미기재",IF(ISNA(MATCH(C7,'연차관리대장'!$A$5:$A$204,0)),"대장에 없는 사번",IF(A7="","사용일 미기재",IF(AND(F7="연차",G7=""),"일수 미기재",IF(AND(G7<>"",ISNUMBER(SEARCH("반차",F7)),N(G7)<>0.5),"반차는 0.5일",""))))))
D8: =IF(C8="","",IFERROR(INDEX('연차관리대장'!$B$5:$B$204,MATCH(C8,'연차관리대장'!$A$5:$A$204,0)),"")) | E8: =IF(C8="","",IFERROR(INDEX('연차관리대장'!$C$5:$C$204,MATCH(C8,'연차관리대장'!$A$5:$A$204,0)),"")) | H8: =IF(F8="","",IF(OR(F8="오전 반차",F8="오후 반차"),0.5,IF(F8="연차",N(G8),0))) | M8: =IF(AND(C8="",F8=""),"",IF(C8="","사번 미기재",IF(ISNA(MATCH(C8,'연차관리대장'!$A$5:$A$204,0)),"대장에 없는 사번",IF(A8="","사용일 미기재",IF(AND(F8="연차",G8=""),"일수 미기재",IF(AND(G8<>"",ISNUMBER(SEARCH("반차",F8)),N(G8)<>0.5),"반차는 0.5일",""))))))
D9: =IF(C9="","",IFERROR(INDEX('연차관리대장'!$B$5:$B$204,MATCH(C9,'연차관리대장'!$A$5:$A$204,0)),"")) | E9: =IF(C9="","",IFERROR(INDEX('연차관리대장'!$C$5:$C$204,MATCH(C9,'연차관리대장'!$A$5:$A$204,0)),"")) | H9: =IF(F9="","",IF(OR(F9="오전 반차",F9="오후 반차"),0.5,IF(F9="연차",N(G9),0))) | M9: =IF(AND(C9="",F9=""),"",IF(C9="","사번 미기재",IF(ISNA(MATCH(C9,'연차관리대장'!$A$5:$A$204,0)),"대장에 없는 사번",IF(A9="","사용일 미기재",IF(AND(F9="연차",G9=""),"일수 미기재",IF(AND(G9<>"",ISNUMBER(SEARCH("반차",F9)),N(G9)<>0.5),"반차는 0.5일",""))))))
D10: =IF(C10="","",IFERROR(INDEX('연차관리대장'!$B$5:$B$204,MATCH(C10,'연차관리대장'!$A$5:$A$204,0)),"")) | E10: =IF(C10="","",IFERROR(INDEX('연차관리대장'!$C$5:$C$204,MATCH(C10,'연차관리대장'!$A$5:$A$204,0)),"")) | H10: =IF(F10="","",IF(OR(F10="오전 반차",F10="오후 반차"),0.5,IF(F10="연차",N(G10),0))) | M10: =IF(AND(C10="",F10=""),"",IF(C10="","사번 미기재",IF(ISNA(MATCH(C10,'연차관리대장'!$A$5:$A$204,0)),"대장에 없는 사번",IF(A10="","사용일 미기재",IF(AND(F10="연차",G10=""),"일수 미기재",IF(AND(G10<>"",ISNUMBER(SEARCH("반차",F10)),N(G10)<>0.5),"반차는 0.5일",""))))))
D11: =IF(C11="","",IFERROR(INDEX('연차관리대장'!$B$5:$B$204,MATCH(C11,'연차관리대장'!$A$5:$A$204,0)),"")) | E11: =IF(C11="","",IFERROR(INDEX('연차관리대장'!$C$5:$C$204,MATCH(C11,'연차관리대장'!$A$5:$A$204,0)),"")) | H11: =IF(F11="","",IF(OR(F11="오전 반차",F11="오후 반차"),0.5,IF(F11="연차",N(G11),0))) | M11: =IF(AND(C11="",F11=""),"",IF(C11="","사번 미기재",IF(ISNA(MATCH(C11,'연차관리대장'!$A$5:$A$204,0)),"대장에 없는 사번",IF(A11="","사용일 미기재",IF(AND(F11="연차",G11=""),"일수 미기재",IF(AND(G11<>"",ISNUMBER(SEARCH("반차",F11)),N(G11)<>0.5),"반차는 0.5일",""))))))
D12: =IF(C12="","",IFERROR(INDEX('연차관리대장'!$B$5:$B$204,MATCH(C12,'연차관리대장'!$A$5:$A$204,0)),"")) | E12: =IF(C12="","",IFERROR(INDEX('연차관리대장'!$C$5:$C$204,MATCH(C12,'연차관리대장'!$A$5:$A$204,0)),"")) | H12: =IF(F12="","",IF(OR(F12="오전 반차",F12="오후 반차"),0.5,IF(F12="연차",N(G12),0))) | M12: =IF(AND(C12="",F12=""),"",IF(C12="","사번 미기재",IF(ISNA(MATCH(C12,'연차관리대장'!$A$5:$A$204,0)),"대장에 없는 사번",IF(A12="","사용일 미기재",IF(AND(F12="연차",G12=""),"일수 미기재",IF(AND(G12<>"",ISNUMBER(SEARCH("반차",F12)),N(G12)<>0.5),"반차는 0.5일",""))))))
D13: =IF(C13="","",IFERROR(INDEX('연차관리대장'!$B$5:$B$204,MATCH(C13,'연차관리대장'!$A$5:$A$204,0)),"")) | E13: =IF(C13="","",IFERROR(INDEX('연차관리대장'!$C$5:$C$204,MATCH(C13,'연차관리대장'!$A$5:$A$204,0)),"")) | H13: =IF(F13="","",IF(OR(F13="오전 반차",F13="오후 반차"),0.5,IF(F13="연차",N(G13),0))) | M13: =IF(AND(C13="",F13=""),"",IF(C13="","사번 미기재",IF(ISNA(MATCH(C13,'연차관리대장'!$A$5:$A$204,0)),"대장에 없는 사번",IF(A13="","사용일 미기재",IF(AND(F13="연차",G13=""),"일수 미기재",IF(AND(G13<>"",ISNUMBER(SEARCH("반차",F13)),N(G13)<>0.5),"반차는 0.5일",""))))))
D14: =IF(C14="","",IFERROR(INDEX('연차관리대장'!$B$5:$B$204,MATCH(C14,'연차관리대장'!$A$5:$A$204,0)),"")) | E14: =IF(C14="","",IFERROR(INDEX('연차관리대장'!$C$5:$C$204,MATCH(C14,'연차관리대장'!$A$5:$A$204,0)),"")) | H14: =IF(F14="","",IF(OR(F14="오전 반차",F14="오후 반차"),0.5,IF(F14="연차",N(G14),0))) | M14: =IF(AND(C14="",F14=""),"",IF(C14="","사번 미기재",IF(ISNA(MATCH(C14,'연차관리대장'!$A$5:$A$204,0)),"대장에 없는 사번",IF(A14="","사용일 미기재",IF(AND(F14="연차",G14=""),"일수 미기재",IF(AND(G14<>"",ISNUMBER(SEARCH("반차",F14)),N(G14)<>0.5),"반차는 0.5일",""))))))
D15: =IF(C15="","",IFERROR(INDEX('연차관리대장'!$B$5:$B$204,MATCH(C15,'연차관리대장'!$A$5:$A$204,0)),"")) | E15: =IF(C15="","",IFERROR(INDEX('연차관리대장'!$C$5:$C$204,MATCH(C15,'연차관리대장'!$A$5:$A$204,0)),"")) | H15: =IF(F15="","",IF(OR(F15="오전 반차",F15="오후 반차"),0.5,IF(F15="연차",N(G15),0))) | M15: =IF(AND(C15="",F15=""),"",IF(C15="","사번 미기재",IF(ISNA(MATCH(C15,'연차관리대장'!$A$5:$A$204,0)),"대장에 없는 사번",IF(A15="","사용일 미기재",IF(AND(F15="연차",G15=""),"일수 미기재",IF(AND(G15<>"",ISNUMBER(SEARCH("반차",F15)),N(G15)<>0.5),"반차는 0.5일",""))))))
... D1503: =IF(C1503="","",IFERROR(INDEX('연차관리대장'!$B$5:$B$204,MATCH(C1503,'연차관리대장'!$A$5:$A$204,0)),"")) | E1503: =IF(C1503="","",IFERROR(INDEX('연차관리대장'!$C$5:$C$204,MATCH(C1503,'연차관리대장'!$A$5:$A$204,0)),"")) | H1503: =IF(F1503="","",IF(OR(F1503="오전 반차",F1503="오후 반차"),0.5,IF(F1503="연차",N(G1503),0))) | M1503: =IF(AND(C1503="",F1503=""),"",IF(C1503="","사번 미기재",IF(ISNA(MATCH(C1503,'연차관리대장'!$A$5:$A$204,0)),"대장에 없는 사번",IF(A1503="","사용일 미기재",IF(AND(F1503="연차",G1503=""),"일수 미기재",IF(AND(G1503<>"",ISNUMBER(SEARCH("반차",F1503)),N(G1503)<>0.5),"반차는 0.5일",""))))))

Sheet 사용법
B2: 연차관리대장 엑셀 양식 사용법
B4: 1. '연차관리대장' 위쪽에 대상 기간(B2·D2)을 적습니다. 회계연도(1~12월) 기준이면 2026-01-01 ~ 2026-12-31입니다.
B5: 2. 직원마다 한 줄: 사번·성명·부서·입사일과 발생 연차를 적습니다. 발생 연차는 회사 기준(입사일·회계연도)대로 직접 적고, 넘어온 일수가 있으면 '조정·이월'에 적습니다.
B6: 3. 휴가신청서를 받을 때마다 '연차 사용 기록'에 한 줄씩 적습니다. 사번을 적으면 성명·부서가 자동으로 채워집니다.
B7: 4. 휴가 종류는 목록에서 고릅니다. 오전·오후 반차는 자동으로 0.5일이 차감되고, '그 밖의 휴가'(경조휴가 등)는 연차에서 빼지 않습니다.
B8: 5. 대장의 사용 합계·잔여·사용률과 월별 사용 일수가 자동으로 바뀝니다. 잔여가 음수면 빨간색으로 표시됩니다.
B9: 6. 사용촉진 통보서를 냈다면 1차 통보일과 2차 지정 통보일을 적고, 통보서 사본은 따로 보관합니다.
B10: 7. 대상 기간이 끝나면 잔여 일수가 '미사용 일수'로 표시됩니다. 수당 지급 여부는 노무사 확인 뒤 고릅니다.
B12: 연차휴가는 1년간 행사하지 않으면 소멸합니다(근로기준법 제60조⑦). 사용촉진 요건 충족 여부와 연차수당 계산은 이 양식이 판단하지 않으니 노무사와 확인하세요.
B13: 휴가에 관한 서류는 3년간 보존합니다(근로기준법 제42조, 시행령 제22조①6). 시트에 옮겼어도 신청서 원본은 보관하세요.
B14: 사번은 대장과 기록에서 같은 형식(숫자 또는 글자)으로 적어야 연결됩니다. '대장에 없는 사번'이 뜨면 형식을 확인하세요.
B16: 종이·메일 휴가신청서를 매번 옮겨 적고 있다면
... B22: 종이 원본은 법정 기간 동안 그대로 보관하세요. 이 파일은 찾기·집계·대조용입니다.
